Workbook

Sheet Letter of Financial Support
G1: Shibaura Institute of Technology Undergraduate Entrance Examination (For the Fall 2027 Examination)
F2: Examination No. | G2: (For University Use Only)
A3: Financial Support Plan for Study in Japan (Letter of Financial Support)
A4: To the President of Shibaura Institute of Technology
A5: College | B5: College of Engineering | D5: Applicant's Name (as shown on your passport)
A7: Program | B7: Innovative Global Program | D7: Date of Birth | E7: Year Month Day
A8: Nationality
A10: Estimated Expenses Required through Completion (as of September 2026)
C11: Undergraduate Program — Amount (JPY)
A12: Admission Fee | C12: 280000
A13: First-Year Tuition and Fees | C13: 1515020
A14: Second-Year Tuition and Fees | C14: 1505020
A15: Third-Year Tuition and Fees | C15: 1605020
A16: Fourth-Year Tuition and Fees | C16: 1645020
A17: Living Expenses (JPY 130,000/month) *130,000×12month×4year *Typcal amount of living expenses in Tokyo | C17: 6240000
A18: Total Expenses until graduation | C18: 12790080
A19: Please read the following and check the box.
A20: □ I pledge to cover the total expenses for my study at Shibaura Institute of Technology as detailed below.
A22: * Enter the total amount for the full enrollment period (4 years).
A23: How to enter: Enter the amount in foreign currency and select the currency; the JPY equivalent will be calculated automatically.
A24: If the currency is not available in the drop-down list, select JPY or USD and ensure that the balance certificate uses the same currency (JPY or USD).
A25: Financial Supporter (check all that apply) | B25: Details of Financial Support | D25: Amount (Foreign Currency) | E25: Currency | F25: JPY Conversion Rate per Currency Unit | G25: JPY Equivalent (Automatically Calculated)
A26: ☐ Supported by the Applicant | B26: ① Personal Savings | E26: EUR | F26: =_xlfn.XLOOKUP(E26,レート表!$A$2:$A$18,レート表!$C$2:$C$18,"") -> 185.66 | G26: =IF(OR(D26="",F26=""),"",ROUND(D26*F26,0))
B27: ② Other (Details: ) | E27: USD | F27: =_xlfn.XLOOKUP(E27,レート表!$A$2:$A$18,レート表!$C$2:$C$18,"") -> 159.8 | G27: =IF(OR(D27="",F27=""),"",ROUND(D27*F27,0))
A28: ☐ Supported by Person(s) Other than the Applicant | B28: ③-1 Parent or Relative, etc. (Relationship: ) | E28: EUR | F28: =_xlfn.XLOOKUP(E28,レート表!$A$2:$A$18,レート表!$C$2:$C$18,"") -> 185.66 | G28: =IF(OR(D28="",F28=""),"",ROUND(D28*F28,0))
B29: ③-2 Parent or Relative, etc. (Relationship: ) | E29: EUR | F29: =_xlfn.XLOOKUP(E29,レート表!$A$2:$A$18,レート表!$C$2:$C$18,"") -> 185.66
B30: ③-3 Parent or Relative, etc. (Relationship: ) | E30: EUR | F30: =_xlfn.XLOOKUP(E30,レート表!$A$2:$A$18,レート表!$C$2:$C$18,"") -> 185.66
B31: ④ Government or Other Foundation * Attach the original scholarship award certificate (scanned copy) to this document when submitting. | C31: Japanese Government (MEXT) Scholarship | E31: JPY | F31: =_xlfn.XLOOKUP(E31,レート表!$A$2:$A$18,レート表!$C$2:$C$18,"") -> 1 | G31: =IF(OR(D31="",F31=""),"",ROUND(D31*F31,0))
C32: JICA Program | E32: JPY | F32: =_xlfn.XLOOKUP(E32,レート表!$A$2:$A$18,レート表!$C$2:$C$18,"") -> 1 | G32: =IF(OR(D32="",F32=""),"",ROUND(D32*F32,0))
C33: Shibaura Institute of Technology Scholarship | E33: JPY | F33: =_xlfn.XLOOKUP(E33,レート表!$A$2:$A$18,レート表!$C$2:$C$18,"") -> 1
C34: Other Foundation (Name: ) | E34: JPY | F34: =_xlfn.XLOOKUP(E34,レート表!$A$2:$A$18,レート表!$C$2:$C$18,"") -> 1 | G34: =IF(OR(D34="",F34=""),"",ROUND(D34*F34,0))
A35: Total (①–④) | G35: =SUM(G26:G34) -> 0
A38: If category ③ above applies, obtain and submit the financial supporter’s handwritten signature and seal. If there are multiple financial supporters, obtain a handwritten signature and seal from each person.
A39: * The financial supporter must sign this form personally.
A40: Financial Supporter 1
A41: I, (Full Name) ,hereby pledge to financially support the above applicant during their stay in Japan as specified below.
A42: When applying for an extension of the period of stay for the status of residence, I will submit documents proving the provision of living expenses and other support, such as remittance receipts or a copy of a bankbook in the applicant’s name.
A43: Details
A44: Item | B44: Check Boxes * For (1) and (3), check all that apply | D44: Amount (Foreign Currency) | E44: Currency | F44: JPY Conversion Rate per Currency Unit | G44: JPY Equivalent
A45: (1) Tuition | B45: ☐ Monthly ☐ Semiannually ☐ Annually | E45: JPY | F45: =_xlfn.XLOOKUP(E45,レート表!$A$2:$A$18,レート表!$C$2:$C$18,"") -> 1 | G45: =IF(OR(D45="",F45=""),"",ROUND(D45*F45,0))
A46: (2) Living Expenses | B46: Monthly Amount | E46: JPY | F46: =_xlfn.XLOOKUP(E46,レート表!$A$2:$A$18,レート表!$C$2:$C$18,"") -> 1 | G46: =IF(OR(D46="",F46=""),"",ROUND(D46*F46,0))
A47: (3) Method of Support | B47: ☐ Overseas Remittance ☐ Bank Transfer ☐ Cash | D47: -
A49: Financial Supporter Information
A50: Address | D50: Contact Details
A51: Name (Handwritten Signature) | B51: [Relationship to Applicant (same as ③-1 above): ]
A54: Financial Supporter 2
A55: I, , hereby pledge to financially support the above applicant during their stay in Japan as specified below.
A56: When applying for an extension of the period of stay, I will submit documents proving the provision of living expenses and other support, such as remittance receipts or a copy of a bankbook in the applicant’s name.
A57: Details
A58: Item | B58: Check Boxes * For (1) and (3), check all that apply | D58: Amount (Foreign Currency) | E58: Currency | F58: Exchange Rate (JPY/Currency) | G58: JPY Equivalent
A59: (1) Tuition | B59: ☐ Monthly ☐ Semiannually ☐ Annually | E59: JPY | F59: =_xlfn.XLOOKUP(E59,レート表!$A$2:$A$18,レート表!$C$2:$C$18,"") -> 1 | G59: =IF(OR(D59="",F59=""),"",ROUND(D59*F59,0))
A60: (2) Living Expenses | B60: Monthly Amount | E60: JPY | F60: =_xlfn.XLOOKUP(E60,レート表!$A$2:$A$18,レート表!$C$2:$C$18,"") -> 1 | G60: =IF(OR(D60="",F60=""),"",ROUND(D60*F60,0))
A61: (3) Method of Support | B61: ☐ Overseas Remittance ☐ Bank Transfer ☐ Cash | D61: -
A63: Financial Supporter Information
A64: Address | D64: Contact Details
A65: Name (Handwritten Signature) | B65: [Relationship to Applicant (same as ③-2 above): ]
A68: Financial Supporter 3
A69: I, , hereby pledge to financially support the above applicant during their stay in Japan as specified below.
A70: When applying for an extension of the period of stay, I will submit documents proving the provision of living expenses and other support, such as remittance receipts or a copy of a bankbook in the applicant’s name.
A71: Details
A72: Item | B72: Check Boxes * For (1) and (3), check all that apply | D72: Amount (Foreign Currency) | E72: Currency | F72: Exchange Rate (JPY/Currency) | G72: JPY Equivalent
A73: (1) Tuition | B73: ☐ Monthly ☐ Semiannually ☐ Annually | E73: JPY | F73: =_xlfn.XLOOKUP(E73,レート表!$A$2:$A$18,レート表!$C$2:$C$18,"") -> 1 | G73: =IF(OR(D73="",F73=""),"",ROUND(D73*F73,0))
A74: (2) Living Expenses | B74: Monthly Amount | E74: JPY | F74: =_xlfn.XLOOKUP(E74,レート表!$A$2:$A$18,レート表!$C$2:$C$18,"") -> 1 | G74: =IF(OR(D74="",F74=""),"",ROUND(D74*F74,0))
A75: (3) Method of Support | B75: ☐ Overseas Remittance ☐ Bank Transfer ☐ Cash | D75: -
A77: Financial Supporter Information
A78: Address | D78: Contact Details
A79: Name (Handwritten Signature) | B79: [Relationship to Applicant (same as ③-3 above): ]

Sheet レート表
A1: 通貨コード | B1: 通貨名 | C1: 円換算 | D1: 260901時点
A2: JPY | B2: 日本円 | C2: 1
A3: USD | B3: 米ドル | C3: 159.8
A4: EUR | B4: ユーロ | C4: 185.66
A5: CNY | B5: 中国人民元 | C5: 23.79
A6: KRW | B6: 韓国ウォン | C6: 0.1168
A7: GBP | B7: 英ポンド | C7: 216.56
A8: AUD | B8: 豪ドル | C8: 114.59
A9: CAD | B9: カナダドル | C9: 115.34
A10: SGD | B10: シンガポールドル | C10: 125.67
A11: THB | B11: タイバーツ | C11: 4.82
A12: VND | B12: ベトナムドン | C12: 0.0061438
A13: INR | B13: インドルピー | C13: 1.69
... A18: CHF | B18: スイスフラン | C18: 197.58
