Workbook

Sheet 集計
D1: 宮 崎 県 コード ４５
N3: 46296 | P3: 大分折込株式会社
A5: 市・郡・区 | B5: コード № | D5: 読 売 | F5: 朝 日 | H5: 毎 日 | J5: 日 経 | L5: 宮 日 | P5: 枚数計 | Q5: 配布計 | R5: ページ | S5: 26.01 世帯数
D6: 枚数 | E6: 配布 | F6: 枚数 | G6: 配布 | H6: 枚数 | I6: 配布 | J6: 枚数 | K6: 配布 | L6: 枚数 | M6: 配布
A7: 串間市 | B7: ０１ | C7: 枚 数 | D7: =串間市・日南市!$D$25 -> 0 | E7: =串間市・日南市!$E$25 -> 0 | F7: =串間市・日南市!$G$25 -> 0 | G7: =串間市・日南市!$H$25 -> 0 | H7: =串間市・日南市!$J$25 -> 0 | I7: =串間市・日南市!$K$25 -> 0 | J7: =串間市・日南市!$M$25 -> 0 | K7: =串間市・日南市!$N$25 -> 0 | L7: =串間市・日南市!$P$25 -> 3293 | M7: =串間市・日南市!$Q$25 -> 0 | P7: =SUM(D7,F7,H7,J7,L7) -> 3293 | Q7: =SUM(E7,G7,I7,K7,M7) -> 0 | R7: 1 | S7: 8404
A8: 日南市 | B8: ０３ | C8: 枚 数 | D8: =串間市・日南市!$D$44 -> 0 | E8: =串間市・日南市!$E$44 -> 0 | F8: =串間市・日南市!$G$44 -> 0 | G8: =串間市・日南市!$H$44 -> 0 | H8: =串間市・日南市!$J$44 -> 0 | I8: =串間市・日南市!$K$44 -> 0 | J8: =串間市・日南市!$M$44 -> 0 | K8: =串間市・日南市!$N$44 -> 0 | L8: =串間市・日南市!$P$44 -> 10526 | M8: =串間市・日南市!$Q$44 -> 0 | P8: =SUM(D8,F8,H8,J8,L8) -> 10526 | Q8: =SUM(E8,G8,I8,K8,M8) -> 0 | R8: 1 | S8: 25516
A9: 都城市 | B9: ０４ | C9: 枚 数 | D9: =都城市・北諸県郡!$D$33 -> 3620 | E9: =都城市・北諸県郡!$E$33 -> 0 | F9: =都城市・北諸県郡!$G$33 -> 0 | G9: =都城市・北諸県郡!$H$33 -> 0 | H9: =都城市・北諸県郡!$J$33 -> 2358 | I9: =都城市・北諸県郡!$K$33 -> 0 | J9: =都城市・北諸県郡!$M$33 -> 0 | K9: =都城市・北諸県郡!$N$33 -> 0 | L9: =都城市・北諸県郡!$P$33 -> 18497 | M9: =都城市・北諸県郡!$Q$33 -> 0 | P9: =SUM(D9,F9,H9,J9,L9) -> 24475 | Q9: =SUM(E9,G9,I9,K9,M9) -> 0 | R9: 2 | S9: 82806
A10: 北諸県郡 | B10: ０５ | C10: 枚 数 | D10: =都城市・北諸県郡!$D$42 -> 570 | E10: =都城市・北諸県郡!$E$42 -> 0 | F10: =都城市・北諸県郡!$G$42 -> 0 | G10: =都城市・北諸県郡!$H$42 -> 0 | H10: =都城市・北諸県郡!$J$42 -> 0 | I10: =都城市・北諸県郡!$K$42 -> 0 | J10: =都城市・北諸県郡!$M$42 -> 0 | K10: =都城市・北諸県郡!$N$42 -> 0 | L10: =都城市・北諸県郡!$P$42 -> 2797 | M10: =都城市・北諸県郡!$Q$42 -> 0 | P10: =SUM(D10,F10,H10,J10,L10) -> 3367 | Q10: =SUM(E10,G10,I10,K10,M10) -> 0 | R10: 2 | S10: 11683
A11: 宮崎郡 | B11: ０６ | C11: 枚 数 | P11: =SUM(D11,F11,H11,J11,L11) -> 0 | Q11: =SUM(E11,G11,I11,K11,M11) -> 0 | R11: 2
A12: 宮崎市 | B12: ０７ | C12: 枚 数 | D12: =宮崎市・東諸県郡!$D$55 -> 5595 | E12: =宮崎市・東諸県郡!$E$55 -> 0 | F12: =宮崎市・東諸県郡!$G$55 -> 0 | G12: =宮崎市・東諸県郡!$H$55 -> 0 | H12: =宮崎市・東諸県郡!$J$55 -> 1598 | I12: =宮崎市・東諸県郡!$K$55 -> 0 | J12: =宮崎市・東諸県郡!$M$55 -> 0 | K12: =宮崎市・東諸県郡!$N$55 -> 0 | L12: =宮崎市・東諸県郡!$P$55 -> 66046 | M12: =宮崎市・東諸県郡!$Q$55 -> 0 | P12: =SUM(D12,F12,H12,J12,L12) -> 73239 | Q12: =SUM(E12,G12,I12,K12,M12) -> 0 | R12: 3 | S12: 203435
A13: 東諸県郡 | B13: ０８ | C13: 枚 数 | D13: =宮崎市・東諸県郡!$D$60 -> 0 | E13: =宮崎市・東諸県郡!$E$60 -> 0 | F13: =宮崎市・東諸県郡!$G$60 -> 0 | G13: =宮崎市・東諸県郡!$H$60 -> 0 | H13: =宮崎市・東諸県郡!$J$60 -> 0 | I13: =宮崎市・東諸県郡!$K$60 -> 0 | J13: =宮崎市・東諸県郡!$M$60 -> 0 | K13: =宮崎市・東諸県郡!$N$60 -> 0 | L13: =宮崎市・東諸県郡!$P$60 -> 4590 | M13: =宮崎市・東諸県郡!$Q$60 -> 0 | P13: =SUM(D13,F13,H13,J13,L13) -> 4590 | Q13: =SUM(E13,G13,I13,K13,M13) -> 0 | R13: 3 | S13: 12264
A14: 西諸県郡 | B14: ０９ | C14: 枚 数 | D14: =西諸県郡・小林市・えびの市・児湯郡・西都市!$D$17 -> 60 | E14: =西諸県郡・小林市・えびの市・児湯郡・西都市!$E$17 -> 0 | F14: =西諸県郡・小林市・えびの市・児湯郡・西都市!$G$17 -> 0 | G14: =西諸県郡・小林市・えびの市・児湯郡・西都市!$H$17 -> 0 | H14: =西諸県郡・小林市・えびの市・児湯郡・西都市!$J$17 -> 0 | I14: =西諸県郡・小林市・えびの市・児湯郡・西都市!$K$17 -> 0 | J14: =西諸県郡・小林市・えびの市・児湯郡・西都市!$M$17 -> 0 | K14: =西諸県郡・小林市・えびの市・児湯郡・西都市!$N$17 -> 0 | L14: =西諸県郡・小林市・えびの市・児湯郡・西都市!$P$17 -> 1327 | M14: =西諸県郡・小林市・えびの市・児湯郡・西都市!$Q$17 -> 0 | P14: =SUM(D14,F14,H14,J14,L14) -> 1387 | Q14: =SUM(E14,G14,I14,K14,M14) -> 0 | R14: 4 | S14: 4263
A15: 小林市 | B15: １０ | C15: 枚 数 | D15: =西諸県郡・小林市・えびの市・児湯郡・西都市!$D$26 -> 640 | E15: =西諸県郡・小林市・えびの市・児湯郡・西都市!$E$26 -> 0 | F15: =西諸県郡・小林市・えびの市・児湯郡・西都市!$G$26 -> 0 | G15: =西諸県郡・小林市・えびの市・児湯郡・西都市!$H$26 -> 0 | H15: =西諸県郡・小林市・えびの市・児湯郡・西都市!$J$26 -> 0 | I15: =西諸県郡・小林市・えびの市・児湯郡・西都市!$K$26 -> 0 | J15: =西諸県郡・小林市・えびの市・児湯郡・西都市!$M$26 -> 0 | K15: =西諸県郡・小林市・えびの市・児湯郡・西都市!$N$26 -> 0 | L15: =西諸県郡・小林市・えびの市・児湯郡・西都市!$P$26 -> 6128 | M15: =西諸県郡・小林市・えびの市・児湯郡・西都市!$Q$26 -> 0 | P15: =SUM(D15,F15,H15,J15,L15) -> 6768 | Q15: =SUM(E15,G15,I15,K15,M15) -> 0 | R15: 4 | S15: 21831
A16: えびの市 | B16: １１ | C16: 枚 数 | D16: =西諸県郡・小林市・えびの市・児湯郡・西都市!$D$33 -> 120 | E16: =西諸県郡・小林市・えびの市・児湯郡・西都市!$E$33 -> 0 | F16: =西諸県郡・小林市・えびの市・児湯郡・西都市!$G$33 -> 0 | G16: =西諸県郡・小林市・えびの市・児湯郡・西都市!$H$33 -> 0 | H16: =西諸県郡・小林市・えびの市・児湯郡・西都市!$J$33 -> 52 | I16: =西諸県郡・小林市・えびの市・児湯郡・西都市!$K$33 -> 0 | J16: =西諸県郡・小林市・えびの市・児湯郡・西都市!$M$33 -> 0 | K16: =西諸県郡・小林市・えびの市・児湯郡・西都市!$N$33 -> 0 | L16: =西諸県郡・小林市・えびの市・児湯郡・西都市!$P$33 -> 3113 | M16: =西諸県郡・小林市・えびの市・児湯郡・西都市!$Q$33 -> 0 | P16: =SUM(D16,F16,H16,J16,L16) -> 3285 | Q16: =SUM(E16,G16,I16,K16,M16) -> 0 | R16: 4 | S16: 9090
A17: 児湯郡 | B17: １２ | C17: 枚 数 | D17: =西諸県郡・小林市・えびの市・児湯郡・西都市!$D$47 -> 260 | E17: =西諸県郡・小林市・えびの市・児湯郡・西都市!$E$47 -> 0 | F17: =西諸県郡・小林市・えびの市・児湯郡・西都市!$G$47 -> 0 | G17: =西諸県郡・小林市・えびの市・児湯郡・西都市!$H$47 -> 0 | H17: =西諸県郡・小林市・えびの市・児湯郡・西都市!$J$47 -> 0 | I17: =西諸県郡・小林市・えびの市・児湯郡・西都市!$K$47 -> 0 | J17: =西諸県郡・小林市・えびの市・児湯郡・西都市!$M$47 -> 0 | K17: =西諸県郡・小林市・えびの市・児湯郡・西都市!$N$47 -> 0 | L17: =西諸県郡・小林市・えびの市・児湯郡・西都市!$P$47 -> 13018 | M17: =西諸県郡・小林市・えびの市・児湯郡・西都市!$Q$47 -> 0 | P17: =SUM(D17,F17,H17,J17,L17) -> 13278 | Q17: =SUM(E17,G17,I17,K17,M17) -> 0 | R17: 4 | S17: 32111
A18: 西都市 | B18: １３ | C18: 枚 数 | D18: =西諸県郡・小林市・えびの市・児湯郡・西都市!$D$58 -> 0 | E18: =西諸県郡・小林市・えびの市・児湯郡・西都市!$E$58 -> 0 | F18: =西諸県郡・小林市・えびの市・児湯郡・西都市!$G$58 -> 0 | G18: =西諸県郡・小林市・えびの市・児湯郡・西都市!$H$58 -> 0 | H18: =西諸県郡・小林市・えびの市・児湯郡・西都市!$J$58 -> 0 | I18: =西諸県郡・小林市・えびの市・児湯郡・西都市!$K$58 -> 0 | J18: =西諸県郡・小林市・えびの市・児湯郡・西都市!$M$58 -> 0 | K18: =西諸県郡・小林市・えびの市・児湯郡・西都市!$N$58 -> 0 | L18: =西諸県郡・小林市・えびの市・児湯郡・西都市!$P$58 -> 6918 | M18: =西諸県郡・小林市・えびの市・児湯郡・西都市!$Q$58 -> 0 | P18: =SUM(D18,F18,H18,J18,L18) -> 6918 | Q18: =SUM(E18,G18,I18,K18,M18) -> 0 | R18: 4 | S18: 13997
A19: 東臼杵郡 | B19: １４ | C19: 枚 数 | D19: =東臼杵郡・日向市・延岡市!$D$28 -> 0 | E19: =東臼杵郡・日向市・延岡市!$E$28 -> 0 | F19: =東臼杵郡・日向市・延岡市!$G$28 -> 0 | G19: =東臼杵郡・日向市・延岡市!$H$28 -> 0 | H19: =東臼杵郡・日向市・延岡市!$J$28 -> 0 | I19: =東臼杵郡・日向市・延岡市!$K$28 -> 0 | J19: =東臼杵郡・日向市・延岡市!$M$28 -> 0 | K19: =東臼杵郡・日向市・延岡市!$N$28 -> 0 | L19: =東臼杵郡・日向市・延岡市!$P$28 -> 2771 | M19: =東臼杵郡・日向市・延岡市!$Q$28 -> 0 | P19: =SUM(D19,F19,H19,J19,L19) -> 2771 | Q19: =SUM(E19,G19,I19,K19,M19) -> 0 | R19: 5 | S19: 12258
A20: 日向市 | B20: １５ | C20: 枚 数 | D20: =東臼杵郡・日向市・延岡市!$D$43 -> 800 | E20: =東臼杵郡・日向市・延岡市!$E$43 -> 0 | F20: =東臼杵郡・日向市・延岡市!$G$43 -> 0 | G20: =東臼杵郡・日向市・延岡市!$H$43 -> 0 | H20: =東臼杵郡・日向市・延岡市!$J$43 -> 1363 | I20: =東臼杵郡・日向市・延岡市!$K$43 -> 0 | J20: =東臼杵郡・日向市・延岡市!$M$43 -> 0 | K20: =東臼杵郡・日向市・延岡市!$N$43 -> 0 | L20: =東臼杵郡・日向市・延岡市!$P$43 -> 6195 | M20: =東臼杵郡・日向市・延岡市!$Q$43 -> 0 | P20: =SUM(D20,F20,H20,J20,L20) -> 8358 | Q20: =SUM(E20,G20,I20,K20,M20) -> 0 | R20: 5 | S20: 29122
A21: 延岡市 | B21: １６ | C21: 枚 数 | D21: =東臼杵郡・日向市・延岡市!$D$57 -> 2450 | E21: =東臼杵郡・日向市・延岡市!$E$57 -> 0 | F21: =東臼杵郡・日向市・延岡市!$G$57 -> 2030 | G21: =東臼杵郡・日向市・延岡市!$H$57 -> 0 | H21: =東臼杵郡・日向市・延岡市!$J$57 -> 5107 | I21: =東臼杵郡・日向市・延岡市!$K$57 -> 0 | J21: =東臼杵郡・日向市・延岡市!$M$57 -> 0 | K21: =東臼杵郡・日向市・延岡市!$N$57 -> 0 | L21: =東臼杵郡・日向市・延岡市!$P$57 -> 5135 | M21: =東臼杵郡・日向市・延岡市!$Q$57 -> 0 | P21: =SUM(D21,F21,H21,J21,L21) -> 14722 | Q21: =SUM(E21,G21,I21,K21,M21) -> 0 | R21: 5 | S21: 58944
A22: 西臼杵郡 | B22: １７ | C22: 枚 数 | D22: =西臼杵郡!$D$25 -> 200 | E22: =西臼杵郡!$E$25 -> 0 | F22: =西臼杵郡!$G$25 -> 0 | G22: =西臼杵郡!$H$25 -> 0 | H22: =西臼杵郡!$J$25 -> 0 | I22: =西臼杵郡!$K$25 -> 0 | J22: =西臼杵郡!$M$25 -> 0 | K22: =西臼杵郡!$N$25 -> 0 | L22: =西臼杵郡!$P$25 -> 3036 | M22: =西臼杵郡!$Q$25 -> 0 | P22: =SUM(D22,F22,H22,J22,L22) -> 3236 | Q22: =SUM(E22,G22,I22,K22,M22) -> 0 | R22: 6 | S22: 7844
A23: 合 計 | C23: 枚 数 | D23: =SUM(D7:D22) -> 14315 | E23: =SUM(E7:E22) -> 0 | F23: =SUM(F7:F22) -> 2030 | G23: =SUM(G7:G22) -> 0 | H23: =SUM(H7:H22) -> 10478 | I23: =SUM(I7:I22) -> 0 | J23: =SUM(J7:J22) -> 0 | K23: =SUM(K7:K22) -> 0 | ... M23: =SUM(M7:M22) -> 0 | P23: =SUM(P7:P22) -> 180213 | Q23: =SUM(Q7:Q22) -> 0 | S23: =SUM(S7:S22) -> 533568
D24: 福 岡 県 コード ０８
N26: 36130 | P26: 株式会社読売西部 I S
A28: 市・郡・区 | B28: コード № | D28: 読 売 | F28: 朝 日 | H28: 毎 日 | J28: 西 日 本 | L28: 日 経 | P28: 計 | Q28: 世帯数 | R28: ページ
D29: コード | E29: ０１ | F29: コード | G29: ０２ | H29: コード | I29: ０３ | J29: コード | K29: ０４ | L29: コード | M29: ０５ | N29: コード | O29: ００

Sheet 串間市・日南市
B1: 宮崎営業所 | F1: 宮 崎 県 コード ４5
M2: 46296 | O2: 大分折込株式会社
A4: スポンサー名 | F4: 請求先 | H4: 折 込 日 | K4: サイズ | L4: 枚 数 | O4: センター名 | Q4: No.
H5: 年 月 日 曜 | L5: =西臼杵郡!$L$5:$M$7 -> 0
N6: 枚
B9: 銘 柄 | C9: 読 売 | F9: 朝 日 | I9: 毎 日 | L9: 日 経 | O9: 宮 日
C10: コード ０１ | F10: コード ０２ | I10: コード ０３ | L10: コード ０５ | O10: コード 80
A11: 市郡区 | C11: 店 名 | D11: 枚 数 | E11: 配 布 | F11: 店 名 | G11: 枚 数 | H11: 配 布 | I11: 店 名 | J11: 枚 数 | K11: 配 布 | L11: 店 名 | M11: 枚 数 | N11: 配 布 | O11: 店 名 | P11: 枚 数 | Q11: 配 布
A12: 串間市 | B12: 1 | O12: 串間中央(合) | P12: 1505
A13: ※ | O13: 串間東(合) | P13: 1788
A23: ■地区枚数■ | B23: =D25+G25+J25+M25+P25 -> 3293
A25: ■配布枚数■ | B25: =SUM(E25,H25,K25,N25,Q25) -> 0 | C25: ◆小 計◆ | D25: =SUM(D12:D24) -> 0 | E25: =SUM(E12:E24) -> 0 | F25: ◆小 計◆ | G25: =SUM(G12:G24) -> 0 | H25: =SUM(H12:H24) -> 0 | I25: ◆小 計◆ | L25: ◆小 計◆ | O25: ◆小 計◆ | P25: =SUM(P12:P24) -> 3293 | Q25: =SUM(Q12:Q24) -> 0
A27: 日南市 | B27: 3 | O27: 油津(合) | P27: 3336
A28: ※ | O28: 吾田(合) | P28: 1798
O29: 飫肥(合) | P29: 1657
A33: （旧南那珂郡） | O33: 日南北(合) | P33: 1851
O34: 南郷(合) | P34: 1666
O35: 榎原YAN | P35: 218
A42: ■地区枚数■ | B42: =D44+G44+J44+M44+P44 -> 10526
A44: ■配布枚数■ | B44: =SUM(E44,H44,K44,N44,Q44) -> 0 | C44: ◆小 計◆ | D44: =SUM(D26:D43) -> 0 | E44: =SUM(E26:E43) -> 0 | F44: ◆小 計◆ | G44: =SUM(G26:G43) -> 0 | H44: =SUM(H26:H43) -> 0 | I44: ◆小 計◆ | L44: ◆小 計◆ | P44: =SUM(P26:P43) -> 10526 | Q44: =SUM(Q26:Q43) -> 0
C60: 2009年 3月30日、日南市、南那珂郡南郷町・北郷町が合併したことにより、上記販売店の市郡区が日南市に変更になります。

Sheet 都城市・北諸県郡
B1: 都城営業所（宮崎郡は宮崎営業所） | F1: 宮 崎 県 コード ４5
M2: 46296 | O2: 大分折込株式会社
A4: スポンサー名 | F4: 請求先 | H4: 折 込 日 | K4: サイズ | L4: 枚 数 | O4: センター名 | Q4: No.
H5: 年 月 日 曜 | L5: =西臼杵郡!$L$5:$M$7 -> 0
N6: 枚
B9: 銘 柄 | C9: 読 売 | F9: 朝 日 | I9: 毎 日 | L9: 日 経 | O9: 宮 日
C10: コード ０１ | F10: コード ０２ | I10: コード ０３ | L10: コード ０５ | O10: コード 80
A11: 市郡区 | C11: 店 名 | D11: 枚 数 | E11: 配 布 | F11: 店 名 | G11: 枚 数 | H11: 配 布 | I11: 店 名 | J11: 枚 数 | K11: 配 布 | L11: 店 名 | M11: 枚 数 | N11: 配 布 | O11: 店 名 | P11: 枚 数 | Q11: 配 布
A12: 都城市 | B12: 4 | C12: 都城中央 | D12: 900 | I12: 中央 | J12: 374 | O12: 中央ANi | P12: 1529
C13: 都城東部 | D13: 200 | I13: 西部 | J13: 1000 | O13: 鷹尾AMNi | P13: 1586
C14: 都城北部 | D14: 370 | I14: 五十市 | J14: 540 | O14: 都城南部AMNi | P14: 1555
C15: 都城西部 | D15: 420 | I15: 北部 | J15: 444 | O15: 沖水AMNi | P15: 1782
C16: 都城五十市 | D16: 500 | O16: 川東ANi | P16: 2183
C17: 都城甲斐元 | D17: 160 | O17: 郡元ANi | P17: 1660
C18: 都城南部 | D18: 140 | O18: 上長飯ANi | P18: 2000
C19: 都城沖水 | D19: 730 | O19: 庄内（合） | P19: 815
C20: 都城庄内 | D20: 100 | O20: 西岳(合) | P20: 168
C21: 山之口 | D21: 100 | O21: 山之口(合) | P21: 1050
O22: 高城(合) | P22: 1215
O23: 山田AMNi | P23: 1660
O24: 高崎(合) | P24: 1294
A31: ■地区枚数■ | B31: =D33+G33+J33+M33+P33 -> 24475
A33: ■配布枚数■ | B33: =E33+H33+K33+N33+Q33 -> 0 | C33: ◆小 計◆ | D33: =SUM(D12:D32) -> 3620 | E33: =SUM(E12:E32) -> 0 | F33: ◆小 計◆ | G33: =SUM(G12:G32) -> 0 | H33: =SUM(H12:H32) -> 0 | I33: ◆小 計◆ | J33: =SUM(J12:J32) -> 2358 | K33: =SUM(K12:K32) -> 0 | L33: ◆小 計◆ | M33: =SUM(M12:M32) -> 0 | N33: =SUM(N12:N32) -> 0 | O33: ◆小 計◆ | P33: =SUM(P12:P32) -> 18497 | Q33: =SUM(Q12:Q32) -> 0
A35: 北諸県郡 | B35: 5 | C35: 三股 | D35: 570 | O35: 三股東AMNi | P35: 1462
A36: ※ | O36: 三股北AMNi | P36: 1335
A40: ■地区枚数■ | B40: =D42+G42+J42+M42+P42 -> 3367
A42: ■配布枚数■ | B42: =E42+H42+K42+N42+Q42 -> 0 | C42: ◆小 計◆ | D42: =SUM(D35:D41) -> 570 | E42: =SUM(E35:E41) -> 0 | F42: ◆小 計◆ | G42: =SUM(G35:G41) -> 0 | H42: =SUM(H35:H41) -> 0 | I42: ◆小 計◆ | L42: ◆小 計◆ | M42: =SUM(M35:M41) -> 0 | N42: =SUM(N35:N41) -> 0 | O42: ◆小 計◆ | P42: =SUM(P35:P41) -> 2797 | Q42: =SUM(Q35:Q41) -> 0
C59: 2006年 2月25日、都城市、北諸県郡山之口町・高城町・山田町・高崎町 が合併したことにより、市郡区が都城市に変更になります。

Sheet 宮崎市・東諸県郡
B1: 宮崎営業所 | F1: 宮 崎 県 コード ４5
M2: 46296 | O2: 大分折込株式会社
A4: スポンサー名 | F4: 請求先 | H4: 折 込 日 | K4: サイズ | L4: 枚 数 | O4: センター名 | Q4: No.
H5: 年 月 日 曜 | L5: =西臼杵郡!$L$5:$M$7 -> 0
N6: 枚
B9: 銘 柄 | C9: 読 売 | F9: 朝 日 | I9: 毎 日 | L9: 日 経 | O9: 宮 日
C10: コード ０１ | F10: コード ０２ | I10: コード ０３ | L10: コード ０５ | O10: コード 80
A11: 市郡区 | C11: 店 名 | D11: 枚 数 | E11: 配 布 | F11: 店 名 | G11: 枚 数 | H11: 配 布 | I11: 店 名 | J11: 枚 数 | K11: 配 布 | L11: 店 名 | M11: 枚 数 | N11: 配 布 | O11: 店 名 | P11: 枚 数 | Q11: 配 布
A12: 宮崎市 | B12: 7 | C12: 宮崎住吉 | D12: 300 | I12: 北部 | J12: 663 | O12: 宮崎中央AN | P12: 3049
A13: ※新市内 | C13: 花ケ島 | D13: 250 | I13: 中央 | J13: 935 | O13: 花ヶ島AMN | P13: 2312
C14: 宮崎北部 | D14: 350 | O14: 大宮AMN | P14: 2541
C15: 宮崎西部 | D15: 660 | O15: 波島AMN | P15: 1846
C16: 宮崎東部 | D16: 150 | O16: 新城AN | P16: 1380
C17: 昭和町 | D17: 275 | O17: 霧島AN | P17: 1945
C18: 宮崎中央 | D18: 400 | O18: 錦町AN | P18: 1966
C19: 宮崎大橋 | D19: 230 | O19: 吉村町AMN | P19: 4387
C20: 大塚中央 | D20: 450 | O20: 宮崎東部AMN | P20: 4491
C21: 生目 | D21: 330 | O21: 大淀東AMN | P21: 5090
C22: 南宮崎 | D22: 600 | O22: 空港前AMN | P22: 1960
C23: 赤江 | D23: 690 | O23: 月見ヶ丘AMN | P23: 1638
C24: 木花 | D24: 100 | O24: 希望ヶ丘AMN | P24: 1480
C25: 加納 | D25: 40 | O25: 江南AMN | P25: 1817
... C27: ＊佐土原 | D27: 500 | O27: 花山手AMN | P27: 2016
O28: 大塚台AN | P28: 1220
O29: いきめ台AMN | P29: 1206
O30: おおつかAMN | P30: 2778
O31: 生目AMN | P31: 1927
O32: 住吉AMN | P32: 2547
O33: 瓜生野YAMNi | P33: 1741
O34: 木花AMN | P34: 1840
O35: 青島(合) | P35: 729
O36: 広瀬南AMN | P36: 2448
O37: 佐土原AMN | P37: 2267
O38: 広瀬北AMN | P38: 1055
O39: 田野(合) | P39: 1766
... O42: 加納AMN | P42: 1091
A53: ■地区枚数■ | B53: =D55+G55+J55+M55+P55 -> 73239
A55: ■配布枚数■ | B55: =E55+H55+K55+N55+Q55 -> 0 | C55: ◆小 計◆ | D55: =SUM(D12:D54) -> 5595 | E55: =SUM(E12:E54) -> 0 | F55: ◆小 計◆ | G55: =SUM(G12:G54) -> 0 | H55: =SUM(H12:H54) -> 0 | I55: ◆小 計◆ | J55: =SUM(J12:J54) -> 1598 | K55: =SUM(K12:K54) -> 0 | L55: ◆小 計◆ | M55: =SUM(M12:M54) -> 0 | N55: =SUM(N12:N54) -> 0 | O55: ◆小 計◆ | P55: =SUM(P12:P54) -> 66046 | Q55: =SUM(Q12:Q54) -> 0
A57: 東諸県郡 | B57: 8 | O57: 本庄YAMN | P57: 3477
A58: ※ | O58: 綾(合) | P58: 1113
...

Sheet 西諸県郡・小林市・えびの市・児湯郡・西都市
B1: 宮崎営業所 | F1: 宮 崎 県 コード ４5
M2: 46296 | O2: 大分折込株式会社
A4: スポンサー名 | F4: 請求先 | H4: 折 込 日 | K4: サイズ | L4: 枚 数 | O4: センター名 | Q4: No.
H5: 年 月 日 曜 | L5: =西臼杵郡!$L$5:$M$7 -> 0
N6: 枚
B9: 銘 柄 | C9: 読 売 | F9: 朝 日 | I9: 毎 日 | L9: 日 経 | O9: 宮 日
C10: コード ０１ | F10: コード ０２ | I10: コード ０３ | L10: コード ０５ | O10: コード ８０
A11: 市郡区 | C11: 店 名 | D11: 枚 数 | E11: 配 布 | F11: 店 名 | G11: 枚 数 | H11: 配 布 | I11: 店 名 | J11: 枚 数 | K11: 配 布 | L11: 店 名 | M11: 枚 数 | N11: 配 布 | O11: 店 名 | P11: 枚 数 | Q11: 配 布
A12: 西諸県郡 | B12: 9 | C12: 高原 | D12: 60 | O12: 高原AMN | P12: 1327
A13: ※
A15: ■地区枚数■ | B15: =D17+G17+J17+M17+P17 -> 1387
A17: ■配布枚数■ | B17: =E17+H17+K17+N17+Q17 -> 0 | C17: ◆小 計◆ | D17: =SUM(D12:D15) -> 60 | E17: =SUM(E12:E15) -> 0 | F17: ◆小 計◆ | I17: ◆小 計◆ | L17: ◆小 計◆ | O17: ◆小 計◆ | P17: =SUM(P12:P15) -> 1327 | Q17: =SUM(Q12:Q15) -> 0
A19: 小林市 | B19: 10 | C19: 小林東 | D19: 420 | O19: 小林北部AMN | P19: 1806
A20: ※ | C20: 小林西 | D20: 220 | O20: 小林南部AMN | P20: 3028
O21: 須木AMN | P21: 308
O22: 野尻(合) | P22: 986
A24: ■地区枚数■ | B24: =D26+G26+J26+M26+P26 -> 6768
A26: ■配布枚数■ | B26: =E26+H26+K26+N26+Q26 -> 0 | C26: ◆小 計◆ | D26: =SUM(D19:D25) -> 640 | E26: =SUM(E19:E25) -> 0 | F26: ◆小 計◆ | G26: =SUM(G19:G25) -> 0 | H26: =SUM(H19:H25) -> 0 | I26: ◆小 計◆ | J26: =SUM(J19:J25) -> 0 | K26: =SUM(K19:K25) -> 0 | L26: ◆小 計◆ | O26: ◆小 計◆ | P26: =SUM(P19:P25) -> 6128 | Q26: =SUM(Q19:Q25) -> 0
A28: えびの市 | B28: 11 | C28: 飯野 | D28: 120 | I28: 飯野N | J28: 52 | O28: 飯野A | P28: 1530
A29: ※ | O29: 加久藤(合) | P29: 743
O30: 京町(合) | P30: 840
A31: ■地区枚数■ | B31: =D33+G33+J33+M33+P33 -> 3285
A33: ■合計枚数■ | B33: =E33+H33+K33+N33+Q33 -> 0 | C33: ◆小 計◆ | D33: =SUM(D28:D31) -> 120 | E33: =SUM(E28:E31) -> 0 | F33: ◆小 計◆ | I33: ◆小 計◆ | J33: =SUM(J28:J31) -> 52 | K33: =SUM(K28:K31) -> 0 | L33: ◆小 計◆ | O33: ◆小 計◆ | P33: =SUM(P28:P31) -> 3113 | Q33: =SUM(Q28:Q31) -> 0
A35: 児湯郡 | B35: 12 | C35: 新富 | D35: 260 | O35: 富田AMN | P35: 1683
A36: ※ | O36: 新田AMN | P36: 1451
O37: 高鍋(合) | P37: 4113
O38: 木城(合) | P38: 929
O39: 都農(合) | P39: 1930
O40: 川南(合) | P40: 2737
O41: 村所(合) | P41: 175
A45: ■地区枚数■ | B45: =D47+G47+J47+M47+P47 -> 13278
A47: ■配布枚数■ | B47: =E47+H47+K47+N47+Q47 -> 0 | C47: ◆小 計◆ | D47: =SUM(D35:D46) -> 260 | E47: =SUM(E35:E46) -> 0 | F47: ◆小 計◆ | G47: =SUM(G35:G46) -> 0 | H47: =SUM(H35:H46) -> 0 | I47: ◆小 計◆ | J47: =SUM(J35:J46) -> 0 | K47: =SUM(K35:K46) -> 0 | L47: ◆小 計◆ | O47: ◆小 計◆ | P47: =SUM(P35:P46) -> 13018 | Q47: =SUM(Q35:Q46) -> 0
A49: 西都市 | B49: 13 | O49: 西都中央(合) | P49: 2630
A50: ※ | O50: 西都北部(合) | P50: 2516
O51: 西都西部(合) | P51: 1772
A56: ■地区枚数■ | B56: =D58+G58+J58+M58+P58 -> 6918
A58: ■配布枚数■ | B58: =E58+H58+K58+N58+Q58 -> 0 | C58: ◆小 計◆ | D58: =SUM(D49:D57) -> 0 | E58: =SUM(E49:E57) -> 0 | F58: ◆小 計◆ | G58: =SUM(G49:G57) -> 0 | H58: =SUM(H49:H57) -> 0 | I58: ◆小 計◆ | J58: =SUM(J49:J57) -> 0 | K58: =SUM(K49:K57) -> 0 | L58: ◆小 計◆ | O58: ◆小 計◆ | P58: =SUM(P49:P57) -> 6918 | Q58: =SUM(Q49:Q57) -> 0
C60: 2006年 3月20日、小林市、西諸県郡須木村が合併したことにより、市郡区が、小林市に変更になります。

Sheet 東臼杵郡・日向市・延岡市
B1: 延岡営業所 | F1: 宮 崎 県 コード ４5
M2: 46296 | O2: 大分折込株式会社
A4: スポンサー名 | F4: 請求先 | H4: 折 込 日 | K4: サイズ | L4: 枚 数 | O4: センター名 | Q4: No.
H5: 年 月 日 曜 | L5: =西臼杵郡!$L$5:$M$7 -> 0
N6: 枚
B9: 銘 柄 | C9: 読 売 | F9: 朝 日 | I9: 毎 日 | L9: 日 経 | O9: 宮 日
C10: コード ０１ | F10: コード ０２ | I10: コード ０３ | L10: コード ０５ | O10: コード ８０
A11: 市郡区 | C11: 店 名 | D11: 枚 数 | E11: 配 布 | F11: 店 名 | G11: 枚 数 | H11: 配 布 | I11: 店 名 | J11: 枚 数 | K11: 配 布 | L11: 店 名 | M11: 枚 数 | N11: 配 布 | O11: 店 名 | P11: 枚 数 | Q11: 配 布
A12: 東臼杵郡 | B12: 14 | O12: 門川(合） | P12: 1627
A13: ※ | O13: ＊田代(合) | P13: 322
O14: ＊宇納間(合) | P14: 184
O15: ＊神門(合) | P15: 235
O16: ＊諸塚(合) | P16: 230
O17: ＊椎葉(合) | P17: 173
A26: ■地区枚数■ | B26: =D28+G28+J28+M28+P28 -> 2771
A28: ■配布枚数■ | B28: =E28+H28+K28+N28+Q28 -> 0 | C28: ◆小 計◆ | D28: =SUM(D12:D27) -> 0 | E28: =SUM(E12:E27) -> 0 | F28: ◆小 計◆ | G28: =SUM(G12:G27) -> 0 | H28: =SUM(H12:H27) -> 0 | I28: ◆小 計◆ | J28: =SUM(J12:J27) -> 0 | K28: =SUM(K12:K27) -> 0 | L28: ◆小 計◆ | M28: =SUM(M12:M27) -> 0 | N28: =SUM(N12:N27) -> 0 | O28: ◆小 計◆ | P28: =SUM(P12:P27) -> 2771 | Q28: =SUM(Q12:Q27) -> 0
A30: 日向市 | B30: 15 | C30: 日向 | D30: 590 | I30: 日向東部 | J30: 1363 | O30: 財光寺AMN | P30: 1231
A31: ※ | C31: 財光寺 | D31: 210 | O31: 富高AN | P31: 800
O32: 大王谷AN | P32: 1398
O33: 日向中央AMN | P33: 1535
O34: 日向南部AMN | P34: 805
O35: 日向西部(合) | P35: 426
A41: ■地区枚数■ | B41: =D43+G43+J43+M43+P43 -> 8358
A43: ■配布枚数■ | B43: =E43+H43+K43+N43+Q43 -> 0 | C43: ◆小 計◆ | D43: =SUM(D30:D42) -> 800 | E43: =SUM(E30:E42) -> 0 | F43: ◆小 計◆ | G43: =SUM(G30:G42) -> 0 | H43: =SUM(H30:H42) -> 0 | I43: ◆小 計◆ | J43: =SUM(J30:J42) -> 1363 | K43: =SUM(K30:K42) -> 0 | L43: ◆小 計◆ | M43: =SUM(M30:M42) -> 0 | N43: =SUM(N30:N42) -> 0 | O43: ◆小 計◆ | P43: =SUM(P30:P42) -> 6195 | Q43: =SUM(Q30:Q42) -> 0
A45: 延岡市 | B45: 16 | C45: 延岡北部 | D45: 600 | F45: (宮)東部 | G45: 275 | I45: 北部 | J45: 924 | O45: 北部AMN | P45: 1085
C46: 中央 | D46: 320 | F46: (宮)延岡M | G46: 235 | I46: 中央 | J46: 709 | O46: 西部YN | P46: 1431
C47: 延岡東部 | D47: 300 | F47: (宮)西部M | G47: 425 | I47: 東部 | J47: 1330 | O47: 中央N | P47: 1260
C48: 延岡中部 | D48: 470 | F48: (宮)恒富 | G48: 345 | I48: 南部 | J48: 1320 | O48: 伊形N | P48: 650
C49: 南部 | D49: 500 | F49: (宮)南部 | G49: 465 | I49: 一ヶ岡 | J49: 824 | O49: ＊島野浦(合) | P49: 96
C50: 一ヶ岡 | D50: 120 | F50: (宮)旭ケ丘 | G50: 285 | O50: ＊北浦(合) | P50: 411
C51: ＊北方・南方 | D51: 140 | O51: ＊北方AMN | P51: 202
A55: ■地区枚数■ | B55: =D57+G57+J57+M57+P57 -> 14722
A57: ■配布枚数■ | B57: =E57+H57+K57+N57+Q57 -> 0 | C57: ◆小 計◆ | D57: =SUM(D45:D56) -> 2450 | E57: =SUM(E45:E56) -> 0 | F57: ◆小 計◆ | G57: =SUM(G45:G56) -> 2030 | H57: =SUM(H45:H56) -> 0 | I57: ◆小 計◆ | J57: =SUM(J45:J56) -> 5107 | K57: =SUM(K45:K56) -> 0 | L57: ◆小 計◆ | M57: =SUM(M45:M53) -> 0 | N57: =SUM(N45:N53) -> 0 | O57: ◆小 計◆ | P57: =SUM(P45:P56) -> 5135 | Q57: =SUM(Q45:Q56) -> 0
C61: 2006年 2月20日、延岡市、東臼杵郡北方町・北浦町 が合併したことにより、市郡区が延岡市に変更になります。
C62: 2006年 2月25日、日向市、東臼杵郡東郷町 が合併したことにより、市郡区が日向市に変更になります。
C63: 2007年 3月31日、延岡市、東臼杵郡北川町が合併したことにより、市郡区が延岡市に変更になります。

Sheet 西臼杵郡
B1: 延岡営業所 | F1: 宮 崎 県 コード ４5
M2: 46296 | O2: 大分折込株式会社
A4: スポンサー名 | F4: 請求先 | H4: 折 込 日 | K4: サイズ | L4: 枚 数 | O4: センター名 | Q4: No.
H5: 年 月 日 曜 | L5: =串間市・日南市!B25+串間市・日南市!B44+都城市・北諸県郡!B33+都城市・北諸県郡!B42+都城市・北諸県郡!B54+宮崎市・東諸県郡!B55+宮崎市・東諸県郡!B60+西諸県郡・小林市・えびの市・児湯郡・西都市!B17+西諸県郡・小林市・えびの市・児湯郡・西都市!B26+西諸県郡・小林市・えびの市・児湯郡・西都市!B33+西諸県郡・小林市・えびの市・児湯郡・西都市!B47+西諸県郡・小林市・えびの市・児湯郡・西都市!B58+東臼杵郡・日向市・延岡市!B28+東臼杵郡・日向市・延岡市!B43+東臼杵郡・日向市・延岡市!B57+西臼杵郡!B25 -> 0
N6: 枚
B9: 銘 柄 | C9: 読 売 | F9: 朝 日 | I9: 毎 日 | L9: 日 経 | O9: 宮 日
C10: コード ０１ | F10: コード ０２ | I10: コード ０３ | L10: コード ０５ | O10: コード ８０
A11: 市郡区 | C11: 店 名 | D11: 枚 数 | E11: 配 布 | F11: 店 名 | G11: 枚 数 | H11: 配 布 | I11: 店 名 | J11: 枚 数 | K11: 配 布 | L11: 店 名 | M11: 枚 数 | N11: 配 布 | O11: 店 名 | P11: 枚 数 | Q11: 配 布
A12: 西臼杵郡 | B12: 17 | C12: ＊高千穂 | D12: 200 | O12: ＊高千穂AMN | P12: 1874
A13: ※ | O13: ＊日之影(合) | P13: 667
O14: ＊五ヶ瀬AMN | P14: 495
A23: ■地区枚数■ | B23: =D25+G25+J25+M25+P25 -> 3236
A25: ■配布枚数■ | B25: =E25+H25+K25+N25+Q25 -> 0 | C25: ◆小 計◆ | D25: =SUM(D12:D24) -> 200 | E25: =SUM(E12:E24) -> 0 | F25: ◆小 計◆ | I25: ◆小 計◆ | L25: ◆小 計◆ | M25: =SUM(M12:M24) -> 0 | N25: =SUM(N12:N24) -> 0 | O25: ◆小 計◆ | P25: =SUM(P12:P24) -> 3036 | Q25: =SUM(Q12:Q24) -> 0
