Workbook

Sheet 集計
D1: 熊 本 県 コード ４３
N3: 46296 | P3: 大分折込部式会社
A5: 市・郡・区 | B5: コード № | D5: 読 売 | F5: 朝 日 | H5: 毎 日 | J5: 西 日 本 | L5: 熊 日 | N5: プラポス | P5: 枚数計 | Q5: 配布計 | R5: ページ | S5: 26.01
D6: 枚数 | E6: 配布 | F6: 枚数 | G6: 配布 | H6: 枚数 | I6: 配布 | J6: 枚数 | K6: 配布 | L6: 枚数 | M6: 配布 | S6: 世帯数
A7: 人吉市 | B7: ０１ | C7: 枚 数 | D7: =人吉市・球磨郡・水俣市!$D$23 -> 1040 | E7: =人吉市・球磨郡・水俣市!$E$23 -> 0 | F7: =人吉市・球磨郡・水俣市!$G$23 -> 0 | G7: =人吉市・球磨郡・水俣市!$H$23 -> 0 | H7: =人吉市・球磨郡・水俣市!$J$23 -> 0 | I7: =人吉市・球磨郡・水俣市!$K$23 -> 0 | J7: =人吉市・球磨郡・水俣市!$M$23 -> 0 | K7: =人吉市・球磨郡・水俣市!$N$23 -> 0 | L7: =人吉市・球磨郡・水俣市!$P$23 -> 4300 | M7: =人吉市・球磨郡・水俣市!$Q$23 -> 0 | P7: =SUM(D7,F7,H7,J7,L7) -> 5340 | Q7: =SUM(E7,G7,I7,K7,M7) -> 0 | R7: 1 | S7: 15078
A8: 球磨郡 | B8: ０２ | C8: 枚 数 | D8: =人吉市・球磨郡・水俣市!$D$39 -> 1120 | E8: =人吉市・球磨郡・水俣市!$E$39 -> 0 | F8: =人吉市・球磨郡・水俣市!$G$39 -> 250 | G8: =人吉市・球磨郡・水俣市!$H$39 -> 0 | H8: =人吉市・球磨郡・水俣市!$J$39 -> 0 | I8: =人吉市・球磨郡・水俣市!$K$39 -> 0 | J8: =人吉市・球磨郡・水俣市!$M$39 -> 0 | K8: =人吉市・球磨郡・水俣市!$N$39 -> 0 | L8: =人吉市・球磨郡・水俣市!$P$39 -> 4850 | M8: =人吉市・球磨郡・水俣市!$Q$39 -> 0 | P8: =SUM(D8,F8,H8,J8,L8) -> 6220 | Q8: =SUM(E8,G8,I8,K8,M8) -> 0 | R8: 1 | S8: 20111
A9: 水俣市 | B9: ０３ | C9: 枚 数 | D9: =人吉市・球磨郡・水俣市!$D$53 -> 1010 | E9: =人吉市・球磨郡・水俣市!$E$53 -> 0 | F9: =人吉市・球磨郡・水俣市!$G$53 -> 0 | G9: =人吉市・球磨郡・水俣市!$H$53 -> 0 | H9: =人吉市・球磨郡・水俣市!$J$53 -> 0 | I9: =人吉市・球磨郡・水俣市!$K$53 -> 0 | J9: =人吉市・球磨郡・水俣市!$M$53 -> 0 | K9: =人吉市・球磨郡・水俣市!$N$53 -> 0 | L9: =人吉市・球磨郡・水俣市!$P$53 -> 2600 | M9: =人吉市・球磨郡・水俣市!$Q$53 -> 0 | P9: =SUM(D9,F9,H9,J9,L9) -> 3610 | Q9: =SUM(E9,G9,I9,K9,M9) -> 0 | R9: 1 | S9: 10867
A10: 芦北郡 | B10: ０４ | C10: 枚 数 | D10: =芦北郡・八代市郡!$D$25 -> 440 | E10: =芦北郡・八代市郡!$E$25 -> 0 | F10: =芦北郡・八代市郡!$G$25 -> 0 | G10: =芦北郡・八代市郡!$H$25 -> 0 | H10: =芦北郡・八代市郡!$J$25 -> 0 | I10: =芦北郡・八代市郡!$K$25 -> 0 | J10: =芦北郡・八代市郡!$M$25 -> 0 | K10: =芦北郡・八代市郡!$N$25 -> 0 | L10: =芦北郡・八代市郡!$P$25 -> 3580 | M10: =芦北郡・八代市郡!$Q$25 -> 0 | P10: =SUM(D10,F10,H10,J10,L10) -> 4020 | Q10: =SUM(E10,G10,I10,K10,M10) -> 0 | R10: 2 | S10: 8633
A11: 八代市八代郡 | B11: ０５ | C11: 枚 数 | D11: =芦北郡・八代市郡!$D$48 -> 2670 | E11: =芦北郡・八代市郡!$E$48 -> 0 | F11: =芦北郡・八代市郡!$G$48 -> 0 | G11: =芦北郡・八代市郡!$H$48 -> 0 | H11: =芦北郡・八代市郡!$J$48 -> 0 | I11: =芦北郡・八代市郡!$K$48 -> 0 | J11: =芦北郡・八代市郡!$M$48 -> 0 | K11: =芦北郡・八代市郡!$N$48 -> 0 | L11: =芦北郡・八代市郡!$P$48 -> 16010 | M11: =芦北郡・八代市郡!$Q$48 -> 0 | P11: =SUM(D11,F11,H11,J11,L11) -> 18680 | Q11: =SUM(E11,G11,I11,K11,M11) -> 0 | R11: 2 | S11: 62851
A12: 天草市・天草郡 | B12: ０７ | C12: 枚 数 | D12: =天草市郡・上天草市・宇城市!$D$32 -> 1400 | E12: =天草市郡・上天草市・宇城市!$E$32 -> 0 | F12: =天草市郡・上天草市・宇城市!$G$32 -> 110 | G12: =天草市郡・上天草市・宇城市!$H$32 -> 0 | H12: =天草市郡・上天草市・宇城市!$J$32 -> 0 | I12: =天草市郡・上天草市・宇城市!$K$32 -> 0 | J12: =天草市郡・上天草市・宇城市!$M$32 -> 0 | K12: =天草市郡・上天草市・宇城市!$N$32 -> 0 | L12: =天草市郡・上天草市・宇城市!$P$32 -> 11540 | M12: =天草市郡・上天草市・宇城市!$Q$32 -> 0 | P12: =SUM(D12,F12,H12,J12,L12) -> 13050 | Q12: =SUM(E12,G12,I12,K12,M12) -> 0 | R12: 3 | S12: 38638
A13: 上天草市 | B13: ０８ | C13: 枚 数 | D13: =天草市郡・上天草市・宇城市!$D$42 -> 30 | E13: =天草市郡・上天草市・宇城市!$E$42 -> 0 | F13: =天草市郡・上天草市・宇城市!$G$42 -> 0 | G13: =天草市郡・上天草市・宇城市!$H$42 -> 0 | H13: =天草市郡・上天草市・宇城市!$J$42 -> 0 | I13: =天草市郡・上天草市・宇城市!$K$42 -> 0 | J13: =天草市郡・上天草市・宇城市!$M$42 -> 0 | K13: =天草市郡・上天草市・宇城市!$N$42 -> 0 | L13: =天草市郡・上天草市・宇城市!$P$42 -> 3680 | M13: =天草市郡・上天草市・宇城市!$Q$42 -> 0 | P13: =SUM(D13,F13,H13,J13,L13) -> 3710 | Q13: =SUM(E13,G13,I13,K13,M13) -> 0 | R13: 3 | S13: 10903
A14: 宇城市 | B14: １０ | C14: 枚 数 | D14: =天草市郡・上天草市・宇城市!$D$57 -> 750 | E14: =天草市郡・上天草市・宇城市!$E$57 -> 0 | F14: =天草市郡・上天草市・宇城市!$G$57 -> 0 | G14: =天草市郡・上天草市・宇城市!$H$57 -> 0 | H14: =天草市郡・上天草市・宇城市!$J$57 -> 0 | I14: =天草市郡・上天草市・宇城市!$K$57 -> 0 | J14: =天草市郡・上天草市・宇城市!$M$57 -> 0 | K14: =天草市郡・上天草市・宇城市!$N$57 -> 0 | L14: =天草市郡・上天草市・宇城市!$P$57 -> 9040 | M14: =天草市郡・上天草市・宇城市!$Q$57 -> 0 | P14: =SUM(D14,F14,H14,J14,L14) -> 9790 | Q14: =SUM(E14,G14,I14,K14,M14) -> 0 | R14: 3 | S14: 25410
A15: 宇土市 | B15: １１ | C15: 枚 数 | D15: =宇土市・上下益城郡!$D$22 -> 380 | E15: =宇土市・上下益城郡!$E$22 -> 0 | F15: =宇土市・上下益城郡!$G$22 -> 0 | G15: =宇土市・上下益城郡!$H$22 -> 0 | H15: =宇土市・上下益城郡!$J$22 -> 0 | I15: =宇土市・上下益城郡!$K$22 -> 0 | J15: =宇土市・上下益城郡!$M$22 -> 0 | K15: =宇土市・上下益城郡!$N$22 -> 0 | L15: =宇土市・上下益城郡!$P$22 -> 4740 | M15: =宇土市・上下益城郡!$Q$22 -> 0 | P15: =SUM(D15,F15,H15,J15,L15) -> 5120 | Q15: =SUM(E15,G15,I15,K15,M15) -> 0 | R15: 4 | S15: 16302
A16: 下益城郡 | B16: １２ | C16: 枚 数 | D16: =宇土市・上下益城郡!$D$38 -> 0 | E16: =宇土市・上下益城郡!$E$38 -> 0 | F16: =宇土市・上下益城郡!$G$38 -> 0 | G16: =宇土市・上下益城郡!$H$38 -> 0 | H16: =宇土市・上下益城郡!$J$38 -> 0 | I16: =宇土市・上下益城郡!$K$38 -> 0 | J16: =宇土市・上下益城郡!$M$38 -> 0 | K16: =宇土市・上下益城郡!$N$38 -> 0 | L16: =宇土市・上下益城郡!$P$38 -> 1450 | M16: =宇土市・上下益城郡!$Q$38 -> 0 | P16: =SUM(D16,F16,H16,J16,L16) -> 1450 | Q16: =SUM(E16,G16,I16,K16,M16) -> 0 | R16: 4 | S16: 4066
A17: 上益城郡 | B17: １３ | C17: 枚 数 | D17: =宇土市・上下益城郡!$D$58 -> 360 | E17: =宇土市・上下益城郡!$E$58 -> 0 | F17: =宇土市・上下益城郡!$G$58 -> 0 | G17: =宇土市・上下益城郡!$H$58 -> 0 | H17: =宇土市・上下益城郡!$J$58 -> 0 | I17: =宇土市・上下益城郡!$K$58 -> 0 | J17: =宇土市・上下益城郡!$M$58 -> 0 | K17: =宇土市・上下益城郡!$N$58 -> 0 | L17: =宇土市・上下益城郡!$P$58 -> 10410 | M17: =宇土市・上下益城郡!$Q$58 -> 0 | P17: =SUM(D17,F17,H17,J17,L17) -> 10770 | Q17: =SUM(E17,G17,I17,K17,M17) -> 0 | R17: 4 | S17: 37584
A18: 熊本市 | B18: １４ | C18: 枚 数 | D18: =熊本市!$D$60 -> 11590 | E18: =熊本市!$E$60 -> 0 | F18: =熊本市!$G$60 -> 8510 | G18: =熊本市!$H$60 -> 0 | H18: =熊本市!$J$60 -> 0 | I18: =熊本市!$K$60 -> 0 | J18: =熊本市!$M$60 -> 0 | K18: =熊本市!$N$60 -> 0 | L18: =熊本市!$P$60 -> 82710 | M18: =熊本市!$Q$60 -> 0 | N18: =熊本市!$T$60 -> 0 | P18: =SUM(D18,F18,H18,J18,L18) -> 102810 | Q18: =SUM(E18,G18,I18,K18,M18) -> 0 | R18: 5 | S18: 365281
A19: 合志市菊池郡 | B19: ２１ | C19: 枚 数 | D19: =合志市・菊池市郡・阿蘇市郡!$D$24 -> 0 | E19: =合志市・菊池市郡・阿蘇市郡!$E$24 -> 0 | F19: =合志市・菊池市郡・阿蘇市郡!$G$24 -> 320 | G19: =合志市・菊池市郡・阿蘇市郡!$H$24 -> 0 | H19: =合志市・菊池市郡・阿蘇市郡!$J$24 -> 0 | I19: =合志市・菊池市郡・阿蘇市郡!$K$24 -> 0 | J19: =合志市・菊池市郡・阿蘇市郡!$M$24 -> 0 | K19: =合志市・菊池市郡・阿蘇市郡!$N$24 -> 0 | L19: =合志市・菊池市郡・阿蘇市郡!$P$24 -> 15080 | M19: =合志市・菊池市郡・阿蘇市郡!$Q$24 -> 0 | P19: =SUM(D19,F19,H19,J19,L19) -> 15400 | Q19: =SUM(E19,G19,I19,K19,M19) -> 0 | R19: 6 | S19: 64067
A20: 菊池市 | B20: ２２ | C20: 枚 数 | D20: =合志市・菊池市郡・阿蘇市郡!$D$34 -> 0 | E20: =合志市・菊池市郡・阿蘇市郡!$E$34 -> 0 | F20: =合志市・菊池市郡・阿蘇市郡!$G$34 -> 0 | G20: =合志市・菊池市郡・阿蘇市郡!$H$34 -> 0 | H20: =合志市・菊池市郡・阿蘇市郡!$J$34 -> 0 | I20: =合志市・菊池市郡・阿蘇市郡!$K$34 -> 0 | J20: =合志市・菊池市郡・阿蘇市郡!$M$34 -> 0 | K20: =合志市・菊池市郡・阿蘇市郡!$N$34 -> 0 | L20: =合志市・菊池市郡・阿蘇市郡!$P$34 -> 7130 | M20: =合志市・菊池市郡・阿蘇市郡!$Q$34 -> 0 | P20: =SUM(D20,F20,H20,J20,L20) -> 7130 | Q20: =SUM(E20,G20,I20,K20,M20) -> 0 | R20: 6 | S20: 20953
A21: 阿蘇市阿蘇郡 | B21: ２３ | C21: 枚 数 | D21: =合志市・菊池市郡・阿蘇市郡!$D$49 -> 50 | E21: =合志市・菊池市郡・阿蘇市郡!$E$49 -> 0 | F21: =合志市・菊池市郡・阿蘇市郡!$G$49 -> 0 | G21: =合志市・菊池市郡・阿蘇市郡!$H$49 -> 0 | H21: =合志市・菊池市郡・阿蘇市郡!$J$49 -> 0 | I21: =合志市・菊池市郡・阿蘇市郡!$K$49 -> 0 | J21: =合志市・菊池市郡・阿蘇市郡!$M$49 -> 0 | K21: =合志市・菊池市郡・阿蘇市郡!$N$49 -> 0 | L21: =合志市・菊池市郡・阿蘇市郡!$P$49 -> 8340 | M21: =合志市・菊池市郡・阿蘇市郡!$Q$49 -> 0 | P21: =SUM(D21,F21,H21,J21,L21) -> 8390 | Q21: =SUM(E21,G21,I21,K21,M21) -> 0 | R21: 6 | S21: 28336
A22: 山鹿市 | B22: ２５ | C22: 枚 数 | D22: =山鹿市・玉名市郡・荒尾市!$D$18 -> 760 | E22: =山鹿市・玉名市郡・荒尾市!$E$18 -> 0 | F22: =山鹿市・玉名市郡・荒尾市!$G$18 -> 0 | G22: =山鹿市・玉名市郡・荒尾市!$H$18 -> 0 | H22: =山鹿市・玉名市郡・荒尾市!$J$18 -> 0 | I22: =山鹿市・玉名市郡・荒尾市!$K$18 -> 0 | J22: =山鹿市・玉名市郡・荒尾市!$M$18 -> 0 | K22: =山鹿市・玉名市郡・荒尾市!$N$18 -> 0 | L22: =山鹿市・玉名市郡・荒尾市!$P$18 -> 6560 | M22: =山鹿市・玉名市郡・荒尾市!$Q$18 -> 0 | P22: =SUM(D22,F22,H22,J22,L22) -> 7320 | Q22: =SUM(E22,G22,I22,K22,M22) -> 0 | R22: 7 | S22: 22074
A23: 玉名郡 | B23: ２６ | C23: 枚 数 | D23: =山鹿市・玉名市郡・荒尾市!$D$30 -> 460 | E23: =山鹿市・玉名市郡・荒尾市!$E$30 -> 0 | F23: =山鹿市・玉名市郡・荒尾市!$G$30 -> 0 | G23: =山鹿市・玉名市郡・荒尾市!$H$30 -> 0 | H23: =山鹿市・玉名市郡・荒尾市!$J$30 -> 0 | I23: =山鹿市・玉名市郡・荒尾市!$K$30 -> 0 | J23: =山鹿市・玉名市郡・荒尾市!$M$30 -> 0 | K23: =山鹿市・玉名市郡・荒尾市!$N$30 -> 0 | L23: =山鹿市・玉名市郡・荒尾市!$P$30 -> 6270 | M23: =山鹿市・玉名市郡・荒尾市!$Q$30 -> 0 | P23: =SUM(D23,F23,H23,J23,L23) -> 6730 | Q23: =SUM(E23,G23,I23,K23,M23) -> 0 | R23: 7 | S23: 17384
A24: 玉名市 | B24: ２７ | C24: 枚 数 | D24: =山鹿市・玉名市郡・荒尾市!$D$42 -> 1620 | E24: =山鹿市・玉名市郡・荒尾市!$E$42 -> 0 | F24: =山鹿市・玉名市郡・荒尾市!$G$42 -> 0 | G24: =山鹿市・玉名市郡・荒尾市!$H$42 -> 0 | H24: =山鹿市・玉名市郡・荒尾市!$J$42 -> 0 | I24: =山鹿市・玉名市郡・荒尾市!$K$42 -> 0 | J24: =山鹿市・玉名市郡・荒尾市!$M$42 -> 0 | K24: =山鹿市・玉名市郡・荒尾市!$N$42 -> 0 | L24: =山鹿市・玉名市郡・荒尾市!$P$42 -> 8590 | M24: =山鹿市・玉名市郡・荒尾市!$Q$42 -> 0 | P24: =SUM(D24,F24,H24,J24,L24) -> 10210 | Q24: =SUM(E24,G24,I24,K24,M24) -> 0 | R24: 7 | S24: 28687
A25: 荒尾市 | B25: ２８ | C25: 枚 数 | D25: =山鹿市・玉名市郡・荒尾市!$D$50 -> 2410 | E25: =山鹿市・玉名市郡・荒尾市!$E$50 -> 0 | F25: =山鹿市・玉名市郡・荒尾市!$G$50 -> 0 | G25: =山鹿市・玉名市郡・荒尾市!$H$50 -> 0 | H25: =山鹿市・玉名市郡・荒尾市!$J$50 -> 0 | I25: =山鹿市・玉名市郡・荒尾市!$K$50 -> 0 | J25: =山鹿市・玉名市郡・荒尾市!$M$50 -> 0 | K25: =山鹿市・玉名市郡・荒尾市!$N$50 -> 0 | L25: =山鹿市・玉名市郡・荒尾市!$P$50 -> 3970 | M25: =山鹿市・玉名市郡・荒尾市!$Q$50 -> 0 | P25: =SUM(D25,F25,H25,J25,L25) -> 6380 | Q25: =SUM(E25,G25,I25,K25,M25) -> 0 | R25: 7 | S25: 24028
A27: 合 計 | C27: 枚 数 | D27: =SUM(D7:D26) -> 26090 | E27: =SUM(E7:E26) -> 0 | F27: =SUM(F7:F26) -> 9190 | G27: =SUM(G7:G26) -> 0 | H27: =SUM(H7:H26) -> 0 | I27: =SUM(I7:I26) -> 0 | J27: =SUM(J7:J26) -> 0 | K27: =SUM(K7:K26) -> 0 | ... M27: =SUM(M7:M26) -> 0 | P27: =SUM(P7:P26) -> 246130 | Q27: =SUM(Q7:Q26) -> 0 | S27: =SUM(S7:S26) -> 821253
D28: 福 岡 県 コード ０８
N30: 36130 | P30: 株式会社読売西部 I S
A32: 市・郡・区 | B32: コード № | D32: 読 売 | F32: 朝 日 | H32: 毎 日 | J32: 西 日 本 | L32: 日 経 | P32: 計 | Q32: 世帯数 | R32: ページ
D33: コード | E33: ０１ | F33: コード | G33: ０２ | H33: コード | I33: ０３ | J33: コード | K33: ０４ | L33: コード | M33: ０５ | N33: コード | O33: ００

Sheet 人吉市・球磨郡・水俣市
B1: 熊本営業所 | F1: 熊 本 県 コード ４３
M2: 46296 | O2: 大分折込株式会社
A4: スポンサー名 | F4: タイトル | I4: 請求先 | K4: 折 込 日 | N4: サイズ | O4: 枚 数 | R4: センター名 | T4: No.
K5: 年 月 日 曜 | O5: =山鹿市・玉名市郡・荒尾市!O5 -> 0
Q6: 枚
B9: 銘 柄 | C9: 読 売 | F9: 朝 日 | I9: 毎 日 | L9: 西 日 本 | O9: 熊 日
C10: コード ０１ | F10: コード ０２ | I10: コード ０３ | L10: コード ０８ | O10: コード ７８
A11: 市郡区 | C11: 店 名 | D11: 枚 数 | E11: 配 布 | F11: 店 名 | G11: 枚 数 | H11: 配 布 | I11: 店 名 | J11: 枚 数 | K11: 配 布 | L11: 店 名 | M11: 枚 数 | N11: 配 布 | O11: 店 名 | P11: 枚 数 | Q11: 配 布 | R11: 店 名 | S11: 枚 数 | T11: 配 布
A12: 人吉市 | B12: 1 | C12: 人吉 | D12: 1040 | O12: 人吉AMNNi | P12: 1950
A13: ※ | O13: 人吉南AMNNi | P13: 1560
O14: 人吉北AMNNi | P14: 790
A21: ■地区枚数■ | B21: =D23+G23+J23+M23+P23 -> 5340
A23: ■配布枚数■ | B23: =E23+H23+K23+N23+Q23 -> 0 | C23: ◆小 計◆ | D23: =SUM(D12:D22) -> 1040 | E23: =SUM(E12:E22) -> 0 | F23: ◆小 計◆ | G23: =SUM(G12:G22) -> 0 | H23: =SUM(H12:H22) -> 0 | I23: ◆小 計◆ | L23: ◆小 計◆ | O23: ◆小 計◆ | P23: =SUM(P12:P22) -> 4300 | Q23: =SUM(Q12:Q22) -> 0
A25: 球磨郡 | B25: 2 | C25: 錦 | D25: 420 | F25: 多良木ＭＮＮ | G25: 150 | O25: 人吉西部(合) | P25: 500
A26: ※ | C26: 免田・多良木 | D26: 700 | F26: 湯前・水上MN | G26: 100 | O26: 免田AMNNi | P26: 1190
O27: 多良木ANNi | P27: 1490
O28: 湯の前YNi | P28: 730
O29: 錦AMNNi | P29: 940
A37: ■地区枚数■ | B37: =D39+G39+J39+M39+P39 -> 6220
A39: ■配布枚数■ | B39: =E39+H39+K39+N39+Q39 -> 0 | C39: ◆小 計◆ | D39: =SUM(D25:D38) -> 1120 | E39: =SUM(E25:E38) -> 0 | F39: ◆小 計◆ | G39: =SUM(G25:G38) -> 250 | H39: =SUM(H25:H38) -> 0 | I39: ◆小 計◆ | J39: =SUM(J25:J38) -> 0 | K39: =SUM(K25:K38) -> 0 | L39: ◆小 計◆ | M39: =SUM(M25:M38) -> 0 | N39: =SUM(N25:N38) -> 0 | O39: ◆小 計◆ | P39: =SUM(P25:P38) -> 4850 | Q39: =SUM(Q25:Q38) -> 0
A41: 水俣市 | B41: 3 | C41: 水俣・津奈木 | D41: 1010 | O41: 水俣AMNNi | P41: 2600
A42: ※
A51: ■地区枚数■ | B51: =D53+G53+J53+M53+P53 -> 3610
A53: ■配布枚数■ | B53: =E53+H53+K53+N53+Q53 -> 0 | C53: ◆小 計◆ | D53: =SUM(D41:D52) -> 1010 | E53: =SUM(E41:E52) -> 0 | F53: ◆小 計◆ | G53: =SUM(G41:G52) -> 0 | H53: =SUM(H41:H52) -> 0 | I53: ◆小 計◆ | L53: ◆小 計◆ | M53: =SUM(M41:M52) -> 0 | N53: =SUM(N41:N52) -> 0 | O53: ◆小 計◆ | P53: =SUM(P41:P52) -> 2600 | Q53: =SUM(Q41:Q52) -> 0

Sheet 芦北郡・八代市郡
B1: 熊本営業所 | F1: 熊 本 県 コード ４３
M2: 46296 | O2: 大分折込株式会社
A4: スポンサー名 | F4: タイトル | I4: 請求先 | K4: 折 込 日 | N4: サイズ | O4: 枚 数 | R4: センター名 | T4: No.
K5: 年 月 日 曜 | O5: =山鹿市・玉名市郡・荒尾市!O5 -> 0
Q6: 枚
B9: 銘 柄 | C9: 読 売 | F9: 朝 日 | I9: 毎 日 | L9: 西 日 本 | O9: 熊 日
C10: コード ０１ | F10: コード ０２ | I10: コード ０３ | L10: コード ０８ | O10: コード ７８
A11: 市郡区 | C11: 店 名 | D11: 枚 数 | E11: 配 布 | F11: 店 名 | G11: 枚 数 | H11: 配 布 | I11: 店 名 | J11: 枚 数 | K11: 配 布 | L11: 店 名 | M11: 枚 数 | N11: 配 布 | O11: 店 名 | P11: 枚 数 | Q11: 配 布 | R11: 店 名 | S11: 枚 数 | T11: 配 布
A12: 芦北郡 | B12: 4 | C12: 芦北・球磨川AMN | D12: 440 | O12: 田ノ浦AMNi | P12: 780
A13: ※ | O13: 佐敷Ni | P13: 760
O14: 湯の浦AMNi | P14: 660
O15: 水俣北部ANNi | P15: 1060
O16: 白石AMNi | P16: 320
A23: ■地区枚数■ | B23: =D25+G25+J25+M25+P25 -> 4020
A25: ■配布枚数■ | B25: =E25+H25+K25+N25+Q25 -> 0 | C25: ◆小 計◆ | D25: =SUM(D12:D24) -> 440 | E25: =SUM(E12:E24) -> 0 | F25: ◆小 計◆ | G25: =SUM(G12:G24) -> 0 | H25: =SUM(H12:H24) -> 0 | I25: ◆小 計◆ | L25: ◆小 計◆ | O25: ◆小 計◆ | P25: =SUM(P12:P24) -> 3580 | Q25: =SUM(Q12:Q24) -> 0
A27: 八代市八代郡 | B27: 5 | C27: 八代中央 | D27: 860 | O27: 八代西AMNNi | P27: 4570
A28: ※ | C28: 八代西 | D28: 800 | O28: 八代南AMNNi | P28: 1880
C29: 新八代 | D29: 630 | O29: 八代東AMNNi | P29: 1830
C30: 八代南･日奈久 | D30: 160 | O30: 八代高田･日奈久AMNNi | P30: 1680
C31: 鏡 | D31: 220 | O31: 宮原YAMNNi | P31: 1390
O32: 千丁AMNNi | P32: 1400
O33: 妙見坂本(合) | P33: 1000
O34: 鏡AMNNi | P34: 2260
A46: ■地区枚数■ | B46: =D48+G48+J48+M48+P48 -> 18680
A48: ■配布枚数■ | B48: =E48+H48+K48+N48+Q48 -> 0 | C48: ◆小 計◆ | D48: =SUM(D27:D47) -> 2670 | E48: =SUM(E27:E47) -> 0 | F48: ◆小 計◆ | G48: =SUM(G27:G47) -> 0 | H48: =SUM(H27:H47) -> 0 | I48: ◆小 計◆ | J48: =SUM(J27:J47) -> 0 | K48: =SUM(K27:K47) -> 0 | L48: ◆小 計◆ | M48: =SUM(M27:M47) -> 0 | N48: =SUM(N27:N47) -> 0 | P48: =SUM(P27:P47) -> 16010 | Q48: =SUM(Q27:Q47) -> 0
C63: 2005年 8月 1日、八代市、八代郡坂本村・千丁町・鏡町・東陽村・泉村が合併したことにより、市郡区が八代市に変更になります。

Sheet 天草市郡・上天草市・宇城市
B1: 熊本営業所 | F1: 熊 本 県 コード ４３
M2: 46296 | O2: 大分折込株式会社
A4: スポンサー名 | F4: タイトル | I4: 請求先 | K4: 折 込 日 | N4: サイズ | O4: 枚 数 | R4: センター名 | T4: No.
K5: 年 月 日 曜 | O5: =山鹿市・玉名市郡・荒尾市!O5 -> 0
Q6: 枚
B9: 銘 柄 | C9: 読 売 | F9: 朝 日 | I9: 毎 日 | L9: 西 日 本 | O9: 熊 日
C10: コード ０１ | F10: コード ０２ | I10: コード ０３ | L10: コード ０８ | O10: コード ７８
A11: 市郡区 | C11: 店 名 | D11: 枚 数 | E11: 配 布 | F11: 店 名 | G11: 枚 数 | H11: 配 布 | I11: 店 名 | J11: 枚 数 | K11: 配 布 | L11: 店 名 | M11: 枚 数 | N11: 配 布 | O11: 店 名 | P11: 枚 数 | Q11: 配 布 | R11: 店 名 | S11: 枚 数 | T11: 配 布
A12: 天草市・天草郡 | B12: 7 | C12: 本渡中央 | D12: 600 | F12: 富岡 | G12: 110 | O12: 本渡AMNNNi | P12: 3390
C13: 本渡北 | D13: 650 | O13: 本渡東AMNNNi | P13: 1530
C14: 牛深 | D14: 150 | O14: 新和AMNNNi | P14: 420
O15: 有明YAMNi | P15: 900
O16: 五和AMNNi | P16: 1020
O17: 河浦YAMNi | P17: 680
O18: 天草西YAMNi | P18: 1450
O19: 栖本AMNi | P19: 340
O20: 倉岳AMNi | P20: 380
O21: 牛深AMNNNi | P21: 1430
A30: ■地区枚数■ | B30: =D32+G32+J32+M32+P32 -> 13050
A32: ■配布枚数■ | B32: =E32+H32+K32+N32+Q32 -> 0 | C32: ◆小 計◆ | D32: =SUM(D12:D31) -> 1400 | E32: =SUM(E12:E31) -> 0 | F32: ◆小 計◆ | G32: =SUM(G12:G31) -> 110 | H32: =SUM(H12:H31) -> 0 | I32: ◆小 計◆ | J32: =SUM(J12:J31) -> 0 | K32: =SUM(K12:K31) -> 0 | L32: ◆小 計◆ | M32: =SUM(M12:M31) -> 0 | N32: =SUM(N12:N31) -> 0 | O32: ◆小 計◆ | P32: =SUM(P12:P31) -> 11540 | Q32: =SUM(Q12:Q31) -> 0
A34: 上天草市 | B34: 8 | C34: 上天草 | D34: 30 | O34: 大矢野(合) | P34: 1670
O35: 松島(合) | P35: 960
O36: 姫戸AMNNi | P36: 820
O37: 御所浦 | P37: 230
A40: ■地区枚数■ | B40: =D42+G42+J42+M42+P42 -> 3710
A42: ■配布枚数■ | B42: =E42+H42+K42+N42+Q42 -> 0 | C42: ◆小 計◆ | D42: =SUM(D34:D41) -> 30 | E42: =SUM(E34:E41) -> 0 | F42: ◆小 計◆ | I42: ◆小 計◆ | L42: ◆小 計◆ | O42: ◆小 計◆ | P42: =SUM(P34:P41) -> 3680 | Q42: =SUM(Q34:Q41) -> 0
A44: 宇城市 | B44: 10 | C44: 小川 | D44: 280 | O44: 不知火AMNNi | P44: 1310
A45: ※ | C45: 松橋 | D45: 470 | O45: 三角・松合(合) | P45: 1450
O46: 松橋東AMNNi | P46: 1470
O47: 松橋西AMNNi | P47: 1520
O48: 豊野(合) | P48: 1320
O49: 小川北AMNi | P49: 1090
O50: 小川南AMNNi | P50: 880
A55: ■地区枚数■ | B55: =D57+G57+J57+M57+P57 -> 9790
A57: ■配布枚数■ | B57: =E57+H57+K57+N57+Q57 -> 0 | C57: ◆小 計◆ | D57: =SUM(D44:D56) -> 750 | E57: =SUM(E44:E56) -> 0 | F57: ◆小 計◆ | G57: =SUM(G44:G56) -> 0 | H57: =SUM(H44:H56) -> 0 | I57: ◆小 計◆ | J57: =SUM(J44:J56) -> 0 | K57: =SUM(K44:K56) -> 0 | L57: ◆小 計◆ | O57: ◆小 計◆ | P57: =SUM(P44:P56) -> 9040 | Q57: =SUM(Q44:Q56) -> 0
C63: 2004年 3月31日、天草郡大矢野町･松島町･姫戸町･龍ヶ岳町が合併したことにより、市郡区が上天草市に変更になります。
C64: 2005年 1月15日、宇土郡三角町・不知火町、下益城郡松橋町・小川町・豊野町が合併したことにより、市郡区が宇城市に変更になります。
C65: 2006年 3月27日、本渡市、牛深市、天草郡有明町・御所浦町・倉岳町・栖本町・新和町・五和町・天草町・河浦町が合併したことにより、市郡区が天草市に変更になります。

Sheet 宇土市・上下益城郡
B1: 熊本営業所 | F1: 熊 本 県 コード ４３
M2: 46296 | O2: 大分折込株式会社
A4: スポンサー名 | F4: タイトル | I4: 請求先 | K4: 折 込 日 | N4: サイズ | O4: 枚 数 | R4: センター名 | T4: No.
K5: 年 月 日 曜 | O5: =山鹿市・玉名市郡・荒尾市!O5 -> 0
Q6: 枚
B9: 銘 柄 | C9: 読 売 | F9: 朝 日 | I9: 毎 日 | L9: 西 日 本 | O9: 熊 日
C10: コード ０１ | F10: コード ０２ | I10: コード ０３ | L10: コード ０８ | O10: コード ７８
A11: 市郡区 | C11: 店 名 | D11: 枚 数 | E11: 配 布 | F11: 店 名 | G11: 枚 数 | H11: 配 布 | I11: 店 名 | J11: 枚 数 | K11: 配 布 | L11: 店 名 | M11: 枚 数 | N11: 配 布 | O11: 店 名 | P11: 枚 数 | Q11: 配 布 | R11: 店 名 | S11: 枚 数 | T11: 配 布
A12: 宇土市 | B12: 11 | C12: ＊宇土中央 | D12: 380 | O12: ＊宇土北AMNNNi | P12: 1320
O13: ＊宇土西AMNNNi | P13: 430
O14: ＊宇土AMNNi | P14: 2990
A20: ■地区枚数■ | B20: =D22+G22+J22+M22+P22 -> 5120
A22: ■配布枚数■ | B22: =E22+H22+K22+N22+Q22 -> 0 | C22: ◆小 計◆ | D22: =SUM(D12:D21) -> 380 | E22: =SUM(E12:E21) -> 0 | F22: ◆小 計◆ | G22: =SUM(G12:G21) -> 0 | H22: =SUM(H12:H21) -> 0 | I22: ◆小 計◆ | L22: ◆小 計◆ | M22: =SUM(M12:M21) -> 0 | N22: =SUM(N12:N21) -> 0 | O22: ◆小 計◆ | P22: =SUM(P12:P21) -> 4740 | Q22: =SUM(Q12:Q21) -> 0
A24: 下益城郡 | B24: 12 | O24: 砥用・甲佐YAMNNi | P24: 1450
A25: ※
A36: ■地区枚数■ | B36: =D38+G38+J38+M38+P38 -> 1450
A38: ■配布枚数■ | B38: =E38+H38+K38+N38+Q38 -> 0 | C38: ◆小 計◆ | D38: =SUM(D24:D37) -> 0 | E38: =SUM(E24:E37) -> 0 | F38: ◆小 計◆ | I38: ◆小 計◆ | L38: ◆小 計◆ | O38: ◆小 計◆ | P38: =SUM(P24:P37) -> 1450 | Q38: =SUM(Q24:Q37) -> 0
A40: 上益城郡 | B40: 13 | C40: ＊御船 | D40: 360 | O40: ＊嘉島YAMNNi | P40: 2240
O41: ＊御船AMNNi | P41: 1940
O42: ＊矢部(合) | P42: 1590
O43: 秋津東YAMNNi | P43: 3760
O44: ＊蘇陽・清和YAMNi | P44: 880
A56: ■地区枚数■ | B56: =D58+G58+J58+M58+P58 -> 10770
A58: ■配布枚数■ | B58: =E58+H58+K58+N58+Q58 -> 0 | C58: ◆小 計◆ | D58: =SUM(D40:D57) -> 360 | E58: =SUM(E40:E57) -> 0 | F58: ◆小 計◆ | G58: =SUM(G40:G57) -> 0 | H58: =SUM(H40:H57) -> 0 | I58: ◆小 計◆ | L58: ◆小 計◆ | O58: ◆小 計◆ | P58: =SUM(P40:P57) -> 10410 | Q58: =SUM(Q40:Q57) -> 0
C63: 2005年 2月11日、阿蘇郡蘇陽町、上益城郡矢部町・清和村が合併したことにより、市郡区が上益城郡に変更になります。

Sheet 熊本市
B1: 熊本営業所 | F1: 熊 本 県 コード ４３
M2: 46296 | O2: 大分折込株式会社
A4: スポンサー名 | F4: タイトル | I4: 請求先 | K4: 折 込 日 | N4: サイズ | O4: 枚 数 | R4: センター名 | T4: No.
K5: 年 月 日 曜 | O5: =山鹿市・玉名市郡・荒尾市!O5 -> 0
Q6: 枚
B9: 銘 柄 | C9: 読 売 | F9: 朝 日 | I9: 毎 日 | L9: 西 日 本 | O9: 熊 日 | R9: 日 経
C10: コード ０１ | F10: コード ０２ | I10: コード ０３ | L10: コード ０８ | O10: コード ７８ | R10: コード ０５
A11: 市郡区 | C11: 店 名 | D11: 枚 数 | E11: 配 布 | F11: 店 名 | G11: 枚 数 | H11: 配 布 | I11: 店 名 | J11: 枚 数 | K11: 配 布 | L11: 店 名 | M11: 枚 数 | N11: 配 布 | O11: 店 名 | P11: 枚 数 | Q11: 配 布 | R11: 店 名 | S11: 枚 数 | T11: 配 布
A12: 熊本市 | B12: 14 | C12: 北熊本 | D12: 480 | F12: 帯山N | G12: 590 | O12: 新南部・龍田MNi | P12: 4060
C13: 清水・麻生田 | D13: 310 | F13: 水前寺N | G13: 420 | O13: 新地Ni | P13: 2010
C14: 立田 | D14: 420 | F14: 健軍NNi | G14: 930 | O14: 清水Ni | P14: 1930
C15: 光の森 | D15: 810 | F15: 近見川尻N | G15: 340 | O15: 武蔵ヶ丘MNi | P15: 1420
C16: 菊陽東 | D16: 180 | F16: 新屋敷・渡鹿N | G16: 440 | O16: 大江MNi | P16: 2020
C17: 合志･須屋 | D17: 380 | F17: 託麻・長嶺N | G17: 360 | O17: 新町・花園MNi | P17: 3640
C18: 龍南 | D18: 290 | F18: 黒髪・清水N | G18: 770 | O18: 池田MNi | P18: 2250
C19: 池田・徳王 | D19: 200 | F19: 光の森・竜田N | G19: 1230 | O19: 京町台Ni | P19: 1230
C20: 上くまもと・花園 | D20: 200 | F20: 京町坪井MN | G20: 520 | O20: 平成南熊本MNi | P20: 3580
C21: 横手新町 | D21: 200 | F21: 西熊本MN | G21: 1290 | O21: 中央北MNi | P21: 1250
C22: 中央 | D22: 200 | F22: 八王寺N | G22: 1250 | O22: 中央南MNi | P22: 1000
C23: 本山・世安 | D23: 500 | F23: 清水西MN | G23: 370 | O23: 黒髪MNi | P23: 1290
C24: 田崎城山 | D24: 950 | O24: 熊本駅西MNi | P24: 1580
C25: 長嶺・託麻 | D25: 520 | O25: 熊本駅前MNi | P25: 3120
C26: 帯山･尾ノ上 | D26: 420 | O26: 西部MNNi | P26: 1690
C27: 健軍北 | D27: 350 | O27: 河内YAMNi | P27: 1040
C28: 健軍 | D28: 400 | O28: 飽田東･中島MNi | P28: 1810
C29: 健軍にし | D29: 370 | O29: 近見力合･川尻AMNNi | P29: 4260
C30: 九品寺・大江 | D30: 580 | O30: 川尻南AMNNi | P30: 1200
C31: 水前寺・出水 | D31: 1010 | O31: 清水西AMNi | P31: 2780
C32: 田迎御幸 | D32: 620 | O32: 健軍MNi | P32: 1860
C33: 近見川尻 | D33: 1000 | O33: 秋津MNi | P33: 2230
C34: 秋津 | D34: 310 | O34: 小峯MNi | P34: 3520
C35: 植木 | D35: 470 | O35: 御領・託麻東MNi | P35: 2510
C36: ＊城南 | D36: 420 | O36: 健軍東MNi | P36: 1700
O37: 帯山MNi | P37: 2580
O38: 東水前寺MNi | P38: 1930
O39: 託麻西MNi | P39: 1960
O40: 保田窪MNi | P40: 1690
O41: 水前寺MNi | P41: 3180
O42: 江津MNi | P42: 1790
O43: 田迎御幸MNi | P43: 3140
O44: 新屋敷・渡鹿MNi | P44: 1960
O45: 出水南MNi | P45: 1960
O46: ＊植木AMNNi | P46: 2380
O47: ＊植木西AMNi | P47: 1090
O48: ＊植木北(合) | P48: 1190
... O50: ＊城南町南ANi | P50: 680
A58: ■地区枚数■ | B58: =D60+G60+J60+M60+P60+S60 -> 102810
A60: ■配布枚数■ | B60: =E60+H60+K60+T60+N60+Q60 -> 0 | C60: ◆小 計◆ | D60: =SUM(D12:D59) -> 11590 | E60: =SUM(E12:E59) -> 0 | F60: ◆小 計◆ | G60: =SUM(G12:G59) -> 8510 | H60: =SUM(H12:H59) -> 0 | I60: ◆小 計◆ | J60: =SUM(J12:J59) -> 0 | K60: =SUM(K12:K59) -> 0 | L60: ◆小 計◆ | M60: =SUM(M12:M59) -> 0 | N60: =SUM(N12:N59) -> 0 | O60: ◆小 計◆ | P60: =SUM(P12:P59) -> 82710 | Q60: =SUM(Q12:Q59) -> 0 | R60: ◆小 計◆ | S60: =SUM(S12:S59) -> 0 | T60: =SUM(T12:T59) -> 0
C63: 2010年 3月23日、下益城郡城南町、鹿本郡植木町、熊本市が合併したことにより、市郡区が熊本市に変更になります。

Sheet 合志市・菊池市郡・阿蘇市郡
B1: 熊本営業所 | F1: 熊 本 県 コード ４３
M2: 46296 | O2: 大分折込株式会社
A4: スポンサー名 | F4: タイトル | I4: 請求先 | K4: 折 込 日 | N4: サイズ | O4: 枚 数 | R4: センター名 | T4: No.
K5: 年 月 日 曜 | O5: =山鹿市・玉名市郡・荒尾市!O5 -> 0
Q6: 枚
B9: 銘 柄 | C9: 読 売 | F9: 朝 日 | I9: 毎 日 | L9: 西 日 本 | O9: 熊 日
C10: コード ０１ | F10: コード ０２ | I10: コード ０３ | L10: コード ０８ | O10: コード ７８
A11: 市郡区 | C11: 店 名 | D11: 枚 数 | E11: 配 布 | F11: 店 名 | G11: 枚 数 | H11: 配 布 | I11: 店 名 | J11: 枚 数 | K11: 配 布 | L11: 店 名 | M11: 枚 数 | N11: 配 布 | O11: 店 名 | P11: 枚 数 | Q11: 配 布 | R11: 店 名 | S11: 枚 数 | T11: 配 布
A12: 合志市菊池郡 | B12: 21 | F12: 武蔵北・須屋NN | G12: 320 | O12: 武蔵台MNi | P12: 2680
O13: 須屋MNi | P13: 2030
O14: 西合志AMNNNi | P14: 1950
O15: 菊陽AMNNi | P15: 2060
O16: 武蔵丘東AMNNi | P16: 890
O17: ＊大津南(合) | P17: 2360
O18: ＊大津北(合) | P18: 3110
A22: ■地区枚数■ | B22: =D24+G24+J24+M24+P24 -> 15400
A24: ■配布枚数■ | B24: =E24+H24+K24+N24+Q24 -> 0 | C24: ◆小 計◆ | D24: =SUM(D12:D23) -> 0 | E24: =SUM(E12:E23) -> 0 | F24: ◆小 計◆ | G24: =SUM(G12:G23) -> 320 | H24: =SUM(H12:H23) -> 0 | I24: ◆小 計◆ | O24: ◆小 計◆ | P24: =SUM(P12:P23) -> 15080 | Q24: =SUM(Q12:Q23) -> 0
A26: 菊池市 | B26: 22 | O26: 菊池(合) | P26: 2980
A27: ※ | O27: 泗水(合) | P27: 2790
O28: 七城(合) | P28: 1360
A32: ■地区枚数■ | B32: =D34+G34+J34+M34+P34 -> 7130
A34: ■配布枚数■ | B34: =E34+H34+K34+N34+Q34 -> 0 | C34: ◆小 計◆ | D34: =SUM(D26:D33) -> 0 | E34: =SUM(E26:E33) -> 0 | F34: ◆小 計◆ | G34: =SUM(G26:G33) -> 0 | H34: =SUM(H26:H33) -> 0 | I34: ◆小 計◆ | J34: =SUM(J26:J33) -> 0 | K34: =SUM(K26:K33) -> 0 | O34: ◆小 計◆ | P34: =SUM(P26:P33) -> 7130 | Q34: =SUM(Q26:Q33) -> 0
A36: 阿蘇市阿蘇郡 | B36: 23 | C36: 阿蘇内牧 | D36: 50 | O36: 赤水(合) | P36: 970
A37: ※ | O37: 内の牧AMNNNi | P37: 1310
O38: 阿蘇中央(合) | P38: 750
O39: 小国YAMNNNi | P39: 1460
O40: 宮地(合) | P40: 1790
O41: 久木野YAMNi | P41: 690
O42: 白水YAMNi | P42: 390
O43: 高森(合) | P43: 800
O44: 高森東 | P44: 180
A47: ■地区枚数■ | B47: =D49+G49+J49+M49+P49 -> 8390
A49: ■配布枚数■ | B49: =E49+H49+K49+N49+Q49 -> 0 | C49: ◆小 計◆ | D49: =SUM(D36:D48) -> 50 | E49: =SUM(E36:E48) -> 0 | F49: ◆小 計◆ | I49: ◆小 計◆ | L49: ◆小 計◆ | O49: ◆小 計◆ | P49: =SUM(P36:P48) -> 8340 | Q49: =SUM(Q36:Q48) -> 0
C63: 2005年 2月11日、阿蘇郡一の宮町・阿蘇町・波野村が合併したことにより、販売店の市郡区が阿蘇市に変更になります。
C64: 2005年 3月22日、菊池市、菊池郡七城町・旭志村、泗水町が合併したことにより、販売店の市郡区が菊池市に変更になります。
C65: 2006年 2月27日、菊池郡合志町・西合志町が合併したことにより、販売店の市郡区が合志市に変更になります。

Sheet 山鹿市・玉名市郡・荒尾市
B1: 熊本営業所 | F1: 熊 本 県 コード ４３
M2: 46296 | O2: 大分折込株式会社
A4: スポンサー名 | F4: タイトル | I4: 請求先 | K4: 折 込 日 | N4: サイズ | O4: 枚 数 | R4: センター名 | T4: No.
K5: 年 月 日 曜 | O5: =人吉市・球磨郡・水俣市!B23+人吉市・球磨郡・水俣市!B39+人吉市・球磨郡・水俣市!B53+芦北郡・八代市郡!B25+芦北郡・八代市郡!B48+天草市郡・上天草市・宇城市!B32+天草市郡・上天草市・宇城市!B42+天草市郡・上天草市・宇城市!B57+宇土市・上下益城郡!B22+宇土市・上下益城郡!B38+宇土市・上下益城郡!B58+熊本市!B60+合志市・菊池市郡・阿蘇市郡!B24+合志市・菊池市郡・阿蘇市郡!B34+合志市・菊池市郡・阿蘇市郡!B49+山鹿市・玉名市郡・荒尾市!B18+山鹿市・玉名市郡・荒尾市!B30+山鹿市・玉名市郡・荒尾市!B42+山鹿市・玉名市郡・荒尾市!B50 -> 0
Q6: 枚
B9: 銘 柄 | C9: 読 売 | F9: 朝 日 | I9: 毎 日 | L9: 西 日 本 | O9: 熊 日
C10: コード ０１ | F10: コード ０２ | I10: コード ０３ | L10: コード ０８ | O10: コード ７８
A11: 市郡区 | C11: 店 名 | D11: 枚 数 | E11: 配 布 | F11: 店 名 | G11: 枚 数 | H11: 配 布 | I11: 店 名 | J11: 枚 数 | K11: 配 布 | L11: 店 名 | M11: 枚 数 | N11: 配 布 | O11: 店 名 | P11: 枚 数 | Q11: 配 布 | R11: 店 名 | S11: 枚 数 | T11: 配 布
A12: 山鹿市 | B12: 25 | C12: 山鹿 | D12: 760 | O12: 山鹿南AMNNi | P12: 1740
A13: ※ | O13: 山鹿北AMNNi | P13: 2420
O14: 来民AMNNi | P14: 1860
O15: 山鹿東YAMNi | P15: 540
A17: ■地区枚数■ | B17: =$D$18+$G$18+$J$18+$M$18+$P$18 -> 7320
A18: ■配布枚数■ | B18: =E18+H18+K18+N18+Q18 -> 0 | C18: ◆小 計◆ | D18: =SUM(D12:D17) -> 760 | E18: =SUM(E12:E17) -> 0 | F18: ◆小 計◆ | G18: =SUM(G12:G17) -> 0 | H18: =SUM(H12:H17) -> 0 | I18: ◆小 計◆ | J18: =SUM(J12:J17) -> 0 | K18: =SUM(K12:K17) -> 0 | L18: ◆小 計◆ | M18: =SUM(M12:M17) -> 0 | N18: =SUM(N12:N17) -> 0 | O18: ◆小 計◆ | P18: =SUM(P12:P17) -> 6560 | Q18: =SUM(Q12:Q17) -> 0
A20: 玉名郡 | B20: 26 | C20: 長洲 | D20: 460 | O20: 玉東(合) | P20: 1390
A21: ※ | O21: 菊水(合) | P21: 1190
O22: 長洲AMNNi | P22: 1730
O23: 南関(合) | P23: 1230
O24: 三加和YAMNNi | P24: 730
A28: ■地区枚数■ | B28: =D30+G30+J30+M30+P30 -> 6730
A30: ■配布枚数■ | B30: =E30+H30+K30+N30+Q30 -> 0 | C30: ◆小 計◆ | D30: =SUM(D20:D29) -> 460 | E30: =SUM(E20:E29) -> 0 | F30: ◆小 計◆ | G30: =SUM(G20:G29) -> 0 | H30: =SUM(H20:H29) -> 0 | I30: ◆小 計◆ | J30: =SUM(J20:J29) -> 0 | K30: =SUM(K20:K29) -> 0 | L30: ◆小 計◆ | M30: =SUM(M20:M29) -> 0 | N30: =SUM(N20:N29) -> 0 | O30: ◆小 計◆ | P30: =SUM(P20:P29) -> 6270 | Q30: =SUM(Q20:Q29) -> 0
A32: 玉名市 | B32: 27 | C32: 玉名北 | D32: 370 | O32: 玉名南(合) | P32: 1420
A33: ※ | C33: 玉名西・岱明 | D33: 960 | O33: 玉名東AMNNi | P33: 1060
C34: 玉名東 | D34: 290 | O34: 玉名西AMNNi | P34: 2500
O35: 玉名中央AMNNi | P35: 1140
O36: 岱明AMNNi | P36: 1470
O37: 天水YAMNi | P37: 1000
A40: ■地区枚数■ | B40: =D42+G42+J42+M42+P42 -> 10210
A42: ■配布枚数■ | B42: =E42+H42+K42+N42+Q42 -> 0 | C42: ◆小 計◆ | D42: =SUM(D32:D41) -> 1620 | E42: =SUM(E32:E41) -> 0 | F42: ◆小 計◆ | G42: =SUM(G32:G41) -> 0 | H42: =SUM(H32:H41) -> 0 | I42: ◆小 計◆ | J42: =SUM(J32:J41) -> 0 | K42: =SUM(K32:K41) -> 0 | L42: ◆小 計◆ | M42: =SUM(M32:M41) -> 0 | N42: =SUM(N32:N41) -> 0 | O42: ◆小 計◆ | P42: =SUM(P32:P41) -> 8590 | Q42: =SUM(Q32:Q41) -> 0
A44: 荒尾市 | B44: 28 | C44: Ｙ荒尾 | D44: 2410 | O44: 荒尾AMNNi | P44: 3040
A45: ※ | O45: 荒尾南AMNNi | P45: 930
A48: ■地区枚数■ | B48: =D50+G50+J50+M50+P50 -> 6380
A50: ■配布枚数■ | B50: =E50+H50+K50+N50+Q50 -> 0 | C50: ◆小 計◆ | D50: =SUM(D44:D49) -> 2410 | E50: =SUM(E44:E49) -> 0 | F50: ◆小 計◆ | G50: =SUM(G44:G49) -> 0 | H50: =SUM(H44:H49) -> 0 | I50: ◆小 計◆ | J50: =SUM(J44:J49) -> 0 | K50: =SUM(K44:K49) -> 0 | L50: ◆小 計◆ | M50: =SUM(M44:M49) -> 0 | N50: =SUM(N44:N49) -> 0 | O50: ◆小 計◆ | P50: =SUM(P44:P49) -> 3970 | Q50: =SUM(Q44:Q49) -> 0
C63: 2005年 1月15日、山鹿市、鹿本郡鹿北町・菊鹿町・鹿本町・鹿央町が合併したことにより、販売店の市郡区が山鹿市に変更になります。
C64: 2005年10月 3日、玉名市、玉名郡岱明町・横島町・天水町が合併したことにより、販売店の市郡区が玉名市に変更になります。
