Workbook

Sheet 集計
D1: 佐 賀 県 コード ４１
N3: 46296 | P3: 大分折込株式会社
A5: 市・郡・区 | B5: コード № | D5: 読 売 | F5: 朝 日 | H5: 毎 日 | J5: 西 日 本 | L5: 佐 賀 | N5: 日 経 | P5: 枚数計 | Q5: 配布計 | R5: ページ | S5: 26.01
D6: 枚数 | E6: 配布 | F6: 枚数 | G6: 配布 | H6: 枚数 | I6: 配布 | J6: 枚数 | K6: 配布 | L6: 枚数 | M6: 配布 | N6: 枚数 | O6: 配布 | S6: 世帯数
A7: 藤津郡 | B7: ０１ | C7: 枚 数 | D7: =藤津郡・嬉野市・鹿島市・杵島郡・武雄市・多久市・小城市!$D$16 -> 0 | E7: =藤津郡・嬉野市・鹿島市・杵島郡・武雄市・多久市・小城市!$E$16 -> 0 | F7: =藤津郡・嬉野市・鹿島市・杵島郡・武雄市・多久市・小城市!$G$16 -> 0 | G7: =藤津郡・嬉野市・鹿島市・杵島郡・武雄市・多久市・小城市!$H$16 -> 0 | H7: =藤津郡・嬉野市・鹿島市・杵島郡・武雄市・多久市・小城市!$J$16 -> 0 | I7: =藤津郡・嬉野市・鹿島市・杵島郡・武雄市・多久市・小城市!$K$16 -> 0 | J7: =藤津郡・嬉野市・鹿島市・杵島郡・武雄市・多久市・小城市!$M$16 -> 0 | K7: =藤津郡・嬉野市・鹿島市・杵島郡・武雄市・多久市・小城市!$N$16 -> 0 | L7: =藤津郡・嬉野市・鹿島市・杵島郡・武雄市・多久市・小城市!$P$16 -> 1625 | M7: =藤津郡・嬉野市・鹿島市・杵島郡・武雄市・多久市・小城市!$Q$16 -> 0 | N7: =藤津郡・嬉野市・鹿島市・杵島郡・武雄市・多久市・小城市!$S$16 -> 0 | O7: =藤津郡・嬉野市・鹿島市・杵島郡・武雄市・多久市・小城市!$T$16 -> 0 | P7: =SUM(D7,F7,H7,J7,L7,N7) -> 1625 | Q7: =SUM(E7,G7,I7,K7,M7,O7) -> 0 | R7: 1 | S7: 3182
A8: 嬉野市 | B8: ０１ | C8: 枚 数 | D8: =藤津郡・嬉野市・鹿島市・杵島郡・武雄市・多久市・小城市!$D$22 -> 575 | E8: =藤津郡・嬉野市・鹿島市・杵島郡・武雄市・多久市・小城市!$E$22 -> 0 | F8: =藤津郡・嬉野市・鹿島市・杵島郡・武雄市・多久市・小城市!$G$22 -> 0 | G8: =藤津郡・嬉野市・鹿島市・杵島郡・武雄市・多久市・小城市!$H$22 -> 0 | H8: =藤津郡・嬉野市・鹿島市・杵島郡・武雄市・多久市・小城市!$J$22 -> 0 | I8: =藤津郡・嬉野市・鹿島市・杵島郡・武雄市・多久市・小城市!$K$22 -> 0 | J8: =藤津郡・嬉野市・鹿島市・杵島郡・武雄市・多久市・小城市!$M$22 -> 1175 | K8: =藤津郡・嬉野市・鹿島市・杵島郡・武雄市・多久市・小城市!$N$22 -> 0 | L8: =藤津郡・嬉野市・鹿島市・杵島郡・武雄市・多久市・小城市!$P$22 -> 3445 | M8: =藤津郡・嬉野市・鹿島市・杵島郡・武雄市・多久市・小城市!$Q$22 -> 0 | N8: =藤津郡・嬉野市・鹿島市・杵島郡・武雄市・多久市・小城市!$S$22 -> 0 | O8: =藤津郡・嬉野市・鹿島市・杵島郡・武雄市・多久市・小城市!$T$22 -> 0 | P8: =SUM(D8,F8,H8,J8,L8,N8) -> 5195 | Q8: =SUM(E8,G8,I8,K8,M8,O8) -> 0 | R8: 1 | S8: 10118
A9: 鹿島市 | B9: ０２ | C9: 枚 数 | D9: =藤津郡・嬉野市・鹿島市・杵島郡・武雄市・多久市・小城市!$D$28 -> 0 | E9: =藤津郡・嬉野市・鹿島市・杵島郡・武雄市・多久市・小城市!$E$28 -> 0 | F9: =藤津郡・嬉野市・鹿島市・杵島郡・武雄市・多久市・小城市!$G$28 -> 0 | G9: =藤津郡・嬉野市・鹿島市・杵島郡・武雄市・多久市・小城市!$H$28 -> 0 | H9: =藤津郡・嬉野市・鹿島市・杵島郡・武雄市・多久市・小城市!$J$28 -> 0 | I9: =藤津郡・嬉野市・鹿島市・杵島郡・武雄市・多久市・小城市!$K$28 -> 0 | J9: =藤津郡・嬉野市・鹿島市・杵島郡・武雄市・多久市・小城市!$M$28 -> 0 | K9: =藤津郡・嬉野市・鹿島市・杵島郡・武雄市・多久市・小城市!$N$28 -> 0 | L9: =藤津郡・嬉野市・鹿島市・杵島郡・武雄市・多久市・小城市!$P$28 -> 5775 | M9: =藤津郡・嬉野市・鹿島市・杵島郡・武雄市・多久市・小城市!$Q$28 -> 0 | N9: =藤津郡・嬉野市・鹿島市・杵島郡・武雄市・多久市・小城市!$S$28 -> 0 | O9: =藤津郡・嬉野市・鹿島市・杵島郡・武雄市・多久市・小城市!$T$28 -> 0 | P9: =SUM(D9,F9,H9,J9,L9,N9) -> 5775 | Q9: =SUM(E9,G9,I9,K9,M9,O9) -> 0 | R9: 1 | S9: 11010
A10: 杵島郡 | B10: ０３ | C10: 枚 数 | D10: =藤津郡・嬉野市・鹿島市・杵島郡・武雄市・多久市・小城市!$D$37 -> 0 | E10: =藤津郡・嬉野市・鹿島市・杵島郡・武雄市・多久市・小城市!$E$37 -> 0 | F10: =藤津郡・嬉野市・鹿島市・杵島郡・武雄市・多久市・小城市!$G$37 -> 0 | G10: =藤津郡・嬉野市・鹿島市・杵島郡・武雄市・多久市・小城市!$H$37 -> 0 | H10: =藤津郡・嬉野市・鹿島市・杵島郡・武雄市・多久市・小城市!$J$37 -> 0 | I10: =藤津郡・嬉野市・鹿島市・杵島郡・武雄市・多久市・小城市!$K$37 -> 0 | J10: =藤津郡・嬉野市・鹿島市・杵島郡・武雄市・多久市・小城市!$M$37 -> 0 | K10: =藤津郡・嬉野市・鹿島市・杵島郡・武雄市・多久市・小城市!$N$37 -> 0 | L10: =藤津郡・嬉野市・鹿島市・杵島郡・武雄市・多久市・小城市!$P$37 -> 8335 | M10: =藤津郡・嬉野市・鹿島市・杵島郡・武雄市・多久市・小城市!$Q$37 -> 0 | N10: =藤津郡・嬉野市・鹿島市・杵島郡・武雄市・多久市・小城市!$S$37 -> 0 | O10: =藤津郡・嬉野市・鹿島市・杵島郡・武雄市・多久市・小城市!$T$37 -> 0 | P10: =SUM(D10,F10,H10,J10,L10,N10) -> 8335 | Q10: =SUM(E10,G10,I10,K10,M10,O10) -> 0 | R10: 1 | S10: 14250
A11: 武雄市 | B11: ０４ | C11: 枚 数 | D11: =藤津郡・嬉野市・鹿島市・杵島郡・武雄市・多久市・小城市!$D$46 -> 720 | E11: =藤津郡・嬉野市・鹿島市・杵島郡・武雄市・多久市・小城市!$E$46 -> 0 | F11: =藤津郡・嬉野市・鹿島市・杵島郡・武雄市・多久市・小城市!$G$46 -> 0 | G11: =藤津郡・嬉野市・鹿島市・杵島郡・武雄市・多久市・小城市!$H$46 -> 0 | H11: =藤津郡・嬉野市・鹿島市・杵島郡・武雄市・多久市・小城市!$J$46 -> 0 | I11: =藤津郡・嬉野市・鹿島市・杵島郡・武雄市・多久市・小城市!$K$46 -> 0 | J11: =藤津郡・嬉野市・鹿島市・杵島郡・武雄市・多久市・小城市!$M$46 -> 0 | K11: =藤津郡・嬉野市・鹿島市・杵島郡・武雄市・多久市・小城市!$N$46 -> 0 | L11: =藤津郡・嬉野市・鹿島市・杵島郡・武雄市・多久市・小城市!$P$46 -> 8690 | M11: =藤津郡・嬉野市・鹿島市・杵島郡・武雄市・多久市・小城市!$Q$46 -> 0 | N11: =藤津郡・嬉野市・鹿島市・杵島郡・武雄市・多久市・小城市!$S$46 -> 0 | O11: =藤津郡・嬉野市・鹿島市・杵島郡・武雄市・多久市・小城市!$T$46 -> 0 | P11: =SUM(D11,F11,H11,J11,L11,N11) -> 9410 | Q11: =SUM(E11,G11,I11,K11,M11,O11) -> 0 | R11: 1 | S11: 19411
A12: 多久市 | B12: ０５ | C12: 枚 数 | D12: =藤津郡・嬉野市・鹿島市・杵島郡・武雄市・多久市・小城市!$D$52 -> 0 | E12: =藤津郡・嬉野市・鹿島市・杵島郡・武雄市・多久市・小城市!$E$52 -> 0 | F12: =藤津郡・嬉野市・鹿島市・杵島郡・武雄市・多久市・小城市!$G$52 -> 100 | G12: =藤津郡・嬉野市・鹿島市・杵島郡・武雄市・多久市・小城市!$H$52 -> 0 | H12: =藤津郡・嬉野市・鹿島市・杵島郡・武雄市・多久市・小城市!$J$52 -> 310 | I12: =藤津郡・嬉野市・鹿島市・杵島郡・武雄市・多久市・小城市!$K$52 -> 0 | J12: =藤津郡・嬉野市・鹿島市・杵島郡・武雄市・多久市・小城市!$M$52 -> 0 | K12: =藤津郡・嬉野市・鹿島市・杵島郡・武雄市・多久市・小城市!$N$52 -> 0 | L12: =藤津郡・嬉野市・鹿島市・杵島郡・武雄市・多久市・小城市!$P$52 -> 3430 | M12: =藤津郡・嬉野市・鹿島市・杵島郡・武雄市・多久市・小城市!$Q$52 -> 0 | N12: =藤津郡・嬉野市・鹿島市・杵島郡・武雄市・多久市・小城市!$S$52 -> 0 | O12: =藤津郡・嬉野市・鹿島市・杵島郡・武雄市・多久市・小城市!$T$52 -> 0 | P12: =SUM(D12,F12,H12,J12,L12,N12) -> 3840 | Q12: =SUM(E12,G12,I12,K12,M12,O12) -> 0 | R12: 1 | S12: 7916
A13: 小城市 | B13: ０６ | C13: 枚 数 | D13: =藤津郡・嬉野市・鹿島市・杵島郡・武雄市・多久市・小城市!$D$59 -> 550 | E13: =藤津郡・嬉野市・鹿島市・杵島郡・武雄市・多久市・小城市!$E$59 -> 0 | F13: =藤津郡・嬉野市・鹿島市・杵島郡・武雄市・多久市・小城市!$G$59 -> 0 | G13: =藤津郡・嬉野市・鹿島市・杵島郡・武雄市・多久市・小城市!$H$59 -> 0 | H13: =藤津郡・嬉野市・鹿島市・杵島郡・武雄市・多久市・小城市!$J$59 -> 0 | I13: =藤津郡・嬉野市・鹿島市・杵島郡・武雄市・多久市・小城市!$K$59 -> 0 | J13: =藤津郡・嬉野市・鹿島市・杵島郡・武雄市・多久市・小城市!$M$59 -> 0 | K13: =藤津郡・嬉野市・鹿島市・杵島郡・武雄市・多久市・小城市!$N$59 -> 0 | L13: =藤津郡・嬉野市・鹿島市・杵島郡・武雄市・多久市・小城市!$P$59 -> 7845 | M13: =藤津郡・嬉野市・鹿島市・杵島郡・武雄市・多久市・小城市!$Q$59 -> 0 | N13: =藤津郡・嬉野市・鹿島市・杵島郡・武雄市・多久市・小城市!$S$59 -> 0 | O13: =藤津郡・嬉野市・鹿島市・杵島郡・武雄市・多久市・小城市!$T$59 -> 0 | P13: =SUM(D13,F13,H13,J13,L13,N13) -> 8395 | Q13: =SUM(E13,G13,I13,K13,M13,O13) -> 0 | R13: 1 | S13: 17858
A14: 佐賀市 | B14: ０８ | C14: 枚 数 | D14: =佐賀市・神埼市郡!$D$45 -> 4420 | E14: =佐賀市・神埼市郡!$E$45 -> 0 | F14: =佐賀市・神埼市郡!$G$45 -> 2215 | G14: =佐賀市・神埼市郡!$H$45 -> 0 | H14: =佐賀市・神埼市郡!$J$45 -> 390 | I14: =佐賀市・神埼市郡!$K$45 -> 0 | J14: =佐賀市・神埼市郡!$M$45 -> 495 | K14: =佐賀市・神埼市郡!$N$45 -> 0 | L14: =佐賀市・神埼市郡!$P$45 -> 47820 | M14: =佐賀市・神埼市郡!$Q$45 -> 0 | N14: =佐賀市・神埼市郡!$S$45 -> 0 | O14: =佐賀市・神埼市郡!$T$45 -> 0 | P14: =SUM(D14,F14,H14,J14,L14,N14) -> 55340 | Q14: =SUM(E14,G14,I14,K14,M14,O14) -> 0 | R14: 2 | S14: 105642
A15: 神埼市 | B15: ０８ | C15: 枚 数 | D15: =佐賀市・神埼市郡!$D$52 -> 410 | E15: =佐賀市・神埼市郡!$E$52 -> 0 | F15: =佐賀市・神埼市郡!$G$52 -> 0 | G15: =佐賀市・神埼市郡!$H$52 -> 0 | H15: =佐賀市・神埼市郡!$J$52 -> 0 | I15: =佐賀市・神埼市郡!$K$52 -> 0 | J15: =佐賀市・神埼市郡!$M$52 -> 0 | K15: =佐賀市・神埼市郡!$N$52 -> 0 | L15: =佐賀市・神埼市郡!$P$52 -> 5305 | M15: =佐賀市・神埼市郡!$Q$52 -> 0 | N15: =佐賀市・神埼市郡!$S$52 -> 0 | O15: =佐賀市・神埼市郡!$T$52 -> 0 | P15: =SUM(D15,F15,H15,J15,L15,N15) -> 5715 | Q15: =SUM(E15,G15,I15,K15,M15,O15) -> 0 | R15: 2 | S15: 12613
A16: 神埼郡 | B16: ０９ | C16: 枚 数 | D16: =佐賀市・神埼市郡!$D$56 -> 930 | E16: =佐賀市・神埼市郡!$E$56 -> 0 | F16: =佐賀市・神埼市郡!$G$56 -> 0 | G16: =佐賀市・神埼市郡!$H$56 -> 0 | H16: =佐賀市・神埼市郡!$J$56 -> 0 | I16: =佐賀市・神埼市郡!$K$56 -> 0 | J16: =佐賀市・神埼市郡!$M$56 -> 0 | K16: =佐賀市・神埼市郡!$N$56 -> 0 | L16: =佐賀市・神埼市郡!$P$56 -> 2020 | M16: =佐賀市・神埼市郡!$Q$56 -> 0 | N16: =佐賀市・神埼市郡!$S$56 -> 0 | O16: =佐賀市・神埼市郡!$T$56 -> 0 | P16: =SUM(D16,F16,H16,J16,L16,N16) -> 2950 | Q16: =SUM(E16,G16,I16,K16,M16,O16) -> 0 | R16: 2 | S16: 6968
A17: 三養基郡 | B17: １０ | C17: 枚 数 | D17: =三養基郡・鳥栖市・西松浦軍・伊万里市!$D$21 -> 1555 | E17: =三養基郡・鳥栖市・西松浦軍・伊万里市!$E$21 -> 0 | F17: =三養基郡・鳥栖市・西松浦軍・伊万里市!$G$21 -> 200 | G17: =三養基郡・鳥栖市・西松浦軍・伊万里市!$H$21 -> 0 | H17: =三養基郡・鳥栖市・西松浦軍・伊万里市!$J$21 -> 0 | I17: =三養基郡・鳥栖市・西松浦軍・伊万里市!$K$21 -> 0 | J17: =三養基郡・鳥栖市・西松浦軍・伊万里市!$M$21 -> 3180 | K17: =三養基郡・鳥栖市・西松浦軍・伊万里市!$N$21 -> 0 | L17: =三養基郡・鳥栖市・西松浦軍・伊万里市!$P$21 -> 2950 | M17: =三養基郡・鳥栖市・西松浦軍・伊万里市!$Q$21 -> 0 | N17: =三養基郡・鳥栖市・西松浦軍・伊万里市!$S$21 -> 0 | O17: =三養基郡・鳥栖市・西松浦軍・伊万里市!$T$21 -> 0 | P17: =SUM(D17,F17,H17,J17,L17,N17) -> 7885 | Q17: =SUM(E17,G17,I17,K17,M17,O17) -> 0 | R17: 3 | S17: 22660
A18: 鳥栖市 | B18: １１ | C18: 枚 数 | D18: =三養基郡・鳥栖市・西松浦軍・伊万里市!$D$32 -> 2480 | E18: =三養基郡・鳥栖市・西松浦軍・伊万里市!$E$32 -> 0 | F18: =三養基郡・鳥栖市・西松浦軍・伊万里市!$G$32 -> 0 | G18: =三養基郡・鳥栖市・西松浦軍・伊万里市!$H$32 -> 0 | H18: =三養基郡・鳥栖市・西松浦軍・伊万里市!$J$32 -> 0 | I18: =三養基郡・鳥栖市・西松浦軍・伊万里市!$K$32 -> 0 | J18: =三養基郡・鳥栖市・西松浦軍・伊万里市!$M$32 -> 5650 | K18: =三養基郡・鳥栖市・西松浦軍・伊万里市!$N$32 -> 0 | L18: =三養基郡・鳥栖市・西松浦軍・伊万里市!$P$32 -> 1820 | M18: =三養基郡・鳥栖市・西松浦軍・伊万里市!$Q$32 -> 0 | N18: =三養基郡・鳥栖市・西松浦軍・伊万里市!$S$32 -> 0 | O18: =三養基郡・鳥栖市・西松浦軍・伊万里市!$T$32 -> 0 | P18: =SUM(D18,F18,H18,J18,L18,N18) -> 9950 | Q18: =SUM(E18,G18,I18,K18,M18,O18) -> 0 | R18: 3 | S18: 34411
A19: 西松浦郡 | B19: １２ | C19: 枚 数 | D19: =三養基郡・鳥栖市・西松浦軍・伊万里市!$D$41 -> 530 | E19: =三養基郡・鳥栖市・西松浦軍・伊万里市!$E$41 -> 0 | F19: =三養基郡・鳥栖市・西松浦軍・伊万里市!$G$41 -> 0 | G19: =三養基郡・鳥栖市・西松浦軍・伊万里市!$H$41 -> 0 | H19: =三養基郡・鳥栖市・西松浦軍・伊万里市!$J$41 -> 0 | I19: =三養基郡・鳥栖市・西松浦軍・伊万里市!$K$41 -> 0 | J19: =三養基郡・鳥栖市・西松浦軍・伊万里市!$M$41 -> 1020 | K19: =三養基郡・鳥栖市・西松浦軍・伊万里市!$N$41 -> 0 | L19: =三養基郡・鳥栖市・西松浦軍・伊万里市!$P$41 -> 2515 | M19: =三養基郡・鳥栖市・西松浦軍・伊万里市!$Q$41 -> 0 | N19: =三養基郡・鳥栖市・西松浦軍・伊万里市!$S$41 -> 0 | O19: =三養基郡・鳥栖市・西松浦軍・伊万里市!$T$41 -> 0 | P19: =SUM(D19,F19,H19,J19,L19,N19) -> 4065 | Q19: =SUM(E19,G19,I19,K19,M19,O19) -> 0 | R19: 3 | S19: 7870
A20: 伊万里市 | B20: １３ | C20: 枚 数 | D20: =三養基郡・鳥栖市・西松浦軍・伊万里市!$D$57 -> 710 | E20: =三養基郡・鳥栖市・西松浦軍・伊万里市!$E$57 -> 0 | F20: =三養基郡・鳥栖市・西松浦軍・伊万里市!$G$57 -> 560 | G20: =三養基郡・鳥栖市・西松浦軍・伊万里市!$H$57 -> 0 | H20: =三養基郡・鳥栖市・西松浦軍・伊万里市!$J$57 -> 0 | I20: =三養基郡・鳥栖市・西松浦軍・伊万里市!$K$57 -> 0 | J20: =三養基郡・鳥栖市・西松浦軍・伊万里市!$M$57 -> 1015 | K20: =三養基郡・鳥栖市・西松浦軍・伊万里市!$N$57 -> 0 | L20: =三養基郡・鳥栖市・西松浦軍・伊万里市!$P$57 -> 7880 | M20: =三養基郡・鳥栖市・西松浦軍・伊万里市!$Q$57 -> 0 | N20: =三養基郡・鳥栖市・西松浦軍・伊万里市!$S$57 -> 0 | O20: =三養基郡・鳥栖市・西松浦軍・伊万里市!$T$57 -> 0 | P20: =SUM(D20,F20,H20,J20,L20,N20) -> 10165 | Q20: =SUM(E20,G20,I20,K20,M20,O20) -> 0 | R20: 3 | S20: 23913
A21: 東松浦郡 | B21: １４ | C21: 枚 数 | D21: =東松浦郡・唐津市!$D$20 -> 0 | E21: =東松浦郡・唐津市!$E$20 -> 0 | F21: =東松浦郡・唐津市!$G$20 -> 0 | G21: =東松浦郡・唐津市!$H$20 -> 0 | H21: =東松浦郡・唐津市!$J$20 -> 0 | I21: =東松浦郡・唐津市!$K$20 -> 0 | J21: =東松浦郡・唐津市!$M$20 -> 0 | K21: =東松浦郡・唐津市!$N$20 -> 0 | L21: =東松浦郡・唐津市!$P$20 -> 955 | M21: =東松浦郡・唐津市!$Q$20 -> 0 | N21: =東松浦郡・唐津市!$S$20 -> 0 | O21: =東松浦郡・唐津市!$T$20 -> 0 | P21: =SUM(D21,F21,H21,J21,L21,N21) -> 955 | Q21: =SUM(E21,G21,I21,K21,M21,O21) -> 0 | R21: 4 | S21: 1869
A22: 唐津市・東松浦郡 | B22: １５ | C22: 枚 数 | D22: =東松浦郡・唐津市!$D$45 -> 1860 | E22: =東松浦郡・唐津市!$E$45 -> 0 | F22: =東松浦郡・唐津市!$G$45 -> 0 | G22: =東松浦郡・唐津市!$H$45 -> 0 | H22: =東松浦郡・唐津市!$J$45 -> 0 | I22: =東松浦郡・唐津市!$K$45 -> 0 | J22: =東松浦郡・唐津市!$M$45 -> 4765 | K22: =東松浦郡・唐津市!$N$45 -> 0 | L22: =東松浦郡・唐津市!$P$45 -> 12125 | M22: =東松浦郡・唐津市!$Q$45 -> 0 | N22: =東松浦郡・唐津市!$S$45 -> 0 | O22: =東松浦郡・唐津市!$T$45 -> 0 | P22: =SUM(D22,F22,H22,J22,L22,N22) -> 18750 | Q22: =SUM(E22,G22,I22,K22,M22,O22) -> 0 | R22: 4 | S22: 51585
A24: 合 計 | C24: 枚 数 | D24: =SUM(D7:D23) -> 14740 | E24: =SUM(E7:E23) -> 0 | F24: =SUM(F7:F23) -> 3075 | G24: =SUM(G7:G23) -> 0 | H24: =SUM(H7:H23) -> 700 | I24: =SUM(I7:I23) -> 0 | J24: =SUM(J7:J23) -> 17300 | K24: =SUM(K7:K23) -> 0 | ... Q24: =SUM(Q7:Q23) -> 0 | S24: =SUM(S7:S23) -> 351276
D25: 福 岡 県 コード ０８
N27: 36130 | P27: 株式会社読売西部 I S
A29: 市・郡・区 | B29: コード № | D29: 読 売 | F29: 朝 日 | H29: 毎 日 | J29: 西 日 本 | L29: 日 経 | P29: 計 | Q29: 世帯数 | R29: ページ
D30: コード | E30: ０１ | F30: コード | G30: ０２ | H30: コード | I30: ０３ | J30: コード | K30: ０４ | L30: コード | M30: ０５ | N30: コード | O30: ００

Sheet 藤津郡・嬉野市・鹿島市・杵島郡・武雄市・多久市・小城市
B1: 佐賀営業所 | F1: 佐賀県コード４１
M2: 46296 | O2: 大分折込株式会社
A4: スポンサー名 | E4: タイトル | I4: 請求先 | K4: 折込日 | N4: サイズ | O4: 枚数 | R4: センター名 | T4: No.
K5: 年月日曜 | O5: =東松浦郡・唐津市!$O$5:$P$7 -> 0
Q6: 枚
B9: 銘柄 | C9: 読売 | F9: 朝日 | I9: 毎日 | L9: 西日本 | O9: 佐賀 | R9: 日経
C10: コード０１ | F10: コード０２ | I10: コード０３ | L10: コード０８ | O10: コード７６ | R10: コード０５
A11: 市郡区 | C11: 店名 | D11: 枚数 | E11: 配布 | F11: 店名 | G11: 枚数 | H11: 配布 | I11: 店名 | J11: 枚数 | K11: 配布 | L11: 店名 | M11: 枚数 | N11: 配布 | O11: 店名 | P11: 枚数 | Q11: 配布 | R11: 店名 | S11: 枚数 | T11: 配布
A12: 藤津郡 | B12: 1 | O12: 太良YAMNNi | P12: 1625
A15: ■地区枚数■ | B15: =D16+G16+J16+M16+P16+S16 -> 1625
A16: ■配布枚数■ | B16: =E16+H16+K16+N16+Q16+T16 -> 0 | C16: ◆小計◆ | F16: ◆小計◆ | I16: ◆小計◆ | L16: ◆小計◆ | M16: =SUM(M12:M15) -> 0 | N16: =SUM(N12:N15) -> 0 | O16: ◆小計◆ | P16: =SUM(P12:P15) -> 1625 | Q16: =SUM(Q12:Q15) -> 0 | R16: ◆小計◆ | S16: =SUM(S12:S15) -> 0 | T16: =SUM(T12:T15) -> 0
A18: 嬉野市 | B18: 1 | C18: 嬉野 | D18: 575 | L18: 嬉野東部AMSGNi | M18: 1175 | O18: 塩田AMNNi | P18: 1895
O19: 嬉野中央AMNNiS | P19: 1550
A21: ■地区枚数■ | B21: =D22+G22+J22+M22+P22+S22 -> 5195
A22: ■配布枚数■ | B22: =E22+H22+K22+N22+Q22+T22 -> 0 | C22: ◆小計◆ | D22: =SUM(D17:D20) -> 575 | E22: =SUM(E17:E20) -> 0 | F22: ◆小計◆ | G22: =SUM(G17:G20) -> 0 | H22: =SUM(H17:H20) -> 0 | I22: ◆小計◆ | K22: =SUM(K17:K20) -> 0 | L22: ◆小計◆ | M22: =SUM(M17:M20) -> 1175 | N22: =SUM(N17:N20) -> 0 | O22: ◆小計◆ | P22: =SUM(P17:P20) -> 3445 | Q22: =SUM(Q17:Q20) -> 0 | R22: ◆小計◆ | S22: =SUM(S17:S20) -> 0 | T22: =SUM(T17:T20) -> 0
A24: 鹿島市 | B24: 2 | O24: 鹿島中(合) | P24: 2100
O25: 鹿島西(合) | P25: 1990
O26: 鹿島東(合) | P26: 1685
A27: ■地区枚数■ | B27: =D28+G28+J28+M28+P28+S28 -> 5775
A28: ■配布枚数■ | B28: =E28+H28+K28+N28+Q28+T28 -> 0 | C28: ◆小計◆ | D28: =SUM(D24:D27) -> 0 | F28: ◆小計◆ | G28: =SUM(G24:G27) -> 0 | I28: ◆小計◆ | J28: =SUM(J24:J27) -> 0 | L28: ◆小計◆ | M28: =SUM(M24:M27) -> 0 | N28: =SUM(N24:N27) -> 0 | O28: ◆小計◆ | P28: =SUM(P24:P27) -> 5775 | Q28: =SUM(Q24:Q27) -> 0 | R28: ◆小計◆ | S28: =SUM(S24:S27) -> 0 | T28: =SUM(T24:T27) -> 0
A30: 杵島郡 | B30: 3 | O30: 大町AMNNi | P30: 1190
O31: 江北YAMNNi | P31: 1980
O32: 有明・福富(合) | P32: 2925
O33: 須古YAMN | P33: 525
O34: 白石(合) | P34: 1715
A36: ■地区枚数■ | B36: =D37+G37+J37+M37+P37+S37 -> 8335
A37: ■配布枚数■ | B37: =E37+H37+K37+N37+Q37+T37 -> 0 | C37: ◆小計◆ | D37: =SUM(D30:D36) -> 0 | E37: =SUM(E30:E36) -> 0 | F37: ◆小計◆ | I37: ◆小計◆ | L37: ◆小計◆ | M37: =SUM(M30:M36) -> 0 | N37: =SUM(N30:N36) -> 0 | O37: ◆小計◆ | P37: =SUM(P30:P36) -> 8335 | Q37: =SUM(Q30:Q36) -> 0 | R37: ◆小計◆ | S37: =SUM(S30:S36) -> 0 | T37: =SUM(T30:T36) -> 0
A39: 武雄市 | B39: 4 | C39: 北方 | D39: 120 | O39: 山内(合) | P39: 1695
C40: 武雄 | D40: 600 | O40: 北方AMNNi | P40: 1280
O41: 武雄AMNNiS | P41: 2200
O42: 武雄東AMNNiS | P42: 1985
O43: 武内若木AMNNiS | P43: 715
O44: 川登AMNNi | P44: 815
A45: ■地区枚数■ | B45: =D46+G46+J46+M46+P46+S46 -> 9410
A46: ■配布枚数■ | B46: =E46+H46+K46+N46+Q46+T46 -> 0 | C46: ◆小計◆ | D46: =SUM(D39:D45) -> 720 | E46: =SUM(E39:E45) -> 0 | F46: ◆小計◆ | G46: =SUM(G39:G45) -> 0 | I46: ◆小計◆ | J46: =SUM(J39:J45) -> 0 | L46: ◆小計◆ | M46: =SUM(M39:M45) -> 0 | N46: =SUM(N39:N45) -> 0 | O46: ◆小計◆ | P46: =SUM(P39:P45) -> 8690 | Q46: =SUM(Q39:Q45) -> 0 | R46: ◆小計◆ | S46: =SUM(S39:S45) -> 0 | T46: =SUM(T39:T45) -> 0
A48: 多久市 | B48: 5 | F48: 北多久 | G48: 100 | I48: 北多久S | J48: 280 | O48: 多久中央YNNi | P48: 1935
I49: 東多久 | J49: 30 | O49: 東多久YANNi | P49: 1495
A51: ■地区枚数■ | B51: =D52+G52+J52+M52+P52+S52 -> 3840
A52: ■配布枚数■ | B52: =E52+H52+K52+N52+Q52+T52 -> 0 | C52: ◆小計◆ | D52: =SUM(D48:D51) -> 0 | F52: ◆小計◆ | G52: =SUM(G48:G51) -> 100 | H52: =SUM(H48:H51) -> 0 | I52: ◆小計◆ | J52: =SUM(J48:J51) -> 310 | K52: =SUM(K48:K51) -> 0 | L52: ◆小計◆ | M52: =SUM(M48:M51) -> 0 | N52: =SUM(N48:N51) -> 0 | O52: ◆小計◆ | P52: =SUM(P48:P51) -> 3430 | Q52: =SUM(Q48:Q51) -> 0 | R52: ◆小計◆ | S52: =SUM(S48:S51) -> 0 | T52: =SUM(T48:T51) -> 0
A54: 小城市 | B54: 6 | C54: 牛津 | D54: 150 | O54: 牛津AMNNiS | P54: 2695
A55: ※ | C55: 小城 | D55: 400 | O55: 小城AMNNiS | P55: 2925
O56: 三日月AMNNiS | P56: 2225
A58: ■地区枚数■ | B58: =D59+G59+J59+M59+P59+S59 -> 8395
A59: ■配布枚数■ | B59: =E59+H59+K59+N59+Q59+T59 -> 0 | C59: ◆小計◆ | D59: =SUM(D54:D58) -> 550 | E59: =SUM(E54:E58) -> 0 | F59: ◆小計◆ | G59: =SUM(G54:G58) -> 0 | H59: =SUM(H54:H58) -> 0 | I59: ◆小計◆ | J59: =SUM(J54:J58) -> 0 | K59: =SUM(K54:K58) -> 0 | L59: ◆小計◆ | M59: =SUM(M54:M58) -> 0 | N59: =SUM(N54:N58) -> 0 | O59: ◆小計◆ | P59: =SUM(P54:P58) -> 7845 | Q59: =SUM(Q54:Q58) -> 0 | R59: ◆小計◆ | S59: =SUM(S54:S58) -> 0 | T59: =SUM(T54:T58) -> 0

Sheet 佐賀市・神埼市郡
B1: 佐賀営業所 | F1: 佐 賀 県 コード ４１
M2: 46296 | O2: 大分折込株式会社
A4: スポンサー名 | E4: タイトル | I4: 請求先 | K4: 折 込 日 | N4: サイズ | O4: 枚 数 | R4: センター名 | T4: No.
K5: 年 月 日 曜 | O5: =東松浦郡・唐津市!$O$5:$P$7 -> 0
Q6: 枚
B9: 銘 柄 | C9: 読 売 | F9: 朝 日 | I9: 毎 日 | L9: 西 日 本 | O9: 佐 賀 | R9: 日 経
C10: コード ０１ | F10: コード ０２ | I10: コード ０３ | L10: コード ０８ | O10: コード ７６ | R10: コード ０５
A11: 市郡区 | C11: 店 名 | D11: 枚 数 | E11: 配 布 | F11: 店 名 | G11: 枚 数 | H11: 配 布 | I11: 店 名 | J11: 枚 数 | K11: 配 布 | L11: 店 名 | M11: 枚 数 | N11: 配 布 | O11: 店 名 | P11: 枚 数 | Q11: 配 布 | R11: 店 名 | S11: 枚 数 | T11: 配 布
C12: 栄城・西部 | D12: 1420 | F12: 佐賀中央NNi | G12: 1595 | I12: 佐賀中央S | J12: 390 | L12: 本庄 | M12: 130 | O12: 中央AMNNiS | P12: 5320
A13: 佐賀市 | B13: 8 | C13: 東部 | D13: 360 | F13: 佐賀大和NNi | G13: 620 | L13: 北部AMNiS | M13: 365 | O13: 東部第一AMNNiS | P13: 2340
C14: 南部 | D14: 1340 | O14: 北部AMNNiS | P14: 2855
C15: 北部 | D15: 1210 | O15: 城南AMNNiS | P15: 1475
C16: 久保田 | D16: 90 | O16: 環状西通りNNi | P16: 3875
O17: 東部第二AMNNiS | P17: 3710
O18: 北川副AMNNiS | P18: 4155
O19: 佐賀西部 | P19: 6645
O20: 西与賀NNi | P20: 1480
O21: 金泉MS | P21: 1660
O22: 本庄AMNi | P22: 1550
O23: 大和 | P23: 2050
O24: 大和西 | P24: 1120
O25: 大和北 | P25: 1070
O26: 諸富AMNNiS | P26: 1875
O27: 北山A | P27: 170
O28: 関屋 | P28: 80
... O32: 三瀬AMNNi | P32: 280
A44: ■地区枚数■ | B44: =D45+G45+J45+M45+P45+S45 -> 55340
A45: ■配布枚数■ | B45: =E45+H45+K45+N45+Q45+T45 -> 0 | C45: ◆小 計◆ | D45: =SUM(D12:D44) -> 4420 | E45: =SUM(E12:E44) -> 0 | F45: ◆小 計◆ | G45: =SUM(G12:G44) -> 2215 | H45: =SUM(H12:H44) -> 0 | I45: ◆小 計◆ | J45: =SUM(J12:J44) -> 390 | K45: =SUM(K12:K44) -> 0 | L45: ◆小 計◆ | M45: =SUM(M12:M44) -> 495 | N45: =SUM(N12:N44) -> 0 | O45: ◆小 計◆ | P45: =SUM(P12:P44) -> 47820 | Q45: =SUM(Q12:Q44) -> 0 | R45: ◆小 計◆ | S45: =SUM(S12:S44) -> 0 | T45: =SUM(T12:T44) -> 0
A47: 神埼市 | B47: 8 | C47: 神埼･千代田 | D47: 410 | O47: 千代田AMNNiS | P47: 2120
O48: 神埼AMNNiS | P48: 2920
O49: 背振AMNNi | P49: 265
A51: ■地区枚数■ | B51: =D52+G52+J52+M52+P52+S52 -> 5715
A52: ■配布枚数■ | B52: =E52+H52+K52+N52+Q52+T52 -> 0 | C52: ◆小 計◆ | D52: =SUM(D46:D50) -> 410 | E52: =SUM(E46:E50) -> 0 | F52: ◆小 計◆ | G52: =SUM(G46:G50) -> 0 | H52: =SUM(H46:H50) -> 0 | I52: ◆小 計◆ | J52: =SUM(J46:J50) -> 0 | L52: ◆小 計◆ | M52: =SUM(M46:M50) -> 0 | N52: =SUM(N46:N50) -> 0 | O52: ◆小 計◆ | P52: =SUM(P46:P50) -> 5305 | Q52: =SUM(Q46:Q50) -> 0 | R52: ◆小 計◆ | S52: =SUM(S46:S50) -> 0 | T52: =SUM(T46:T50) -> 0
A54: 神埼郡 ※ | B54: 9 | C54: 吉野ヶ里 | D54: 930 | O54: 吉野ヶ里AMNNiS | P54: 2020
A55: ■地区枚数■ | B55: =D56+G56+J56+M56+P56+S56 -> 2950
A56: ■配布枚数■ | B56: =E56+H56+K56+N56+Q56+T56 -> 0 | C56: ◆小 計◆ | D56: =SUM(D54:D55) -> 930 | E56: =SUM(E54:E55) -> 0 | F56: ◆小 計◆ | G56: =SUM(G54:G55) -> 0 | H56: =SUM(H54:H55) -> 0 | I56: ◆小 計◆ | L56: ◆小 計◆ | M56: =SUM(M54:M55) -> 0 | N56: =SUM(N54:N55) -> 0 | O56: ◆小 計◆ | P56: =SUM(P54:P55) -> 2020 | Q56: =SUM(Q54:Q55) -> 0 | R56: ◆小 計◆ | S56: =SUM(S54:S55) -> 0 | T56: =SUM(T54:T55) -> 0

Sheet 三養基郡・鳥栖市・西松浦軍・伊万里市
B1: 佐賀営業所 | F1: 佐 賀 県 コード ４１
M2: 46296 | O2: 大分折込株式会社
A4: スポンサー名 | E4: タイトル | I4: 請求先 | K4: 折 込 日 | N4: サイズ | O4: 枚 数 | R4: センター名 | T4: No.
K5: 年 月 日 曜 | O5: =東松浦郡・唐津市!$O$5:$P$7 -> 0
Q6: 枚
B9: 銘 柄 | C9: 読 売 | F9: 朝 日 | I9: 毎 日 | L9: 西 日 本 | O9: 佐 賀 | R9: 日 経
C10: コード ０１ | F10: コード ０２ | I10: コード ０３ | L10: コード ０８ | O10: コード ７６ | R10: コード ０５
A11: 市郡区 | C11: 店 名 | D11: 枚 数 | E11: 配 布 | F11: 店 名 | G11: 枚 数 | H11: 配 布 | I11: 店 名 | J11: 枚 数 | K11: 配 布 | L11: 店 名 | M11: 枚 数 | N11: 配 布 | O11: 店 名 | P11: 枚 数 | Q11: 配 布 | R11: 店 名 | S11: 枚 数 | T11: 配 布
A12: 三養基郡 | B12: 10 | C12: 基山 | D12: 1105 | F12: 北茂安M | G12: 200 | L12: 基山AMSGNiS | M12: 1855 | O12: 北茂安・中原AMNNiS | P12: 2245
C13: 三根 | D13: 450 | L13: 北茂安・中原ANi | M13: 1325 | O13: 三根MS | P13: 705
A20: ■地区枚数■ | B20: =D21+G21+J21+M21+P21+S21 -> 7885
A21: ■配布枚数■ | B21: =E21+H21+K21+N21+Q21+T21 -> 0 | C21: ◆小 計◆ | D21: =SUM(D12:D20) -> 1555 | E21: =SUM(E12:E20) -> 0 | F21: ◆小 計◆ | G21: =SUM(G12:G20) -> 200 | H21: =SUM(H12:H20) -> 0 | I21: ◆小 計◆ | J21: =SUM(J12:J20) -> 0 | K21: =SUM(K12:K20) -> 0 | L21: ◆小 計◆ | M21: =SUM(M12:M20) -> 3180 | N21: =SUM(N12:N20) -> 0 | O21: ◆小 計◆ | P21: =SUM(P12:P20) -> 2950 | Q21: =SUM(Q12:Q20) -> 0 | R21: ◆小 計◆ | S21: =SUM(S12:S20) -> 0 | T21: =SUM(T12:T20) -> 0
A23: 鳥栖市 | B23: 11 | C23: 鳥栖東 | D23: 860 | L23: 鳥栖中AMNiS | M23: 2090 | O23: 鳥栖中 | P23: 1110
C24: 鳥栖西 | D24: 1420 | L24: 鳥栖東AMNiS | M24: 1645 | O24: 鳥栖西 | P24: 710
C25: 鳥栖北 | D25: 200 | L25: 鳥栖南AMNiS | M25: 1915
A31: ■地区枚数■ | B31: =D32+G32+J32+M32+P32+S32 -> 9950
A32: ■配布枚数■ | B32: =E32+H32+K32+N32+Q32+T32 -> 0 | C32: ◆小 計◆ | D32: =SUM(D22:D31) -> 2480 | E32: =SUM(E23:E31) -> 0 | F32: ◆小 計◆ | G32: =SUM(G22:G31) -> 0 | H32: =SUM(H23:H31) -> 0 | I32: ◆小 計◆ | J32: =SUM(J22:J31) -> 0 | K32: =SUM(K23:K31) -> 0 | L32: ◆小 計◆ | M32: =SUM(M22:M31) -> 5650 | N32: =SUM(N23:N31) -> 0 | O32: ◆小 計◆ | P32: =SUM(P22:P31) -> 1820 | Q32: =SUM(Q23:Q31) -> 0 | R32: ◆小 計◆ | S32: =SUM(S22:S31) -> 0 | T32: =SUM(T23:T31) -> 0
A34: 西松浦郡 | B34: 12 | C34: 有田 | D34: 530 | L34: 佐賀有田AMNiS | M34: 1020 | O34: 有田 | P34: 2515
A40: ■地区枚数■ | B40: =D41+G41+J41+M41+P41+S41 -> 4065
A41: ■配布枚数■ | B41: =E41+H41+K41+N41+Q41+T41 -> 0 | C41: ◆小 計◆ | D41: =SUM(D33:D40) -> 530 | E41: =SUM(E33:E40) -> 0 | F41: ◆小 計◆ | H41: =SUM(H33:H40) -> 0 | I41: ◆小 計◆ | K41: =SUM(K33:K40) -> 0 | L41: ◆小 計◆ | M41: =SUM(M33:M40) -> 1020 | N41: =SUM(N33:N40) -> 0 | O41: ◆小 計◆ | P41: =SUM(P33:P40) -> 2515 | Q41: =SUM(Q33:Q40) -> 0 | R41: ◆小 計◆ | S41: =SUM(S33:S40) -> 0 | T41: =SUM(T33:T40) -> 0
A43: 伊万里市 | B43: 13 | C43: 伊万里NNi | D43: 710 | F43: 伊万里北部MS | G43: 560 | L43: 伊万里西Yni | M43: 1015 | O43: 伊万里北 | P43: 2970
O44: 松浦大川YAMNNi | P44: 1010
O45: 久原AMS | P45: 545
O46: 伊万里西部東山代AMS | P46: 2035
O47: 南波多YAMNNi | P47: 560
O48: 波多津黒川YAMNNi | P48: 760
A56: ■地区枚数■ | B56: =D57+G57+J57+M57+P57+S57 -> 10165
A57: ■配布枚数■ | B57: =E57+H57+K57+N57+Q57+T57 -> 0 | C57: ◆小 計◆ | D57: =SUM(D42:D56) -> 710 | E57: =SUM(E42:E56) -> 0 | F57: ◆小 計◆ | G57: =SUM(G42:G56) -> 560 | H57: =SUM(H42:H56) -> 0 | I57: ◆小 計◆ | J57: =SUM(J42:J56) -> 0 | K57: =SUM(K42:K56) -> 0 | L57: ◆小 計◆ | M57: =SUM(M42:M56) -> 1015 | N57: =SUM(N42:N56) -> 0 | O57: ◆小 計◆ | P57: =SUM(P42:P56) -> 7880 | Q57: =SUM(Q42:Q56) -> 0 | R57: ◆小 計◆ | S57: =SUM(S42:S56) -> 0 | T57: =SUM(T42:T56) -> 0

Sheet 東松浦郡・唐津市
B1: 佐賀営業所 | F1: 佐賀県コード４１
M2: 46296 | O2: 大分折込株式会社
A4: スポンサー名 | E4: タイトル | I4: 請求先 | K4: 折込日 | N4: サイズ | O4: 枚数 | R4: センター名 | T4: No.
K5: 年月日曜 | O5: =藤津郡・嬉野市・鹿島市・杵島郡・武雄市・多久市・小城市!B16+藤津郡・嬉野市・鹿島市・杵島郡・武雄市・多久市・小城市!B22+藤津郡・嬉野市・鹿島市・杵島郡・武雄市・多久市・小城市!B28+藤津郡・嬉野市・鹿島市・杵島郡・武雄市・多久市・小城市!B37+藤津郡・嬉野市・鹿島市・杵島郡・武雄市・多久市・小城市!B46+藤津郡・嬉野市・鹿島市・杵島郡・武雄市・多久市・小城市!B52+藤津郡・嬉野市・鹿島市・杵島郡・武雄市・多久市・小城市!B59+佐賀市・神埼市郡!B45+佐賀市・神埼市郡!B52+佐賀市・神埼市郡!B56+三養基郡・鳥栖市・西松浦軍・伊万里市!B21+三養基郡・鳥栖市・西松浦軍・伊万里市!B32+三養基郡・鳥栖市・西松浦軍・伊万里市!B41+三養基郡・鳥栖市・西松浦軍・伊万里市!B57+東松浦郡・唐津市!B20+東松浦郡・唐津市!B45 -> 0
Q6: 枚
B9: 銘柄 | C9: 読売 | F9: 朝日 | I9: 毎日 | L9: 西日本 | O9: 佐賀 | R9: 日経
C10: コード０１ | F10: コード０２ | I10: コード０３ | L10: コード０８ | O10: コード７６ | R10: コード０５
A11: 市郡区 | C11: 店名 | D11: 枚数 | E11: 配布 | F11: 店名 | G11: 枚数 | H11: 配布 | I11: 店名 | J11: 枚数 | K11: 配布 | L11: 店名 | M11: 枚数 | N11: 配布 | O11: 店名 | P11: 枚数 | Q11: 配布 | R11: 店名 | S11: 枚数 | T11: 配布
A12: 東松浦郡 | B12: 14 | O12: 有浦(合) | P12: 955
A19: ■地区枚数■ | B19: =D20+G20+J20+M20+P20+S20 -> 955
A20: ■配布枚数■ | B20: =E20+H20+K20+N20+Q20+T20 -> 0 | C20: ◆小計◆ | D20: =SUM(D12:D19) -> 0 | F20: ◆小計◆ | I20: ◆小計◆ | L20: ◆小計◆ | O20: ◆小計◆ | P20: =SUM(P12:P19) -> 955 | Q20: =SUM(Q12:Q19) -> 0 | R20: ◆小計◆ | S20: =SUM(S12:S19) -> 0 | T20: =SUM(T12:T19) -> 0
A22: 唐津東松浦 | B22: 15 | C22: 唐津中 | D22: 830 | L22: 唐津・西唐津YAMNiS | M22: 1945 | O22: 唐津中 | P22: 2310
C23: 唐津西 | D23: 80 | L23: 唐津東AMNi | M23: 910 | O23: 唐津西 | P23: 1995
C24: 南唐津ANNi | D24: 655 | L24: 唐津南AMNiS | M24: 1375 | O24: 唐津南AMS | P24: 1635
C25: 東唐津 | D25: 120 | L25: 浜崎ANi | M25: 535 | O25: 湊YNNi | P25: 305
C26: 浜崎 | D26: 175 | O26: 相知・厳木(合) | P26: 2240
O27: 唐津東部･浜崎MS | P27: 1245
O28: 呼子AMNNi | P28: 910
O29: 切木YN | P29: 220
O30: 入野YN | P30: 150
O31: 納所YA | P31: 195
O32: 星賀Y | P32: 55
O33: 高串YAMNNi | P33: 190
O34: 鎮西YAMNNi | P34: 325
O35: 七山AMNNi | P35: 350
A44: ■地区枚数■ | B44: =D45+G45+J45+M45+P45+S45 -> 18750
A45: ■配布枚数■ | B45: =E45+H45+K45+N45+Q45+T45 -> 0 | C45: ◆小計◆ | D45: =SUM(D21:D44) -> 1860 | E45: =SUM(E21:E44) -> 0 | F45: ◆小計◆ | G45: =SUM(G21:G44) -> 0 | H45: =SUM(H21:H44) -> 0 | I45: ◆小計◆ | J45: =SUM(J21:J44) -> 0 | K45: =SUM(K21:K44) -> 0 | L45: ◆小計◆ | M45: =SUM(M21:M44) -> 4765 | N45: =SUM(N21:N44) -> 0 | O45: ◆小計◆ | P45: =SUM(P21:P44) -> 12125 | Q45: =SUM(Q21:Q44) -> 0 | R45: ◆小計◆ | S45: =SUM(S21:S44) -> 0 | T45: =SUM(T21:T44) -> 0
