Workbook

Sheet 集計
D1: 大 分 県 コード ４４
N3: 46296 | P3: 大分折込株式会社
A5: 市・郡・区 | B5: コード № | D5: 読 売 | F5: 朝 日 | H5: 毎 日 | J5: 西 日 本 | L5: 大 分 合 同 | P5: 枚数計 | Q5: 配布計 | R5: ページ | S5: 26.01
D6: 枚数 | E6: 配布 | F6: 枚数 | G6: 配布 | H6: 枚数 | I6: 配布 | J6: 枚数 | K6: 配布 | L6: 枚数 | M6: 配布 | S6: 世帯数
A7: 佐伯市 | B7: ０２ | C7: 枚 数 | D7: =佐伯市・津久見市・臼杵市!$D$33 -> 3040 | E7: =佐伯市・津久見市・臼杵市!$E$33 -> 0 | F7: =佐伯市・津久見市・臼杵市!$G$33 -> 160 | G7: =佐伯市・津久見市・臼杵市!$H$33 -> 0 | H7: =佐伯市・津久見市・臼杵市!$J$33 -> 0 | I7: =佐伯市・津久見市・臼杵市!$K$33 -> 0 | J7: =佐伯市・津久見市・臼杵市!$M$33 -> 0 | K7: =佐伯市・津久見市・臼杵市!$N$33 -> 0 | L7: =佐伯市・津久見市・臼杵市!$P$33 -> 8260 | M7: =佐伯市・津久見市・臼杵市!$Q$33 -> 0 | P7: =SUM(D7,F7,H7,J7,L7) -> 11460 | Q7: =SUM(E7,G7,I7,K7,M7) -> 0 | R7: 1 | S7: 32511
A8: 津久見市 | B8: ０３ | C8: 枚 数 | D8: =佐伯市・津久見市・臼杵市!$D$42 -> 410 | E8: =佐伯市・津久見市・臼杵市!$E$42 -> 0 | F8: =佐伯市・津久見市・臼杵市!$G$42 -> 360 | G8: =佐伯市・津久見市・臼杵市!$H$42 -> 0 | H8: =佐伯市・津久見市・臼杵市!$J$42 -> 150 | I8: =佐伯市・津久見市・臼杵市!$K$42 -> 0 | J8: =佐伯市・津久見市・臼杵市!$M$42 -> 0 | K8: =佐伯市・津久見市・臼杵市!$N$42 -> 0 | L8: =佐伯市・津久見市・臼杵市!$P$42 -> 2140 | M8: =佐伯市・津久見市・臼杵市!$Q$42 -> 0 | P8: =SUM(D8,F8,H8,J8,L8) -> 3060 | Q8: =SUM(E8,G8,I8,K8,M8) -> 0 | R8: 1 | S8: 7468
A9: 臼杵市 | B9: ０４ | C9: 枚 数 | D9: =佐伯市・津久見市・臼杵市!$D$60 -> 680 | E9: =佐伯市・津久見市・臼杵市!$E$60 -> 0 | F9: =佐伯市・津久見市・臼杵市!$G$60 -> 560 | G9: =佐伯市・津久見市・臼杵市!$H$60 -> 0 | H9: =佐伯市・津久見市・臼杵市!$J$60 -> 230 | I9: =佐伯市・津久見市・臼杵市!$K$60 -> 0 | J9: =佐伯市・津久見市・臼杵市!$M$60 -> 0 | K9: =佐伯市・津久見市・臼杵市!$N$60 -> 0 | L9: =佐伯市・津久見市・臼杵市!$P$60 -> 5470 | M9: =佐伯市・津久見市・臼杵市!$Q$60 -> 0 | P9: =SUM(D9,F9,H9,J9,L9) -> 6940 | Q9: =SUM(E9,G9,I9,K9,M9) -> 0 | R9: 1 | S9: 16779
A10: 大分市 | B10: ０６ | C10: 枚 数 | D10: =大分市２!$D$60 -> 11910 | E10: =大分市２!$E$60 -> 0 | F10: =大分市２!$G$60 -> 5030 | G10: =大分市２!$H$60 -> 0 | H10: =大分市２!$J$60 -> 2400 | I10: =大分市２!$K$60 -> 0 | J10: =大分市２!$M$60 -> 0 | K10: =大分市２!$N$60 -> 0 | L10: =大分市２!$P$60 -> 61780 | M10: =大分市２!$Q$60 -> 0 | P10: =SUM(D10,F10,H10,J10,L10) -> 81120 | Q10: =SUM(E10,G10,I10,K10,M10) -> 0 | R10: ２・３ | S10: 234663
A11: 豊後大野市 | B11: ０７ | C11: 枚 数 | D11: =豊後大野市・竹田市!$D$35 -> 400 | E11: =豊後大野市・竹田市!$E$35 -> 0 | F11: =豊後大野市・竹田市!$G$35 -> 0 | G11: =豊後大野市・竹田市!$H$35 -> 0 | H11: =豊後大野市・竹田市!$J$35 -> 0 | I11: =豊後大野市・竹田市!$K$35 -> 0 | J11: =豊後大野市・竹田市!$M$35 -> 0 | K11: =豊後大野市・竹田市!$N$35 -> 0 | L11: =豊後大野市・竹田市!$P$35 -> 5840 | M11: =豊後大野市・竹田市!$Q$35 -> 0 | P11: =SUM(D11,F11,H11,J11,L11) -> 6240 | Q11: =SUM(E11,G11,I11,K11,M11) -> 0 | R11: 4 | S11: 15344
A12: 竹田市 | B12: ０８ | C12: 枚 数 | D12: =豊後大野市・竹田市!$D$53 -> 270 | E12: =豊後大野市・竹田市!$E$53 -> 0 | F12: =豊後大野市・竹田市!$G$53 -> 170 | G12: =豊後大野市・竹田市!$H$53 -> 0 | H12: =豊後大野市・竹田市!$J$53 -> 0 | I12: =豊後大野市・竹田市!$K$53 -> 0 | J12: =豊後大野市・竹田市!$M$53 -> 0 | K12: =豊後大野市・竹田市!$N$53 -> 0 | L12: =豊後大野市・竹田市!$P$53 -> 3940 | M12: =豊後大野市・竹田市!$Q$53 -> 0 | P12: =SUM(D12,F12,H12,J12,L12) -> 4380 | Q12: =SUM(E12,G12,I12,K12,M12) -> 0 | R12: 4 | S12: 9617
A13: 由布市 | B13: １０ | C13: 枚 数 | D13: =由布市・別府市!$D$26 -> 0 | E13: =由布市・別府市!$E$26 -> 0 | F13: =由布市・別府市!$G$26 -> 270 | G13: =由布市・別府市!$H$26 -> 0 | H13: =由布市・別府市!$J$26 -> 0 | I13: =由布市・別府市!$K$26 -> 0 | J13: =由布市・別府市!$M$26 -> 0 | K13: =由布市・別府市!$N$26 -> 0 | L13: =由布市・別府市!$P$26 -> 4230 | M13: =由布市・別府市!$Q$26 -> 0 | P13: =SUM(D13,F13,H13,J13,L13) -> 4500 | Q13: =SUM(E13,G13,I13,K13,M13) -> 0 | R13: 5 | S13: 16472
A14: 別府市 | B14: １１ | C14: 枚 数 | D14: =由布市・別府市!$D$57 -> 4330 | E14: =由布市・別府市!$E$57 -> 0 | F14: =由布市・別府市!$G$57 -> 570 | G14: =由布市・別府市!$H$57 -> 0 | H14: =由布市・別府市!$J$57 -> 940 | I14: =由布市・別府市!$K$57 -> 0 | J14: =由布市・別府市!$M$57 -> 0 | K14: =由布市・別府市!$N$57 -> 0 | L14: =由布市・別府市!$P$57 -> 13270 | M14: =由布市・別府市!$Q$57 -> 0 | P14: =SUM(D14,F14,H14,J14,L14) -> 19110 | Q14: =SUM(E14,G14,I14,K14,M14) -> 0 | R14: 5 | S14: 63410
A15: 速見郡 | B15: １２ | C15: 枚 数 | D15: =速見郡・杵築市・東国東郡・国東市!$D$19 -> 510 | E15: =速見郡・杵築市・東国東郡・国東市!$E$19 -> 0 | F15: =速見郡・杵築市・東国東郡・国東市!$G$19 -> 0 | G15: =速見郡・杵築市・東国東郡・国東市!$H$19 -> 0 | H15: =速見郡・杵築市・東国東郡・国東市!$J$19 -> 0 | I15: =速見郡・杵築市・東国東郡・国東市!$K$19 -> 0 | J15: =速見郡・杵築市・東国東郡・国東市!$M$19 -> 0 | K15: =速見郡・杵築市・東国東郡・国東市!$N$19 -> 0 | L15: =速見郡・杵築市・東国東郡・国東市!$P$19 -> 3760 | M15: =速見郡・杵築市・東国東郡・国東市!$Q$19 -> 0 | P15: =SUM(D15,F15,H15,J15,L15) -> 4270 | Q15: =SUM(E15,G15,I15,K15,M15) -> 0 | R15: 6 | S15: 12981
A16: 杵築市 | B16: １３ | C16: 枚 数 | D16: =速見郡・杵築市・東国東郡・国東市!$D$31 -> 480 | E16: =速見郡・杵築市・東国東郡・国東市!$E$31 -> 0 | F16: =速見郡・杵築市・東国東郡・国東市!$G$31 -> 0 | G16: =速見郡・杵築市・東国東郡・国東市!$H$31 -> 0 | H16: =速見郡・杵築市・東国東郡・国東市!$J$31 -> 0 | I16: =速見郡・杵築市・東国東郡・国東市!$K$31 -> 0 | J16: =速見郡・杵築市・東国東郡・国東市!$M$31 -> 0 | K16: =速見郡・杵築市・東国東郡・国東市!$N$31 -> 0 | L16: =速見郡・杵築市・東国東郡・国東市!$P$31 -> 4570 | M16: =速見郡・杵築市・東国東郡・国東市!$Q$31 -> 0 | P16: =SUM(D16,F16,H16,J16,L16) -> 5050 | Q16: =SUM(E16,G16,I16,K16,M16) -> 0 | R16: 6 | S16: 13132
A17: 東国東郡 | B17: １４ | C17: 枚 数 | D17: =速見郡・杵築市・東国東郡・国東市!$D$37 -> 0 | E17: =速見郡・杵築市・東国東郡・国東市!$E$37 -> 0 | F17: =速見郡・杵築市・東国東郡・国東市!$G$37 -> 0 | G17: =速見郡・杵築市・東国東郡・国東市!$H$37 -> 0 | H17: =速見郡・杵築市・東国東郡・国東市!$J$37 -> 0 | I17: =速見郡・杵築市・東国東郡・国東市!$K$37 -> 0 | J17: =速見郡・杵築市・東国東郡・国東市!$M$37 -> 0 | K17: =速見郡・杵築市・東国東郡・国東市!$N$37 -> 0 | L17: =速見郡・杵築市・東国東郡・国東市!$P$37 -> 260 | M17: =速見郡・杵築市・東国東郡・国東市!$Q$37 -> 0 | P17: =SUM(D17,F17,H17,J17,L17) -> 260 | Q17: =SUM(E17,G17,I17,K17,M17) -> 0 | R17: 6 | S17: 837
A18: 国東市 | B18: １５ | C18: 枚 数 | D18: =速見郡・杵築市・東国東郡・国東市!$D$54 -> 0 | E18: =速見郡・杵築市・東国東郡・国東市!$E$54 -> 0 | F18: =速見郡・杵築市・東国東郡・国東市!$G$54 -> 0 | G18: =速見郡・杵築市・東国東郡・国東市!$H$54 -> 0 | H18: =速見郡・杵築市・東国東郡・国東市!$J$54 -> 0 | I18: =速見郡・杵築市・東国東郡・国東市!$K$54 -> 0 | J18: =速見郡・杵築市・東国東郡・国東市!$M$54 -> 0 | K18: =速見郡・杵築市・東国東郡・国東市!$N$54 -> 0 | L18: =速見郡・杵築市・東国東郡・国東市!$P$54 -> 5200 | M18: =速見郡・杵築市・東国東郡・国東市!$Q$54 -> 0 | P18: =SUM(D18,F18,H18,J18,L18) -> 5200 | Q18: =SUM(E18,G18,I18,K18,M18) -> 0 | R18: 6 | S18: 12897
A19: 豊後高田市 | B19: １６ | C19: 枚 数 | D19: =豊後高田市・宇佐市・中津市!$D$21 -> 1610 | E19: =豊後高田市・宇佐市・中津市!$E$21 -> 0 | F19: =豊後高田市・宇佐市・中津市!$G$21 -> 190 | G19: =豊後高田市・宇佐市・中津市!$H$21 -> 0 | H19: =豊後高田市・宇佐市・中津市!$J$21 -> 80 | I19: =豊後高田市・宇佐市・中津市!$K$21 -> 0 | J19: =豊後高田市・宇佐市・中津市!$M$21 -> 70 | K19: =豊後高田市・宇佐市・中津市!$N$21 -> 0 | L19: =豊後高田市・宇佐市・中津市!$P$21 -> 2750 | M19: =豊後高田市・宇佐市・中津市!$Q$21 -> 0 | P19: =SUM(D19,F19,H19,J19,L19) -> 4700 | Q19: =SUM(E19,G19,I19,K19,M19) -> 0 | R19: 7 | S19: 11071
A20: 宇佐市 | B20: １７ | C20: 枚 数 | D20: =豊後高田市・宇佐市・中津市!$D$41 -> 2120 | E20: =豊後高田市・宇佐市・中津市!$E$41 -> 0 | F20: =豊後高田市・宇佐市・中津市!$G$41 -> 660 | G20: =豊後高田市・宇佐市・中津市!$H$41 -> 0 | H20: =豊後高田市・宇佐市・中津市!$J$41 -> 620 | I20: =豊後高田市・宇佐市・中津市!$K$41 -> 0 | J20: =豊後高田市・宇佐市・中津市!$M$41 -> 100 | K20: =豊後高田市・宇佐市・中津市!$N$41 -> 0 | L20: =豊後高田市・宇佐市・中津市!$P$41 -> 5020 | M20: =豊後高田市・宇佐市・中津市!$Q$41 -> 0 | P20: =SUM(D20,F20,H20,J20,L20) -> 8520 | Q20: =SUM(E20,G20,I20,K20,M20) -> 0 | R20: 7 | S20: 25886
A21: 中津市 | B21: １９ | C21: 枚 数 | D21: =豊後高田市・宇佐市・中津市!$D$60 -> 3420 | E21: =豊後高田市・宇佐市・中津市!$E$60 -> 0 | F21: =豊後高田市・宇佐市・中津市!G$60 -> 3160 | G21: =豊後高田市・宇佐市・中津市!H$60 -> 0 | H21: =豊後高田市・宇佐市・中津市!J$60 -> 1960 | I21: =豊後高田市・宇佐市・中津市!K$60 -> 0 | J21: =豊後高田市・宇佐市・中津市!M$60 -> 140 | K21: =豊後高田市・宇佐市・中津市!N$60 -> 0 | L21: =豊後高田市・宇佐市・中津市!P$60 -> 5180 | M21: =豊後高田市・宇佐市・中津市!Q$60 -> 0 | P21: =SUM(D21,F21,H21,J21,L21) -> 13860 | Q21: =SUM(E21,G21,I21,K21,M21) -> 0 | R21: 7 | S21: 41804
A22: 玖珠郡 | B22: ２１ | C22: 枚 数 | D22: =玖珠郡・日田市!$D$24 -> 0 | E22: =玖珠郡・日田市!$E$24 -> 0 | F22: =玖珠郡・日田市!$G$24 -> 0 | G22: =玖珠郡・日田市!$H$24 -> 0 | H22: =玖珠郡・日田市!$J$24 -> 0 | I22: =玖珠郡・日田市!$K$24 -> 0 | J22: =玖珠郡・日田市!$M$24 -> 0 | K22: =玖珠郡・日田市!$N$24 -> 0 | L22: =玖珠郡・日田市!$P$24 -> 3950 | M22: =玖珠郡・日田市!$Q$24 -> 0 | P22: =SUM(D22,F22,H22,J22,L22) -> 3950 | Q22: =SUM(E22,G22,I22,K22,M22) -> 0 | R22: 8 | S22: 10312
A23: 日田市 | B23: ２２ | C23: 枚 数 | D23: =玖珠郡・日田市!$D$40 -> 2900 | E23: =玖珠郡・日田市!$E$40 -> 0 | F23: =玖珠郡・日田市!$G$40 -> 530 | G23: =玖珠郡・日田市!$H$40 -> 0 | H23: =玖珠郡・日田市!$J$40 -> 240 | I23: =玖珠郡・日田市!$K$40 -> 0 | J23: =玖珠郡・日田市!$M$40 -> 6590 | K23: =玖珠郡・日田市!$N$40 -> 0 | L23: =玖珠郡・日田市!$P$40 -> 1250 | M23: =玖珠郡・日田市!$Q$40 -> 0 | P23: =SUM(D23,F23,H23,J23,L23) -> 11510 | Q23: =SUM(E23,G23,I23,K23,M23) -> 0 | R23: 8 | S23: 27725
A25: 合 計 | C25: 枚 数 | D25: =SUM(D7:D24) -> 32080 | F25: =SUM(F7:F24) -> 11660 | H25: =SUM(H7:H24) -> 6620 | J25: =SUM(J7:J24) -> 6900 | L25: =SUM(L7:L24) -> 136870 | P25: =SUM(D25:O25) -> 194130 | Q25: =SUM(Q7:Q24) -> 0 | S25: =SUM(S7:S23) -> 552909
D26: 福 岡 県 コード ０８
N28: 36130 | P28: 株式会社読売西部 I S
A30: 市・郡・区 | B30: コード № | D30: 読 売 | F30: 朝 日 | H30: 毎 日 | J30: 西 日 本 | L30: 日 経 | P30: 計 | Q30: 世帯数 | R30: ページ
D31: コード | E31: ０１ | F31: コード | G31: ０２ | H31: コード | I31: ０３ | J31: コード | K31: ０４ | L31: コード | M31: ０５ | N31: コード | O31: ００

Sheet 佐伯市・津久見市・臼杵市
B1: 大分折込 | F1: 大 分 県 コード ４４
M2: 46296 | O2: 大分折込株式会社
A4: スポンサー名 | F4: 請求先 | H4: 折 込 日 | K4: サイズ | L4: 枚 数 | O4: センター名 | Q4: No.
H5: 年 月 日 曜 | L5: =玖珠郡・日田市!$L$5:$M$7 -> 0
N6: 枚
B9: 銘 柄 | C9: 読 売 | F9: 朝 日 | I9: 毎 日 | L9: 西 日 本 | O9: 大 分 合 同
C10: コード ０１ | F10: コード ０２ | I10: コード ０３ | L10: コード ０８ | O10: コード 79
A11: 市郡区 | C11: 店 名 | D11: 枚 数 | E11: 配 布 | F11: 店 名 | G11: 枚 数 | H11: 配 布 | I11: 店 名 | J11: 枚 数 | K11: 配 布 | L11: 店 名 | M11: 枚 数 | N11: 配 布 | O11: 店 名 | P11: 枚 数 | Q11: 配 布
A13: 佐伯市 | B13: 2 | C13: 佐伯中央 | D13: 1340 | F13: 海崎E | G13: 160 | O13: 海崎MS | P13: 390
A14: ※ | C14: 佐伯南部 | D14: 1700 | O14: 佐伯中央AMNSE | P14: 2460
O15: 米水津ME | P15: 190
O16: 鶴岡・堅田AMSE | P16: 2240
O17: 佐伯鶴見AM | P17: 330
O18: 上浦津井YM | P18: 110
O19: 浅海井YAME | P19: 240
O20: 弥生･本匠YAME | P20: 920
O21: 直川AM | P21: 320
O22: 重岡YAM | P22: 220
O23: 小野市YAM | P23: 190
O24: 蒲江AME | P24: 650
A31: ■地区枚数■ | B31: =D33+G33+J33+M33+P33 -> 11460
A33: ■配布枚数■ | B33: =E33+H33+K33+N33+Q33 -> 0 | C33: ◆小 計◆ | D33: =SUM(D13:D32) -> 3040 | E33: =SUM(E13:E32) -> 0 | F33: ◆小 計◆ | G33: =SUM(G13:G32) -> 160 | H33: =SUM(H13:H32) -> 0 | I33: ◆小 計◆ | J33: =SUM(J13:J32) -> 0 | K33: =SUM(K13:K32) -> 0 | L33: ◆小 計◆ | O33: ◆小 計◆ | P33: =SUM(P13:P32) -> 8260 | Q33: =SUM(Q13:Q32) -> 0
A35: 津久見市 | B35: 3 | C35: 津久見 | D35: 410 | F35: 津久見E | G35: 360 | I35: 津久見S | J35: 150 | O35: 津久見中央NN | P35: 960
A36: ※ | O36: 津久見千怒立花NN | P36: 1040
O37: 日代A | P37: 140
A40: ■地区枚数■ | B40: =D42+G42+J42+M42+P42 -> 3060
A42: ■配布枚数■ | B42: =E42+H42+K42+N42+Q42 -> 0 | C42: ◆小 計◆ | D42: =SUM(D35:D41) -> 410 | E42: =SUM(E35:E41) -> 0 | F42: ◆小 計◆ | G42: =SUM(G35:G41) -> 360 | H42: =SUM(H35:H41) -> 0 | I42: ◆小 計◆ | J42: =SUM(J35:J41) -> 150 | K42: =SUM(K35:K41) -> 0 | L42: ◆小 計◆ | O42: ◆小 計◆ | P42: =SUM(P35:P41) -> 2140 | Q42: =SUM(Q35:Q41) -> 0
A44: 臼杵市 | B44: 4 | C44: 臼杵 | D44: 680 | F44: 臼杵E | G44: 560 | I44: 臼杵S | J44: 230 | O44: 熊崎 | P44: 1050
A45: ※ | O45: 海辺･下ノ江AME | P45: 1140
O46: 臼杵中央AMN | P46: 1140
O47: 臼杵港町NN | P47: 680
O48: 野津東YAMSE | P48: 720
O49: 野津中央YAME | P49: 510
O50: 川登YAM | P50: 230
A58: ■地区枚数■ | B58: =D60+G60+J60+M60+P60 -> 6940
A60: ■配布枚数■ | B60: =E60+H60+K60+N60+Q60 -> 0 | C60: ◆小 計◆ | D60: =SUM(D44:D59) -> 680 | E60: =SUM(E44:E59) -> 0 | F60: ◆小 計◆ | G60: =SUM(G44:G59) -> 560 | H60: =SUM(H44:H59) -> 0 | I60: ◆小 計◆ | J60: =SUM(J44:J59) -> 230 | K60: =SUM(K44:K59) -> 0 | L60: ◆小 計◆ | O60: ◆小 計◆ | P60: =SUM(P44:P59) -> 5470 | Q60: =SUM(Q44:Q59) -> 0

Sheet 大分市１
B1: 大分折込 | F1: 大 分 県 コード ４４
M2: 46296 | O2: 大分折込株式会社
A4: スポンサー名 | F4: 請求先 | H4: 折 込 日 | K4: サイズ | L4: 枚 数 | O4: センター名 | Q4: No.
H5: 年 月 日 曜 | L5: =玖珠郡・日田市!$L$5:$M$7 -> 0
N6: 枚
B9: 銘 柄 | C9: 読 売 | F9: 朝 日 | I9: 毎 日 | L9: 西 日 本 | O9: 大 分 合 同
C10: コード ０１ | F10: コード ０２ | I10: コード ０３ | L10: コード ０８ | O10: コード 79
A11: 市郡区 | C11: 店 名 | D11: 枚 数 | E11: 配 布 | F11: 店 名 | G11: 枚 数 | H11: 配 布 | I11: 店 名 | J11: 枚 数 | K11: 配 布 | L11: 店 名 | M11: 枚 数 | N11: 配 布 | O11: 店 名 | P11: 枚 数 | Q11: 配 布
A13: 大分市 | B13: 6 | C13: 大分西部 | D13: 1030 | F13: 大分西部・南部NNE | G13: 1340 | I13: 大分中央･中島S | J13: 900 | O13: ※大分西部AMSE | P13: 1070
A14: *新市内 | C14: 大分中央 | D14: 280 | F14: 中島E | G14: 980 | I14: 大分西部S | J14: 160 | O14: ※春日AMNSE | P14: 1100
C15: 舞鶴 | D15: 270 | F15: 金池E | G15: 1000 | I15: 南大分S | J15: 370 | O15: ※南春日E | P15: 1340
C16: 大分駅南 | D16: 220 | F16: 上野・古国府E | G16: 350 | I16: 滝尾・明野S | J16: 280 | O16: ※大分北部NN | P16: 680
C17: 南大分 | D17: 440 | F17: 高城E | G17: 460 | I17: 大分東部･高城SE | J17: 300 | O17: ※碩田NN | P17: 380
C18: 南大分西部 | D18: 330 | F18: 明野E | G18: 900 | I18: ＊明野東 | J18: 110 | O18: ※大分中島NN | P18: 600
C19: 滝尾・下郡 | D19: 360 | I19: ＊稙田・宗方S | J19: 280 | O19: ※大手・長浜町NN | P19: 1740
C20: 津留 | D20: 460 | O20: ※錦町NN | P20: 1550
C21: 大分東部 | D21: 120 | O21: ※三浦官公庁 | P21: 270
C22: 高城 | D22: 180 | O22: ※田室町NN | P22: 1930
C23: 明野 | D23: 700 | O23: ※上野丘NN | P23: 780
C24: ＊明治 | D24: 1150 | O24: ※上野町金池南NN | P24: 820
C25: ＊鶴崎 | D25: 1870 | O25: ※南大分E | P25: 1480
C26: ＊大在 | D26: 670 | O26: ※西の台NNE | P26: 860
C27: ＊坂ノ市 | D27: 300 | O27: ※明磧E | P27: 760
C28: ＊宗方 | D28: 780 | O28: ※城南・賀来E | P28: 1620
C29: ＊稙田西 | D29: 610 | O29: ※上田町 | P29: 370
C30: ＊光吉MS | D30: 720 | O30: ※畑中E | P30: 460
C31: ＊宮崎･敷戸MS | D31: 230 | O31: ※古国府 | P31: 470
... C34: ＊松岡・判田 | D34: 400 | O34: ※羽田藤の台E | P34: 1270
O35: ※下郡E | P35: 1630
O36: ※下郡北ANSE | P36: 850
O37: ※津留AMSE | P37: 770
O38: ※大津町AMNNSE | P38: 350
O39: ※牧ANSE | P39: 1450
O40: ※高城NN | P40: 1640
O41: ※明野北部NN | P41: 770
O42: ※明野NN | P42: 2170
O43: ※明野南部AME | P43: 1400
O44: ※別保AMNNE | P44: 960
O45: ※森町AMNSE | P45: 1850
O46: ※松岡AMNNSE | P46: 1120
...

Sheet 大分市２
B1: 大分折込 | F1: 大 分 県 コード ４４
M2: 46296 | O2: 大分折込株式会社
A4: スポンサー名 | F4: 請求先 | H4: 折 込 日 | K4: サイズ | L4: 枚 数 | O4: センター名 | Q4: No.
H5: 年 月 日 曜 | L5: =玖珠郡・日田市!$L$5:$M$7 -> 0
N6: 枚
B9: 銘 柄 | C9: 読 売 | F9: 朝 日 | I9: 毎 日 | L9: 西 日 本 | O9: 大 分 合 同
C10: コード ０１ | F10: コード ０２ | I10: コード ０３ | L10: コード ０８ | O10: コード 79
A11: 市郡区 | C11: 店 名 | D11: 枚 数 | E11: 配 布 | F11: 店 名 | G11: 枚 数 | H11: 配 布 | I11: 店 名 | J11: 枚 数 | K11: 配 布 | L11: 店 名 | M11: 枚 数 | N11: 配 布 | O11: 店 名 | P11: 枚 数 | Q11: 配 布
A12: 大分市 | B12: 6
O13: ※大在城原AMSE | P13: 870
O14: ※大在浜AMNNSE | P14: 890
O15: ※坂ノ市北部AMNE | P15: 750
O16: ※坂ノ市南部AMNSE | P16: 880
O17: ※丹生AMNNE | P17: 560
O18: ※国分・緑ヶ丘AMNSE | P18: 1450
O19: ※はさまYAMNSE | P19: 490
O20: ※医大ヶ丘YNSE | P20: 520
O21: ※宗方NE | P21: 1250
O22: ※わさだANNE | P22: 2560
O23: ※富士見雄城台ANNE | P23: 2110
O24: ※宮崎台鴛野ANNE | P24: 2760
... O41: ◆佐賀関中央YAMNNE | P41: 690
C42: ◆野津原 | D42: 40 | O42: ◆野津原AME | P42: 560
O43: ◆今市 | P43: 70
A58: ■地区枚数■ | B58: =D60+G60+J60+M60+P60 -> 81120
A60: ■配布枚数■ | B60: =E60+H60+K60+N60+Q60 -> 0 | C60: ◆小 計◆ | D60: =SUM(D12:D59)+SUM(大分市１!D13:'大分市１'!D60) -> 11910 | E60: =SUM(E12:E59)+SUM(大分市１!E13:'大分市１'!E60) -> 0 | F60: ◆小 計◆ | G60: =SUM(G12:G59)+SUM(大分市１!G13:'大分市１'!G60) -> 5030 | H60: =SUM(H12:H59)+SUM(大分市１!H13:'大分市１'!H60) -> 0 | I60: ◆小 計◆ | J60: =SUM(J12:J59)+SUM(大分市１!J13:'大分市１'!J60) -> 2400 | K60: =SUM(K12:K59)+SUM(大分市１!K13:'大分市１'!K60) -> 0 | L60: ◆小 計◆ | M60: =SUM(M12:M59)+SUM(大分市１!M13:'大分市１'!M60) -> 0 | N60: =SUM(N12:N59)+SUM(大分市１!N13:'大分市１'!N60) -> 0 | O60: ◆小 計◆ | P60: =SUM(P12:P59)+SUM(大分市１!P13:'大分市１'!P60) -> 61780 | Q60: =SUM(Q12:Q59)+SUM(大分市１!Q13:'大分市１'!Q60) -> 0

Sheet 豊後大野市・竹田市
B1: 大分折込 | F1: 大 分 県 コード ４４
M2: 46296 | O2: 大分折込株式会社
A4: スポンサー名 | F4: 請求先 | H4: 折 込 日 | K4: サイズ | L4: 枚 数 | O4: センター名 | Q4: No.
H5: 年 月 日 曜 | L5: =玖珠郡・日田市!$L$5:$M$7 -> 0
N6: 枚
B9: 銘 柄 | C9: 読 売 | F9: 朝 日 | I9: 毎 日 | L9: 西 日 本 | O9: 大 分 合 同
C10: コード ０１ | F10: コード ０２ | I10: コード ０３ | L10: コード ０８ | O10: コード 79
A11: 市郡区 | C11: 店 名 | D11: 枚 数 | E11: 配 布 | F11: 店 名 | G11: 枚 数 | H11: 配 布 | I11: 店 名 | J11: 枚 数 | K11: 配 布 | L11: 店 名 | M11: 枚 数 | N11: 配 布 | O11: 店 名 | P11: 枚 数 | Q11: 配 布
A12: 豊後大野市 | B12: 7
A13: ※ | C13: 三重 | D13: 400 | O13: 犬飼YAME | P13: 300
O14: 犬飼西YAM | P14: 450
O15: 千歳YAM | P15: 330
O16: 大野YAME | P16: 640
O17: 朝地YAME | P17: 480
O18: 菅尾YE | P18: 310
O19: 豊後大野中央AMSE | P19: 2120
O20: 清川YAMNNE | P20: 330
O21: 緒方YAMNNE | P21: 880
A33: ■地区枚数■ | B33: =D35+G35+J35+M35+P35 -> 6240
A35: ■配布枚数■ | B35: =E35+H35+K35+N35+Q35 -> 0 | C35: ◆小 計◆ | D35: =SUM(D12:D34) -> 400 | E35: =SUM(E12:E34) -> 0 | F35: ◆小 計◆ | G35: =SUM(G12:G34) -> 0 | H35: =SUM(H12:H34) -> 0 | I35: ◆小 計◆ | J35: =SUM(J12:J34) -> 0 | K35: =SUM(K12:K34) -> 0 | L35: ◆小 計◆ | O35: ◆小 計◆ | P35: =SUM(P12:P34) -> 5840 | Q35: =SUM(Q12:Q34) -> 0
A37: 竹田市 | B37: 8 | C37: 竹田 | D37: 120 | F37: 竹田 | G37: 170 | O37: 城原白丹YAMN | P37: 470
A38: ※ | C38: 玉来 | D38: 150 | O38: 竹田･玉来YAMNNSE | P38: 1720
O39: 直入YAME | P39: 400
O40: 久住YAMNNE | P40: 500
O41: 荻YAME | P41: 850
A51: ■地区枚数■ | B51: =D53+G53+J53+M53+P53 -> 4380
A53: ■配布枚数■ | B53: =E53+H53+K53+N53+Q53 -> 0 | C53: ◆小 計◆ | D53: =SUM(D36:D52) -> 270 | E53: =SUM(E36:E52) -> 0 | F53: ◆小 計◆ | G53: =SUM(G36:G52) -> 170 | H53: =SUM(H36:H52) -> 0 | I53: ◆小 計◆ | L53: ◆小 計◆ | M53: =SUM(M36:M52) -> 0 | N53: =SUM(N36:N52) -> 0 | O53: ◆小 計◆ | P53: =SUM(P36:P52) -> 3940 | Q53: =SUM(Q36:Q52) -> 0

Sheet 由布市・別府市
B1: 大分折込 | F1: 大 分 県 コード ４４
M2: 46296 | O2: 大分折込株式会社
A4: スポンサー名 | F4: 請求先 | H4: 折 込 日 | K4: サイズ | L4: 枚 数 | O4: センター名 | Q4: No.
H5: 年 月 日 曜 | L5: =玖珠郡・日田市!$L$5:$M$7 -> 0
N6: 枚
B9: 銘 柄 | C9: 読 売 | F9: 朝 日 | I9: 毎 日 | L9: 西 日 本 | O9: 大 分 合 同
C10: コード ０１ | F10: コード ０２ | I10: コード ０３ | L10: コード ０８ | O10: コード 79
A11: 市郡区 | C11: 店 名 | D11: 枚 数 | E11: 配 布 | F11: 店 名 | G11: 枚 数 | H11: 配 布 | I11: 店 名 | J11: 枚 数 | K11: 配 布 | L11: 店 名 | M11: 枚 数 | N11: 配 布 | O11: 店 名 | P11: 枚 数 | Q11: 配 布
A12: 由布市 | B12: 10
A13: ※ | F13: 湯布院E | G13: 270 | O13: 向の原YME | P13: 420
O14: 挾間中央YE | P14: 740
O15: 小野屋YAMNNE | P15: 770
O16: 庄内YME | P16: 600
O17: 阿蘇野 | P17: 90
O18: 湯の平YAM | P18: 140
O19: 湯布院YAMNNS | P19: 1470
A24: ■地区枚数■ | B24: =D26+G26+J26+M26+P26 -> 4500
A26: ■配布枚数■ | B26: =E26+H26+K26+N26+Q26 -> 0 | C26: ◆小 計◆ | D26: =SUM(D12:D25) -> 0 | E26: =SUM(E12:E25) -> 0 | F26: ◆小 計◆ | G26: =SUM(G12:G25) -> 270 | H26: =SUM(H12:H25) -> 0 | I26: ◆小 計◆ | J26: =SUM(J12:J25) -> 0 | K26: =SUM(K12:K25) -> 0 | L26: ◆小 計◆ | O26: ◆小 計◆ | P26: =SUM(P12:P25) -> 4230 | Q26: =SUM(Q12:Q25) -> 0
A28: 別府市 | B28: 11 | C28: 流川 | D28: 210 | F28: 南部 | G28: 90 | I28: 南部S | J28: 230 | O28: 亀川駅前AMSE | P28: 1010
A29: ※ | C29: 南部 | D29: 150 | F29: 西部 | G29: 260 | I29: 中央S | J29: 420 | O29: 亀川四の湯AMSE | P29: 500
C30: 西部 | D30: 1170 | F30: 石垣 | G30: 200 | I30: 石垣SE | J30: 290 | O30: 大学通りMS | P30: 1290
C31: 中央 | D31: 220 | F31: 別府北部 | G31: 20 | O31: 鉄輪AMNSE | P31: 1560
C32: 実相寺 | D32: 1020 | O32: 別府石垣E | P32: 1040
C33: 鉄輪 | D33: 580 | O33: 若草AMNSE | P33: 700
C34: 上人 | D34: 730 | O34: 南荘園E | P34: 900
C35: 亀川 | D35: 250 | O35: 鶴見AMS | P35: 670
O36: 東荘園AMSE | P36: 590
O37: 扇山AMSE | P37: 630
O38: 山の手E | P38: 850
O39: 野口MSE | P39: 1040
O40: 別府中央AE | P40: 860
O41: 光町・朝見E | P41: 1100
O42: 別府南部E | P42: 510
O43: 天間 | P43: 20
A55: ■地区枚数■ | B55: =D57+G57+J57+M57+P57 -> 19110
A57: ■配布枚数■ | B57: =E57+H57+K57+N57+Q57 -> 0 | C57: ◆小 計◆ | D57: =SUM(D28:D56) -> 4330 | E57: =SUM(E28:E56) -> 0 | F57: ◆小 計◆ | G57: =SUM(G28:G56) -> 570 | H57: =SUM(H28:H56) -> 0 | I57: ◆小 計◆ | J57: =SUM(J28:J56) -> 940 | K57: =SUM(K28:K56) -> 0 | L57: ◆小 計◆ | M57: =SUM(M28:M56) -> 0 | N57: =SUM(N28:N56) -> 0 | O57: ◆小 計◆ | P57: =SUM(P28:P56) -> 13270 | Q57: =SUM(Q28:Q56) -> 0

Sheet 速見郡・杵築市・東国東郡・国東市
B1: 大分折込 | F1: 大 分 県 コード ４４
M2: 46296 | O2: 大分折込株式会社
A4: スポンサー名 | F4: 請求先 | H4: 折 込 日 | K4: サイズ | L4: 枚 数 | O4: センター名 | Q4: No.
H5: 年 月 日 曜 | L5: =玖珠郡・日田市!$L$5:$M$7 -> 0
N6: 枚
B9: 銘 柄 | C9: 読 売 | F9: 朝 日 | I9: 毎 日 | L9: 西 日 本 | O9: 大 分 合 同
C10: コード ０１ | F10: コード ０２ | I10: コード ０３ | L10: コード ０８ | O10: コード 79
A11: 市郡区 | C11: 店 名 | D11: 枚 数 | E11: 配 布 | F11: 店 名 | G11: 枚 数 | H11: 配 布 | I11: 店 名 | J11: 枚 数 | K11: 配 布 | L11: 店 名 | M11: 枚 数 | N11: 配 布 | O11: 店 名 | P11: 枚 数 | Q11: 配 布
A12: 速見郡 | B12: 12 | C12: 日出 | D12: 270 | O12: 日出東部AMSE | P12: 1540
A13: ※ | C13: 日出東部 | D13: 240 | O13: 日出AMNSE | P13: 2220
A17: ■地区枚数■ | B17: =D19+G19+J19+M19+P19 -> 4270
A19: ■配布枚数■ | B19: =E19+H19+K19+N19+Q19 -> 0 | C19: ◆小 計◆ | D19: =SUM(D12:D18) -> 510 | E19: =SUM(E12:E18) -> 0 | F19: ◆小 計◆ | G19: =SUM(G12:G18) -> 0 | H19: =SUM(H12:H18) -> 0 | I19: ◆小 計◆ | J19: =SUM(J12:J18) -> 0 | K19: =SUM(K12:K18) -> 0 | L19: ◆小 計◆ | O19: ◆小 計◆ | P19: =SUM(P12:P18) -> 3760 | Q19: =SUM(Q12:Q18) -> 0
A21: 杵築市 | B21: 13 | C21: 杵築 | D21: 480 | O21: 杵築・守江AMSE | P21: 800
A22: ※ | O22: 杵築AMNNSE | P22: 1350
O23: 杵築西部AMSE | P23: 1160
O24: 中山香YAME | P24: 1040
O25: 田原YAM | P25: 220
A29: ■地区枚数■ | B29: =D31+G31+J31+M31+P31 -> 5050
A31: ■配布枚数■ | B31: =E31+H31+K31+N31+Q31 -> 0 | C31: ◆小 計◆ | D31: =SUM(D20:D30) -> 480 | E31: =SUM(E20:E30) -> 0 | F31: ◆小 計◆ | G31: =SUM(G20:G30) -> 0 | H31: =SUM(H20:H30) -> 0 | I31: ◆小 計◆ | L31: ◆小 計◆ | O31: ◆小 計◆ | P31: =SUM(P20:P30) -> 4570 | Q31: =SUM(Q20:Q30) -> 0
A33: 東国東郡 | B33: 14 | O33: 姫島YAMN | P33: 260
A34: ※
A35: ■地区枚数■ | B35: =D37+G37+J37+M37+P37 -> 260
A37: ■合計枚数■ | B37: =E37+H37+K37+N37+Q37 -> 0 | C37: ◆小 計◆ | D37: =SUM(D32:D35) -> 0 | E37: =SUM(E32:E35) -> 0 | F37: ◆小 計◆ | I37: ◆小 計◆ | J37: =SUM(J32:J35) -> 0 | K37: =SUM(K32:K35) -> 0 | L37: ◆小 計◆ | O37: ◆小 計◆ | P37: =SUM(P32:P35) -> 260 | Q37: =SUM(Q32:Q35) -> 0
A39: 国東市 | B39: 15 | O39: 伊美･竹田津YAME | P39: 620
A40: ※ | O40: 岐部YAM | P40: 210
O41: 来ノ浦YAM | P41: 240
O42: 国東YAMNNES | P42: 1520
O43: 武蔵南部YAMSE | P43: 450
O44: 武蔵北・旭日YAME | P44: 700
O45: 安岐下原YAME | P45: 410
O46: 西武蔵朝来YAM | P46: 250
O47: 西安岐YAMSE | P47: 800
A52: ■地区枚数■ | B52: =$D$54+$G$54+$J$54+$M$54+$P$54 -> 5200
A54: ■配布枚数■ | B54: =E54+H54+K54+N54+Q54 -> 0 | C54: ◆小 計◆ | D54: =SUM(D39:D53) -> 0 | E54: =SUM(E39:E53) -> 0 | F54: ◆小 計◆ | G54: =SUM(G39:G53) -> 0 | H54: =SUM(H39:H53) -> 0 | I54: ◆小 計◆ | J54: =SUM(J39:J53) -> 0 | K54: =SUM(K39:K53) -> 0 | L54: ◆小 計◆ | O54: ◆小 計◆ | P54: =SUM(P39:P53) -> 5200 | Q54: =SUM(Q39:Q53) -> 0

Sheet 豊後高田市・宇佐市・中津市
B1: 大分折込 | F1: 大 分 県 コード ４４
M2: 46296 | O2: 大分折込株式会社
A4: スポンサー名 | F4: 請求先 | H4: 折 込 日 | K4: サイズ | L4: 枚 数 | O4: センター名 | Q4: No.
H5: 年 月 日 曜 | L5: =玖珠郡・日田市!$L$5:$M$7 -> 0
N6: 枚
B9: 銘 柄 | C9: 読 売 | F9: 朝 日 | I9: 毎 日 | L9: 西 日 本 | O9: 大 分 合 同
C10: コード ０１ | F10: コード ０２ | I10: コード ０３ | L10: コード ０８ | O10: コード 79
A11: 市郡区 | C11: 店 名 | D11: 枚 数 | E11: 配 布 | F11: 店 名 | G11: 枚 数 | H11: 配 布 | I11: 店 名 | J11: 枚 数 | K11: 配 布 | L11: 店 名 | M11: 枚 数 | N11: 配 布 | O11: 店 名 | P11: 枚 数 | Q11: 配 布
A12: 豊後高田市 | B12: 16
A13: ※ | C13: 豊後高田 | D13: 1480 | F13: 豊後高田 | G13: 190 | I13: 豊後高田S | J13: 80 | L13: 豊後高田 | M13: 70 | O13: 都甲YAM | P13: 210
C14: 真玉 | D14: 40 | O14: 田染YAM | P14: 200
C15: 香々地 | D15: 90 | O15: 高田・玉津E | P15: 1330
O16: 香々地AME | P16: 530
O17: 真玉AMNNE | P17: 480
A19: ■地区枚数■ | B19: =D21+G21+J21+M21+P21 -> 4700
A21: ■配布枚数■ | B21: =E21+H21+K21+N21+Q21 -> 0 | C21: ◆小 計◆ | D21: =SUM(D12:D20) -> 1610 | E21: =SUM(E12:E20) -> 0 | F21: ◆小 計◆ | G21: =SUM(G12:G20) -> 190 | H21: =SUM(H12:H20) -> 0 | I21: ◆小 計◆ | J21: =SUM(J12:J20) -> 80 | K21: =SUM(K12:K20) -> 0 | L21: ◆小 計◆ | M21: =SUM(M12:M20) -> 70 | N21: =SUM(N12:N20) -> 0 | O21: ◆小 計◆ | P21: =SUM(P12:P20) -> 2750 | Q21: =SUM(Q12:Q20) -> 0
A23: 宇佐市 | B23: 17 | C23: 宇佐･駅川 | D23: 730 | F23: 善光寺E | G23: 60 | I23: 善光寺SE | J23: 130 | L23: 長洲 | M23: 30 | O23: 善光寺･天津NNE | P23: 700
A24: ※ | C24: (北馬城高野支店AMNNE | D24: 200 | F24: 四日市SE | G24: 450 | I24: 長洲S | J24: 60 | L24: 四日市 | M24: 70 | O24: 四日市 | P24: 600
C25: 柳ヶ浦･四日市東 | D25: 620 | F25: 長洲・宇佐E | G25: 150 | I25: 宇佐S | J25: 80 | O25: 宇佐中央長洲 | P25: 1120
C26: 大根川･四日市西 | D26: 570 | I26: 柳ヶ浦中央S | J26: 180 | O26: 和間 | P26: 280
I27: 四日市SE | J27: 170 | O27: 宇佐E | P27: 290
O28: 北馬城 | P28: 320
O29: 院内YAME | P29: 690
O30: 安心院YAME | P30: 580
O31: 佐田・深見YAM | P31: 440
A39: ■地区枚数■ | B39: =D41+G41+J41+M41+P41 -> 8520
A41: ■配布枚数■ | B41: =E41+H41+K41+N41+Q41 -> 0 | C41: ◆小 計◆ | D41: =SUM(D23:D40) -> 2120 | E41: =SUM(E23:E40) -> 0 | F41: ◆小 計◆ | G41: =SUM(G23:G40) -> 660 | H41: =SUM(H23:H40) -> 0 | I41: ◆小 計◆ | J41: =SUM(J23:J40) -> 620 | K41: =SUM(K23:K40) -> 0 | L41: ◆小 計◆ | M41: =SUM(M23:M40) -> 100 | N41: =SUM(N23:N40) -> 0 | O41: ◆小 計◆ | P41: =SUM(P23:P40) -> 5020 | Q41: =SUM(Q23:Q40) -> 0
A43: 中津市 | B43: 19 | C43: 中津南 | D43: 600 | F43: 中津中央 | G43: 400 | I43: 中津中央SE | J43: 550 | L43: 中津 | M43: 140 | O43: 宮永 | P43: 610
A44: ※ | C44: 中津駅前通 | D44: 1490 | F44: 中津南部 | G44: 1100 | I44: 中津西部E | J44: 610 | O44: 小楠 | P44: 550
C45: 大幡今津 | D45: 1050 | F45: 中津東部 | G45: 400 | I45: 中津東部E | J45: 430 | O45: 鶴居 | P45: 800
C46: 中津・三保 | D46: 40 | F46: 大幡MSE | G46: 830 | I46: 鶴居E | J46: 180 | O46: 大幡 | P46: 630
C47: 真坂 | D47: 40 | F47: 今津MSE | G47: 430 | I47: 大幡SE | J47: 190 | O47: 今津 | P47: 360
C48: 三光 | D48: 200 | O48: 上ノ原AMNNE | P48: 450
O49: 真坂AME | P49: 200
O50: 洞門YAMNNE | P50: 460
O51: 平田YAMN | P51: 170
O52: 下郷・柿坂YAMNNE | P52: 520
O53: 守実YAMNNE | P53: 430
A58: ■地区枚数■ | B58: =D60+G60+J60+M60+P60 -> 13860
A60: ■配布枚数■ | B60: =E60+H60+K60+N60+Q60 -> 0 | C60: ◆小 計◆ | D60: =SUM(D43:D59) -> 3420 | E60: =SUM(E43:E59) -> 0 | F60: ◆小 計◆ | G60: =SUM(G43:G59) -> 3160 | H60: =SUM(H43:H59) -> 0 | I60: ◆小 計◆ | J60: =SUM(J43:J59) -> 1960 | K60: =SUM(K43:K59) -> 0 | L60: ◆小 計◆ | M60: =SUM(M43:M59) -> 140 | N60: =SUM(N43:N59) -> 0 | O60: ◆小 計◆ | P60: =SUM(P43:P59) -> 5180 | Q60: =SUM(Q43:Q59) -> 0

Sheet 玖珠郡・日田市
B1: 大分折込 | F1: 大 分 県 コード ４４
M2: 46296 | O2: 大分折込株式会社
A4: スポンサー名 | F4: 請求先 | H4: 折 込 日 | K4: サイズ | L4: 枚 数 | O4: センター名 | Q4: No.
H5: 年 月 日 曜 | L5: =佐伯市・津久見市・臼杵市!B33+佐伯市・津久見市・臼杵市!B42+佐伯市・津久見市・臼杵市!B60+大分市２!B60+豊後大野市・竹田市!B35+豊後大野市・竹田市!B53+由布市・別府市!B26+由布市・別府市!B57+速見郡・杵築市・東国東郡・国東市!B19+速見郡・杵築市・東国東郡・国東市!B31+速見郡・杵築市・東国東郡・国東市!B37+速見郡・杵築市・東国東郡・国東市!B54+豊後高田市・宇佐市・中津市!B21+豊後高田市・宇佐市・中津市!B41+豊後高田市・宇佐市・中津市!B60+玖珠郡・日田市!B24+玖珠郡・日田市!B40 -> 0
N6: 枚
B9: 銘 柄 | C9: 読 売 | F9: 朝 日 | I9: 毎 日 | L9: 西 日 本 | O9: 大 分 合 同
C10: コード ０１ | F10: コード ０２ | I10: コード ０３ | L10: コード ０８ | O10: コード 79
A11: 市郡区 | C11: 店 名 | D11: 枚 数 | E11: 配 布 | F11: 店 名 | G11: 枚 数 | H11: 配 布 | I11: 店 名 | J11: 枚 数 | K11: 配 布 | L11: 店 名 | M11: 枚 数 | N11: 配 布 | O11: 店 名 | P11: 枚 数 | Q11: 配 布
A13: 玖珠郡 | B13: 21 | O13: 北山田YAMNNE | P13: 520
A14: ※ | O14: 塚脇YAMNNE | P14: 960
O15: 玖珠YAMNNE | P15: 1000
O16: 恵良YMNE | P16: 360
O17: 中村YAMNNE | P17: 730
O18: 飯田YAMNNE | P18: 320
O19: 日出生YNE | P19: 60
A22: ■地区枚数■ | B22: =D24+G24+J24+M24+P24 -> 3950
A24: ■配布枚数■ | B24: =E24+H24+K24+N24+Q24 -> 0 | C24: ◆小 計◆ | D24: =SUM(D13:D23) -> 0 | E24: =SUM(E13:E23) -> 0 | F24: ◆小 計◆ | G24: =SUM(G13:G23) -> 0 | H24: =SUM(H13:H23) -> 0 | I24: ◆小 計◆ | L24: ◆小 計◆ | M24: =SUM(M13:M23) -> 0 | N24: =SUM(N13:N23) -> 0 | O24: ◆小 計◆ | P24: =SUM(P13:P23) -> 3950 | Q24: =SUM(Q13:Q23) -> 0
A26: 日田市 | B26: 22 | C26: 日田 | D26: 1570 | F26: 日田 | G26: 530 | I26: 日田S | J26: 240 | L26: 日田E | M26: 6590 | O26: 日田 | P26: 850
A27: ※ | C27: 日田三隈 | D27: 1330 | O27: 天ヶ瀬・津江YAM | P27: 280
O28: 津江Y | P28: 120
A38: ■地区枚数■ | B38: =D40+G40+J40+M40+P40 -> 11510
A40: ■配布枚数■ | B40: =E40+H40+K40+N40+Q40 -> 0 | C40: ◆小 計◆ | D40: =SUM(D26:D39) -> 2900 | E40: =SUM(E26:E39) -> 0 | F40: ◆小 計◆ | G40: =SUM(G26:G39) -> 530 | H40: =SUM(H26:H39) -> 0 | I40: ◆小 計◆ | J40: =SUM(J26:J39) -> 240 | K40: =SUM(K26:K39) -> 0 | L40: ◆小 計◆ | M40: =SUM(M26:M39) -> 6590 | N40: =SUM(N26:N39) -> 0 | O40: ◆小 計◆ | P40: =SUM(P26:P39) -> 1250 | Q40: =SUM(Q26:Q39) -> 0
