Workbook

Sheet 集計
D1: 長 崎 県 コード ４２
N3: 46296 | P3: 大分折込株式会社
A5: 市・郡・区 | B5: コード № | D5: 読 売 | F5: 朝 日 | H5: 毎 日 | J5: 西 日 本 | L5: 長 崎 | N5: Nポス | P5: 計 | Q5: 配布計 | R5: ページ | S5: 26.01
D6: コード | E6: ０１ | F6: コード | G6: ０２ | H6: コード | I6: ０３ | J6: コード | K6: ０８ | L6: コード | M6: ７７ | N6: コード | O6: ９６ | S6: 世帯数
A7: 長崎市 | B7: ０１ | C7: 枚 数 | D7: =長崎市２・西彼杵郡・西海市・諫早市!$D$26 -> 8960 | E7: =長崎市２・西彼杵郡・西海市・諫早市!$E$26 -> 0 | F7: =長崎市２・西彼杵郡・西海市・諫早市!$G$26 -> 0 | G7: =長崎市２・西彼杵郡・西海市・諫早市!$H$26 -> 0 | H7: =長崎市２・西彼杵郡・西海市・諫早市!$J$26 -> 2140 | I7: =長崎市２・西彼杵郡・西海市・諫早市!$K$26 -> 0 | J7: =長崎市２・西彼杵郡・西海市・諫早市!$M$26 -> 0 | K7: =長崎市２・西彼杵郡・西海市・諫早市!$N$26 -> 0 | L7: =長崎市２・西彼杵郡・西海市・諫早市!$P$26 -> 71070 | M7: =長崎市２・西彼杵郡・西海市・諫早市!$Q$26 -> 0 | N7: =長崎市２・西彼杵郡・西海市・諫早市!$S$26 -> 4590 | O7: =長崎市２・西彼杵郡・西海市・諫早市!$T$26 -> 0 | P7: =SUM(D7,F7,H7,J7,L7,N7) -> 86760 | Q7: =SUM(E7,G7,I7,K7,M7,O7) -> 0 | R7: 1・2 | S7: 205257
A8: 西彼杵郡 | B8: ０２ | C8: 枚 数 | D8: =長崎市２・西彼杵郡・西海市・諫早市!$D$34 -> 1690 | E8: =長崎市２・西彼杵郡・西海市・諫早市!$E$34 -> 0 | F8: =長崎市２・西彼杵郡・西海市・諫早市!$G$34 -> 0 | G8: =長崎市２・西彼杵郡・西海市・諫早市!$H$34 -> 0 | H8: =長崎市２・西彼杵郡・西海市・諫早市!$J$34 -> 0 | I8: =長崎市２・西彼杵郡・西海市・諫早市!$K$34 -> 0 | J8: =長崎市２・西彼杵郡・西海市・諫早市!$M$34 -> 0 | K8: =長崎市２・西彼杵郡・西海市・諫早市!$N$34 -> 0 | L8: =長崎市２・西彼杵郡・西海市・諫早市!$P$34 -> 11200 | M8: =長崎市２・西彼杵郡・西海市・諫早市!$Q$34 -> 0 | N8: =長崎市２・西彼杵郡・西海市・諫早市!$S$34 -> 700 | O8: =長崎市２・西彼杵郡・西海市・諫早市!$T$34 -> 0 | P8: =SUM(D8,F8,H8,J8,L8,N8) -> 13590 | Q8: =SUM(E8,G8,I8,K8,M8,O8) -> 0 | R8: 2 | S8: 30859
A9: 西海市 | B9: ０２ | C9: 枚 数 | D9: =長崎市２・西彼杵郡・西海市・諫早市!$D$44 -> 0 | E9: =長崎市２・西彼杵郡・西海市・諫早市!$E$44 -> 0 | F9: =長崎市２・西彼杵郡・西海市・諫早市!$G$44 -> 0 | G9: =長崎市２・西彼杵郡・西海市・諫早市!$H$44 -> 0 | H9: =長崎市２・西彼杵郡・西海市・諫早市!$J$44 -> 0 | I9: =長崎市２・西彼杵郡・西海市・諫早市!$K$44 -> 0 | J9: =長崎市２・西彼杵郡・西海市・諫早市!$M$44 -> 50 | K9: =長崎市２・西彼杵郡・西海市・諫早市!$N$44 -> 0 | L9: =長崎市２・西彼杵郡・西海市・諫早市!$P$44 -> 4940 | M9: =長崎市２・西彼杵郡・西海市・諫早市!$Q$44 -> 0 | N9: =長崎市２・西彼杵郡・西海市・諫早市!$S$44 -> 0 | O9: =長崎市２・西彼杵郡・西海市・諫早市!$T$44 -> 0 | P9: =SUM(D9,F9,H9,J9,L9,N9) -> 4990 | Q9: =SUM(E9,G9,I9,K9,M9,O9) -> 0 | R9: 2 | S9: 12266
A10: 諫早市 | B10: ０３ | C10: 枚 数 | D10: =長崎市２・西彼杵郡・西海市・諫早市!$D$60 -> 5990 | E10: =長崎市２・西彼杵郡・西海市・諫早市!$E$60 -> 0 | F10: =長崎市２・西彼杵郡・西海市・諫早市!$G$60 -> 290 | G10: =長崎市２・西彼杵郡・西海市・諫早市!$H$60 -> 0 | H10: =長崎市２・西彼杵郡・西海市・諫早市!$J$60 -> 2700 | I10: =長崎市２・西彼杵郡・西海市・諫早市!$K$60 -> 0 | J10: =長崎市２・西彼杵郡・西海市・諫早市!$M$60 -> 0 | K10: =長崎市２・西彼杵郡・西海市・諫早市!$N$60 -> 0 | L10: =長崎市２・西彼杵郡・西海市・諫早市!$P$60 -> 18220 | M10: =長崎市２・西彼杵郡・西海市・諫早市!$Q$60 -> 0 | N10: =長崎市２・西彼杵郡・西海市・諫早市!$S$60 -> 250 | O10: =長崎市２・西彼杵郡・西海市・諫早市!$T$60 -> 0 | P10: =SUM(D10,F10,H10,J10,L10,N10) -> 27450 | Q10: =SUM(E10,G10,I10,K10,M10,O10) -> 0 | R10: 2 | S10: 63548
A11: 大村市 | B11: ０４ | C11: 枚 数 | D11: =大村市・南島原市・雲仙市!$D$23 -> 2050 | E11: =大村市・南島原市・雲仙市!$E$23 -> 0 | F11: =大村市・南島原市・雲仙市!$G$23 -> 0 | G11: =大村市・南島原市・雲仙市!$H$23 -> 0 | H11: =大村市・南島原市・雲仙市!$J$23 -> 390 | I11: =大村市・南島原市・雲仙市!$K$23 -> 0 | J11: =大村市・南島原市・雲仙市!$M$23 -> 3180 | K11: =大村市・南島原市・雲仙市!$N$23 -> 0 | L11: =大村市・南島原市・雲仙市!$P$23 -> 9530 | M11: =大村市・南島原市・雲仙市!$Q$23 -> 0 | N11: =大村市・南島原市・雲仙市!$S$23 -> 100 | O11: =大村市・南島原市・雲仙市!$T$23 -> 0 | P11: =SUM(D11,F11,H11,J11,L11,N11) -> 15250 | Q11: =SUM(E11,G11,I11,K11,M11,O11) -> 0 | R11: 3 | S11: 47274
A12: 南島原市 | B12: ０６ | C12: 枚 数 | D12: =大村市・南島原市・雲仙市!$D$36 -> 310 | E12: =大村市・南島原市・雲仙市!$E$36 -> 0 | F12: =大村市・南島原市・雲仙市!$G$36 -> 0 | G12: =大村市・南島原市・雲仙市!$H$36 -> 0 | H12: =大村市・南島原市・雲仙市!$J$36 -> 70 | I12: =大村市・南島原市・雲仙市!$K$36 -> 0 | J12: =大村市・南島原市・雲仙市!$M$36 -> 720 | K12: =大村市・南島原市・雲仙市!$N$36 -> 0 | L12: =大村市・南島原市・雲仙市!$P$36 -> 7180 | M12: =大村市・南島原市・雲仙市!$Q$36 -> 0 | N12: =大村市・南島原市・雲仙市!$S$36 -> 0 | O12: =大村市・南島原市・雲仙市!$T$36 -> 0 | P12: =SUM(D12,F12,H12,J12,L12,N12) -> 8280 | Q12: =SUM(E12,G12,I12,K12,M12,O12) -> 0 | R12: 3 | S12: 18268
A13: 雲仙市 | B13: ０６ | C13: 枚 数 | D13: =大村市・南島原市・雲仙市!$D$51 -> 0 | E13: =大村市・南島原市・雲仙市!$E$51 -> 0 | F13: =大村市・南島原市・雲仙市!$G$51 -> 0 | G13: =大村市・南島原市・雲仙市!$H$51 -> 0 | H13: =大村市・南島原市・雲仙市!$J$51 -> 0 | I13: =大村市・南島原市・雲仙市!$K$51 -> 0 | J13: =大村市・南島原市・雲仙市!$M$51 -> 0 | K13: =大村市・南島原市・雲仙市!$N$51 -> 0 | L13: =大村市・南島原市・雲仙市!$P$51 -> 8780 | M13: =大村市・南島原市・雲仙市!$Q$51 -> 0 | N13: =大村市・南島原市・雲仙市!$S$51 -> 0 | O13: =大村市・南島原市・雲仙市!$T$51 -> 0 | P13: =SUM(D13,F13,H13,J13,L13,N13) -> 8780 | Q13: =SUM(E13,G13,I13,K13,M13,O13) -> 0 | R13: 3 | S13: 17817
A14: 島原市 | B14: ０７ | C14: 枚 数 | D14: =島原市・五島市・南松浦郡・東彼杵郡!$D$18 -> 280 | E14: =島原市・五島市・南松浦郡・東彼杵郡!$E$18 -> 0 | F14: =島原市・五島市・南松浦郡・東彼杵郡!$G$18 -> 390 | G14: =島原市・五島市・南松浦郡・東彼杵郡!$H$18 -> 0 | H14: =島原市・五島市・南松浦郡・東彼杵郡!$J$18 -> 620 | I14: =島原市・五島市・南松浦郡・東彼杵郡!$K$18 -> 0 | J14: =島原市・五島市・南松浦郡・東彼杵郡!$M$18 -> 1280 | K14: =島原市・五島市・南松浦郡・東彼杵郡!$N$18 -> 0 | L14: =島原市・五島市・南松浦郡・東彼杵郡!$P$18 -> 4880 | M14: =島原市・五島市・南松浦郡・東彼杵郡!$Q$18 -> 0 | N14: =島原市・五島市・南松浦郡・東彼杵郡!$S$18 -> 0 | O14: =島原市・五島市・南松浦郡・東彼杵郡!$T$18 -> 0 | P14: =SUM(D14,F14,H14,J14,L14,N14) -> 7450 | Q14: =SUM(E14,G14,I14,K14,M14,O14) -> 0 | R14: 4 | S14: 20033
A15: 五島市 | B15: ０８ | C15: 枚 数 | D15: =島原市・五島市・南松浦郡・東彼杵郡!$D$31 -> 110 | E15: =島原市・五島市・南松浦郡・東彼杵郡!$E$31 -> 0 | F15: =島原市・五島市・南松浦郡・東彼杵郡!$G$31 -> 230 | G15: =島原市・五島市・南松浦郡・東彼杵郡!$H$31 -> 0 | H15: =島原市・五島市・南松浦郡・東彼杵郡!$J$31 -> 0 | I15: =島原市・五島市・南松浦郡・東彼杵郡!$K$31 -> 0 | J15: =島原市・五島市・南松浦郡・東彼杵郡!$M$31 -> 20 | K15: =島原市・五島市・南松浦郡・東彼杵郡!$N$31 -> 0 | L15: =島原市・五島市・南松浦郡・東彼杵郡!$P$31 -> 5970 | M15: =島原市・五島市・南松浦郡・東彼杵郡!$Q$31 -> 0 | N15: =島原市・五島市・南松浦郡・東彼杵郡!$S$31 -> 0 | O15: =島原市・五島市・南松浦郡・東彼杵郡!$T$31 -> 0 | P15: =SUM(D15,F15,H15,J15,L15,N15) -> 6330 | Q15: =SUM(E15,G15,I15,K15,M15,O15) -> 0 | R15: 4 | S15: 19122
A16: 南松浦郡 | B16: ０９ | C16: 枚 数 | D16: =島原市・五島市・南松浦郡・東彼杵郡!$D$45 -> 0 | E16: =島原市・五島市・南松浦郡・東彼杵郡!$E$45 -> 0 | F16: =島原市・五島市・南松浦郡・東彼杵郡!$G$45 -> 0 | G16: =島原市・五島市・南松浦郡・東彼杵郡!$H$45 -> 0 | H16: =島原市・五島市・南松浦郡・東彼杵郡!$J$45 -> 0 | I16: =島原市・五島市・南松浦郡・東彼杵郡!$K$45 -> 0 | J16: =島原市・五島市・南松浦郡・東彼杵郡!$M$45 -> 0 | K16: =島原市・五島市・南松浦郡・東彼杵郡!$N$45 -> 0 | L16: =島原市・五島市・南松浦郡・東彼杵郡!$P$45 -> 2210 | M16: =島原市・五島市・南松浦郡・東彼杵郡!$Q$45 -> 0 | N16: =島原市・五島市・南松浦郡・東彼杵郡!$S$45 -> 0 | O16: =島原市・五島市・南松浦郡・東彼杵郡!$T$45 -> 0 | P16: =SUM(D16,F16,H16,J16,L16,N16) -> 2210 | Q16: =SUM(E16,G16,I16,K16,M16,O16) -> 0 | R16: 4 | S16: 9193
A17: 東彼杵郡 | B17: １０ | C17: 枚 数 | D17: =島原市・五島市・南松浦郡・東彼杵郡!$D$56 -> 1980 | E17: =島原市・五島市・南松浦郡・東彼杵郡!$E$56 -> 0 | F17: =島原市・五島市・南松浦郡・東彼杵郡!$G$56 -> 0 | G17: =島原市・五島市・南松浦郡・東彼杵郡!$H$56 -> 0 | H17: =島原市・五島市・南松浦郡・東彼杵郡!$J$56 -> 0 | I17: =島原市・五島市・南松浦郡・東彼杵郡!$K$56 -> 0 | J17: =島原市・五島市・南松浦郡・東彼杵郡!$M$56 -> 300 | K17: =島原市・五島市・南松浦郡・東彼杵郡!$N$56 -> 0 | L17: =島原市・五島市・南松浦郡・東彼杵郡!$P$56 -> 4470 | M17: =島原市・五島市・南松浦郡・東彼杵郡!$Q$56 -> 0 | N17: =島原市・五島市・南松浦郡・東彼杵郡!$S$56 -> 50 | O17: =島原市・五島市・南松浦郡・東彼杵郡!$T$56 -> 0 | P17: =SUM(D17,F17,H17,J17,L17,N17) -> 6800 | Q17: =SUM(E17,G17,I17,K17,M17,O17) -> 0 | R17: 4 | S17: 14424
A18: 佐世保市 | B18: １１ | C18: 枚 数 | D18: =佐世保市・北松浦郡!$D$39 -> 9870 | E18: =佐世保市・北松浦郡!$E$39 -> 0 | F18: =佐世保市・北松浦郡!$G$39 -> 0 | G18: =佐世保市・北松浦郡!$H$39 -> 0 | H18: =佐世保市・北松浦郡!$J$39 -> 2270 | I18: =佐世保市・北松浦郡!$K$39 -> 0 | J18: =佐世保市・北松浦郡!$M$39 -> 11050 | K18: =佐世保市・北松浦郡!$N$39 -> 0 | L18: =佐世保市・北松浦郡!$P$39 -> 17850 | M18: =佐世保市・北松浦郡!$Q$39 -> 0 | N18: =佐世保市・北松浦郡!$S$39 -> 1400 | O18: =佐世保市・北松浦郡!$T$39 -> 0 | P18: =SUM(D18,F18,H18,J18,L18,N18) -> 42440 | Q18: =SUM(E18,G18,I18,K18,M18,O18) -> 0 | R18: 5 | S18: 119571
A19: 北松浦郡 | B19: １２ | C19: 枚 数 | D19: =佐世保市・北松浦郡!$D$58 -> 610 | E19: =佐世保市・北松浦郡!$E$58 -> 0 | F19: =佐世保市・北松浦郡!$G$58 -> 0 | G19: =佐世保市・北松浦郡!$H$58 -> 0 | H19: =佐世保市・北松浦郡!$J$58 -> 0 | I19: =佐世保市・北松浦郡!$K$58 -> 0 | J19: =佐世保市・北松浦郡!$M$58 -> 0 | K19: =佐世保市・北松浦郡!$N$58 -> 0 | L19: =佐世保市・北松浦郡!$P$58 -> 2100 | M19: =佐世保市・北松浦郡!$Q$58 -> 0 | N19: =佐世保市・北松浦郡!$S$58 -> 0 | O19: =佐世保市・北松浦郡!$T$58 -> 0 | P19: =SUM(D19,F19,H19,J19,L19,N19) -> 2710 | Q19: =SUM(E19,G19,I19,K19,M19,O19) -> 0 | R19: 5 | S19: 7428
A20: 平戸市 | B20: １３ | C20: 枚 数 | D20: =平戸市・松浦市!$D$21 -> 210 | E20: =平戸市・松浦市!$E$21 -> 0 | F20: =平戸市・松浦市!$G$21 -> 0 | G20: =平戸市・松浦市!$H$21 -> 0 | H20: =平戸市・松浦市!$J$21 -> 0 | I20: =平戸市・松浦市!$K$21 -> 0 | J20: =平戸市・松浦市!$M$21 -> 0 | K20: =平戸市・松浦市!$N$21 -> 0 | L20: =平戸市・松浦市!$P$21 -> 4450 | M20: =平戸市・松浦市!$Q$21 -> 0 | N20: =平戸市・松浦市!$S$21 -> 0 | O20: =平戸市・松浦市!$T$21 -> 0 | P20: =SUM(D20,F20,H20,J20,L20,N20) -> 4660 | Q20: =SUM(E20,G20,I20,K20,M20,O20) -> 0 | R20: 6 | S20: 13432
A21: 松浦市 | B21: １４ | C21: 枚 数 | D21: =平戸市・松浦市!$D$31 -> 940 | E21: =平戸市・松浦市!$E$31 -> 0 | F21: =平戸市・松浦市!$G$31 -> 0 | G21: =平戸市・松浦市!$H$31 -> 0 | H21: =平戸市・松浦市!$J$31 -> 0 | I21: =平戸市・松浦市!$K$31 -> 0 | J21: =平戸市・松浦市!$M$31 -> 0 | K21: =平戸市・松浦市!$N$31 -> 0 | L21: =平戸市・松浦市!$P$31 -> 2970 | M21: =平戸市・松浦市!$Q$31 -> 0 | N21: =平戸市・松浦市!$S$31 -> 0 | O21: =平戸市・松浦市!$T$31 -> 0 | P21: =SUM(D21,F21,H21,J21,L21,N21) -> 3910 | Q21: =SUM(E21,G21,I21,K21,M21,O21) -> 0 | R21: 6 | S21: 9853
A22: 壱岐市 | B22: １５ | C22: 枚 数 | D22: =壱岐市・対馬市!$D$20 -> 1260 | E22: =壱岐市・対馬市!$E$20 -> 0 | F22: =壱岐市・対馬市!$G$20 -> 0 | G22: =壱岐市・対馬市!$H$20 -> 0 | H22: =壱岐市・対馬市!$J$20 -> 20 | I22: =壱岐市・対馬市!$K$20 -> 0 | J22: =壱岐市・対馬市!$M$20 -> 1200 | K22: =壱岐市・対馬市!$N$20 -> 0 | L22: =壱岐市・対馬市!$P$20 -> 220 | M22: =壱岐市・対馬市!$Q$20 -> 0 | N22: =壱岐市・対馬市!$S$20 -> 0 | O22: =壱岐市・対馬市!$T$20 -> 0 | P22: =SUM(D22,F22,H22,J22,L22,N22) -> 2700 | Q22: =SUM(E22,G22,I22,K22,M22,O22) -> 0 | R22: 7 | S22: 11182
A23: 対馬市 | B23: １６ | C23: 枚 数 | D23: =壱岐市・対馬市!$D$28 -> 0 | E23: =壱岐市・対馬市!$E$28 -> 0 | F23: =壱岐市・対馬市!$G$28 -> 0 | G23: =壱岐市・対馬市!$H$28 -> 0 | H23: =壱岐市・対馬市!$J$28 -> 0 | I23: =壱岐市・対馬市!$K$28 -> 0 | J23: =壱岐市・対馬市!$M$28 -> 90 | K23: =壱岐市・対馬市!$N$28 -> 0 | L23: =壱岐市・対馬市!$P$28 -> 1880 | M23: =壱岐市・対馬市!$Q$28 -> 0 | N23: =壱岐市・対馬市!$S$28 -> 0 | O23: =壱岐市・対馬市!$T$28 -> 0 | P23: =SUM(D23,F23,H23,J23,L23,N23) -> 1970 | Q23: =SUM(E23,G23,I23,K23,M23,O23) -> 0 | R23: 7 | S23: 14416
A24: 合 計 | C24: 枚 数 | D24: =SUM(D7:D23) -> 34260 | E24: =SUM(E7:E23) -> 0 | F24: =SUM(F7:F23) -> 910 | G24: =SUM(G7:G23) -> 0 | H24: =SUM(H7:H23) -> 8210 | I24: =SUM(I7:I23) -> 0 | J24: =SUM(J7:J23) -> 17890 | K24: =SUM(K7:K23) -> 0 | ... Q24: =SUM(Q7:Q23) -> 0 | S24: =SUM(S7:S23) -> 633943
D25: 福 岡 県 コード ０８
N27: 36130 | P27: 株式会社読売西部 I S
A29: 市・郡・区 | B29: コード № | D29: 読 売 | F29: 朝 日 | H29: 毎 日 | J29: 西 日 本 | L29: 日 経 | P29: 計 | Q29: 世帯数 | R29: ページ
D30: コード | E30: ０１ | F30: コード | G30: ０２ | H30: コード | I30: ０３ | J30: コード | K30: ０４ | L30: コード | M30: ０５ | N30: コード | O30: ００

Sheet 長崎市１
B1: 長崎営業所 | F1: 長 崎 県 コード ４２
M2: 46296 | O2: 大分折込株式会社
A4: スポンサー名 | E4: タイトル | I4: 請求先 | K4: 折 込 日 | N4: サイズ | O4: 枚 数 | R4: センター名 | T4: No.
K5: 年 月 日 曜 | O5: =壱岐市・対馬市!$O$5:$P$7 -> 0
Q6: 枚
B9: 銘 柄 | C9: 読 売 | F9: 朝 日 | I9: 毎 日 | L9: 西 日 本 | O9: 長 崎 | R9: Ｎポス
C10: コード ０１ | F10: コード ０２ | I10: コード ０３ | L10: コード ０８ | O10: コード ７７ | R10: コード ９６
A11: 市郡区 | C11: 店 名 | D11: 枚 数 | E11: 配 布 | F11: 店 名 | G11: 枚 数 | H11: 配 布 | I11: 店 名 | J11: 枚 数 | K11: 配 布 | L11: 店 名 | M11: 枚 数 | N11: 配 布 | O11: 店 名 | P11: 枚 数 | Q11: 配 布 | R11: 店 名 | S11: 枚 数 | T11: 配 布
A12: 長崎市 | B12: 1 | C12: 日見 | D12: 170 | I12: 中央大浦S | J12: 1900 | O12: 東長崎AMNK | P12: 1200 | R12: PS新大工 | S12: 120
C13: 矢上 | D13: 460 | I13: 戸町S | J13: 240 | O13: 矢上AMNSK | P13: 3830 | R13: PS西山片淵 | S13: 120
C14: 中川K | D14: 350 | O14: 矢上南AMNK | P14: 1230 | R14: PS桜馬場 | S14: 120
C15: 西山K | D15: 810 | O15: 古賀つつじヶ丘AMNSK | P15: 1300 | R15: PS立山桜町 | S15: 50
C16: 新戸町ANK | D16: 1610 | O16: 新大工AMNK | P16: 1560 | R16: PS駅前 | S16: 50
C17: 南長崎ANK | D17: 820 | O17: 西山片淵AMNSK | P17: 1560 | R17: PS宝町天神 | S17: 50
C18: 稲佐･小江原 | D18: 550 | O18: 桜馬場(中川)AMNK | P18: 1510 | R18: PS本河内 | S18: 100
C19: 城山 | D19: 690 | O19: 八幡・浜町AMNSK | P19: 2130 | R19: PS南が丘 | S19: 50
C20: 浦上K | D20: 360 | O20: 本河内AMNK | P20: 790 | R20: PS小島 | S20: 50
C21: 住吉K | D21: 380 | O21: 立山桜町AMN | P21: 1570 | R21: PS田上 | S21: 50
C22: 西町 | D22: 380 | O22: 駅前AN | P22: 1330 | R22: PS八幡・浜町 | S22: 150
C23: 三原・女の都K | D23: 450 | O23: 宝町天神AMNSK | P23: 1170 | R23: PS大浦 | S23: 50
C24: 滑石ANK | D24: 1500 | O24: 小島AMNK | P24: 1410 | R24: PS戸町 | S24: 500
C25: 北部AN | D25: 430 | O25: 田上AMNSK | P25: 1710 | R25: PS深堀 | S25: 150
O26: 大浦ANSK | P26: 2090 | R26: PS蚊焼 | S26: 100
O27: 南ヶ丘YAMK | P27: 1020 | R27: PS★高島 | S27: 50
O28: 戸町MK | P28: 3540 | R28: PS小榊 | S28: 50
O29: 深堀M | P29: 2520 | R29: PS福田東部 | S29: 150
O30: 平山M | P30: 1040 | R30: PS旭町 | S30: 50
O31: 稲佐AMNK | P31: 650 | R31: PS城栄 | S31: 50
O32: 旭町AMNK | P32: 1280 | R32: PS赤迫・西町 | S32: 400
O33: 福田東部AMNK | P33: 1330 | R33: PS大手 | S33: 50
O34: 小榊AMNSK | P34: 960 | R34: PS浦上駅前 | S34: 200
O35: 城山AMNK | P35: 1010 | R35: PS川平 | S35: 50
O36: 城栄AMNSK | P36: 3940 | R36: PS住吉 | S36: 500
O37: 赤迫・西町AMNSK | P37: 3040 | R37: PS道の尾・滑石 | S37: 300
... O46: 茂木AMNK | P46: 740 | R46: PS古賀・つつじヶ丘団 | S46: 50
O47: 式見YAMN | P47: 630
O48: 福田西部YAMNK | P48: 340

Sheet 長崎市２・西彼杵郡・西海市・諫早市
B1: 長崎営業所 | F1: 長 崎 県 コード ４２
M2: 46296 | O2: 大分折込株式会社
A4: スポンサー名 | E4: タイトル | I4: 請求先 | K4: 折 込 日 | N4: サイズ | O4: 枚 数 | R4: センター名 | T4: No.
K5: 年 月 日 曜 | O5: =壱岐市・対馬市!$O$5:$P$7 -> 0
Q6: 枚
B9: 銘 柄 | C9: 読 売 | F9: 朝 日 | I9: 毎 日 | L9: 西 日 本 | O9: 長 崎 | R9: Ｎポス
C10: コード ０１ | F10: コード ０２ | I10: コード ０３ | L10: コード ０８ | O10: コード ７７ | R10: コード ９６
A11: 市郡区 | C11: 店 名 | D11: 枚 数 | E11: 配 布 | F11: 店 名 | G11: 枚 数 | H11: 配 布 | I11: 店 名 | J11: 枚 数 | K11: 配 布 | L11: 店 名 | M11: 枚 数 | N11: 配 布 | O11: 店 名 | P11: 枚 数 | Q11: 配 布 | R11: 店 名 | S11: 枚 数 | T11: 配 布
A12: 長崎市 | B12: 1 | O12: 香焼AMNK | P12: 770
O13: 蚊焼AMNK | P13: 2640
A14: ★離島 | O14: 高浜・野母・脇岬YAMN | P14: 1120
O15: ★高島YAN | P15: 40
O16: 伊王島YAMN | P16: 110
O17: ★池島MN | P17: 20
O18: 村松AMNK | P18: 1090
O19: 長浦AMNK | P19: 590
A24: ■地区枚数■ | B24: =D26+G26+J26+M26+P26+S26 -> 86760
A26: ■配布枚数■ | B26: =E26+H26+K26+N26+Q26+T26 -> 0 | C26: ◆小 計◆ | D26: =SUM(長崎市１!D12:D59)+SUM(D12:D25) -> 8960 | E26: =SUM(長崎市１!E12:E59)+SUM(E12:E25) -> 0 | F26: ◆小 計◆ | G26: =SUM(長崎市１!G12:G59)+SUM(G12:G25) -> 0 | H26: =SUM(長崎市１!H12:H59)+SUM(H12:H25) -> 0 | I26: ◆小 計◆ | J26: =SUM(長崎市１!J12:J59)+SUM(J12:J25) -> 2140 | K26: =SUM(長崎市１!K12:K59)+SUM(K12:K25) -> 0 | L26: ◆小 計◆ | M26: =SUM(長崎市１!M12:M59)+SUM(M12:M25) -> 0 | N26: =SUM(長崎市１!N12:N59)+SUM(N12:N25) -> 0 | O26: ◆小 計◆ | P26: =SUM(長崎市１!P12:P59)+SUM(P12:P25) -> 71070 | Q26: =SUM(長崎市１!Q12:Q59)+SUM(Q12:Q25) -> 0 | R26: ◆小 計◆ | S26: =SUM(長崎市１!S12:S59)+SUM(S12:S25) -> 4590 | T26: =SUM(長崎市１!T12:T59)+SUM(T12:T25) -> 0
A27: 西彼杵郡 | B27: 2
C28: 長与K | D28: 720 | O28: 長与AMNKS | P28: 2100 | R28: PS長与 | S28: 100
C29: 時津N | D29: 970 | O29: 長与高田AMNK | P29: 1660 | R29: PS長与高田 | S29: 50
A30: ■地区枚数■ | B30: =D34+G34+J34+M34+P34+S34 -> 13590 | O30: 長与南AMNKS | P30: 2940 | R30: PS長与南 | S30: 50
O31: 時津 | P31: 2100 | R31: PS時津 | S31: 200
O32: 時津中央AMNSK | P32: 2400 | R32: PS時津中央 | S32: 300
A34: ■配布枚数■ | B34: =E34+H34+K34+N34+Q34+T34 -> 0 | C34: ◆小 計◆ | D34: =SUM(D27:D32) -> 1690 | E34: =SUM(E27:E32) -> 0 | F34: ◆小 計◆ | G34: =SUM(G27:G32) -> 0 | H34: =SUM(H27:H32) -> 0 | I34: ◆小 計◆ | J34: =SUM(J27:J32) -> 0 | K34: =SUM(K27:K32) -> 0 | L34: ◆小 計◆ | M34: =SUM(M27:M32) -> 0 | N34: =SUM(N27:N32) -> 0 | O34: ◆小 計◆ | P34: =SUM(P27:P32) -> 11200 | Q34: =SUM(Q27:Q32) -> 0 | R34: ◆小 計◆ | S34: =SUM(S27:S32) -> 700 | T34: =SUM(T27:T31) -> 0
A35: 西海市 | B35: 2
L36: 西海K | M36: 50 | O36: 大瀬戸YAMNK | P36: 1210
A37: ★離島 | O37: 西海西部AMNK | P37: 1070
O38: 西海YAMNK | P38: 1310
O39: 琴海北部YAMNSK | P39: 1240
O40: ★松島 | P40: 110
A42: ■地区枚数■ | B42: =D44+G44+J44+M44+P44+S44 -> 4990
A44: ■配布枚数■ | B44: =E44+H44+K44+N44+Q44+T44 -> 0 | C44: ◆小 計◆ | D44: =SUM(D35:D43) -> 0 | E44: =SUM(E35:E43) -> 0 | F44: ◆小 計◆ | G44: =SUM(G35:G43) -> 0 | H44: =SUM(H35:H43) -> 0 | I44: ◆小 計◆ | L44: ◆小 計◆ | M44: =SUM(M35:M43) -> 50 | N44: =SUM(N35:N43) -> 0 | O44: ◆小 計◆ | P44: =SUM(P35:P43) -> 4940 | Q44: =SUM(Q35:Q43) -> 0 | R44: ◆小 計◆ | S44: =SUM(S35:S43) -> 0 | T44: =SUM(T35:T43) -> 0
A46: 諫早市 | B46: 3 | C46: 諫早中央MNE | D46: 1150 | F46: 諫早東部 | G46: 290 | I46: 諫早西部ANKS | J46: 2040 | O46: 本諫早 | P46: 3640 | R46: PS西諌早 | S46: 200
C47: 諫早西AMNKS | D47: 1420 | I47: 喜々津・飯盛ANK | J47: 660 | O47: 北諫早M | P47: 3550 | R47: PS諫早センター | S47: 50
C48: 諫早南MNK | D48: 820 | O48: 西諫早K | P48: 4070
C49: 諫早北AMNKS | D49: 1720 | O49: 諫早インターK | P49: 540
C50: 喜々津 | D50: 880 | O50: 喜々津ANK | P50: 2290
O51: 南諫早 | P51: 740
O52: 大草AMN | P52: 450
...

Sheet 大村市・南島原市・雲仙市
B1: 長崎営業所 | F1: 長 崎 県 コード ４２
M2: 46296 | O2: 大分折込株式会社
A4: スポンサー名 | E4: タイトル | I4: 請求先 | K4: 折 込 日 | N4: サイズ | O4: 枚 数 | R4: センター名 | T4: No.
K5: 年 月 日 曜 | O5: =壱岐市・対馬市!$O$5:$P$7 -> 0
Q6: 枚
B9: 銘 柄 | C9: 読 売 | F9: 朝 日 | I9: 毎 日 | L9: 西 日 本 | O9: 長 崎 | R9: Ｎポス
C10: コード ０１ | F10: コード ０２ | I10: コード ０３ | L10: コード ０８ | O10: コード ７７ | R10: コード ９６
A11: 市郡区 | C11: 店 名 | D11: 枚 数 | E11: 配 布 | F11: 店 名 | G11: 枚 数 | H11: 配 布 | I11: 店 名 | J11: 枚 数 | K11: 配 布 | L11: 店 名 | M11: 枚 数 | N11: 配 布 | O11: 店 名 | P11: 枚 数 | Q11: 配 布 | R11: 店 名 | S11: 枚 数 | T11: 配 布
A12: 大村市 | B12: 4 | C12: 大村東 | D12: 650 | I12: 大村西部 | J12: 300 | L12: 大村AK | M12: 3180 | O12: 大村MS | P12: 2180 | R12: PS大村西 | S12: 100
A13: ※ | C13: 大村西 | D13: 730 | I13: 竹松S | J13: 90 | O13: 大村東MS | P13: 1710
C14: 竹松 | D14: 670 | O14: 大村西 | P14: 1710
O15: 竹松 | P15: 3000
O16: 福重AMNK | P16: 550
O17: 松原AMNK | P17: 380
A21: ■地区枚数■ | B21: =D23+G23+J23+M23+P23+S23 -> 15250
A23: ■配布枚数■ | B23: =E23+H23+K23+N23+Q23+T23 -> 0 | C23: ◆小 計◆ | D23: =SUM(D12:D22) -> 2050 | E23: =SUM(E12:E22) -> 0 | F23: ◆小 計◆ | G23: =SUM(G12:G22) -> 0 | H23: =SUM(H12:H22) -> 0 | I23: ◆小 計◆ | J23: =SUM(J12:J22) -> 390 | K23: =SUM(K12:K22) -> 0 | L23: ◆小 計◆ | M23: =SUM(M12:M22) -> 3180 | N23: =SUM(N12:N22) -> 0 | O23: ◆小 計◆ | P23: =SUM(P12:P22) -> 9530 | Q23: =SUM(Q12:Q22) -> 0 | R23: ◆小 計◆ | S23: =SUM(S12:S22) -> 100 | T23: =SUM(T12:T22) -> 0
A25: 南島原市 | B25: 6 | C25: 加津佐 | D25: 310 | I25: 西有家 | J25: 70 | L25: 深江布津A | M25: 220 | O25: 深江YAMK | P25: 1120
A26: ※ | L26: 有家K | M26: 140 | O26: 布津YAMK | P26: 810
L27: 口加MSK | M27: 360 | O27: 有家西有家YANK | P27: 1750
O28: 口ノ津 | P28: 770
O29: 加津佐A | P29: 880
O30: 有馬YAMNSK | P30: 1850
A34: ■地区枚数■ | B34: =D36+G36+J36+M36+P36+S36 -> 8280
A36: ■配布枚数■ | B36: =E36+H36+K36+N36+Q36+T36 -> 0 | C36: ◆小 計◆ | D36: =SUM(D25:D35) -> 310 | E36: =SUM(E25:E35) -> 0 | F36: ◆小 計◆ | G36: =SUM(G25:G35) -> 0 | H36: =SUM(H25:H35) -> 0 | I36: ◆小 計◆ | J36: =SUM(J25:J35) -> 70 | K36: =SUM(K25:K35) -> 0 | L36: ◆小 計◆ | M36: =SUM(M25:M35) -> 720 | N36: =SUM(N25:N35) -> 0 | O36: ◆小 計◆ | P36: =SUM(P25:P35) -> 7180 | Q36: =SUM(Q25:Q35) -> 0 | R36: ◆小 計◆ | S36: =SUM(S25:S35) -> 0 | T36: =SUM(T25:T35) -> 0
A38: 雲仙市 | B38: 6 | C38: 小 浜 | D38: 0 | O38: 愛野（合） | P38: 1380
A39: ※ | O39: 神代YAMNK | P39: 630
O40: 多比良YAMNK | P40: 1680
O41: 小浜YAMNK | P41: 1210
O42: 吾妻YAMNK | P42: 1430
O43: 西郷YAMNK | P43: 740
O44: 南串山AMNSK | P44: 660
O45: 北串山A | P45: 200
O46: 千々石YAMNSK | P46: 770
O47: 雲仙AMNK | P47: 80
A49: ■地区枚数■ | B49: =D51+G51+J51+M51+P51+S51 -> 8780
A51: ■配布枚数■ | B51: =E51+H51+K51+N51+Q51+T51 -> 0 | C51: ◆小 計◆ | D51: =SUM(D38:D50) -> 0 | E51: =SUM(E38:E50) -> 0 | F51: ◆小 計◆ | I51: ◆小 計◆ | J51: =SUM(J38:J50) -> 0 | K51: =SUM(K38:K50) -> 0 | L51: ◆小 計◆ | M51: =SUM(M38:M50) -> 0 | N51: =SUM(N38:N50) -> 0 | O51: ◆小 計◆ | P51: =SUM(P38:P50) -> 8780 | Q51: =SUM(Q38:Q50) -> 0 | R51: ◆小 計◆ | S51: =SUM(S38:S50) -> 0 | T51: =SUM(T38:T50) -> 0

Sheet 島原市・五島市・南松浦郡・東彼杵郡
B1: 長崎営業所（コード７と８の★印) 佐世保営業所(コード８の☆印と９・１０) | F1: 長 崎 県 コード ４２
M2: 46296 | O2: 大分折込株式会社
A4: スポンサー名 | E4: タイトル | I4: 請求先 | K4: 折 込 日 | N4: サイズ | O4: 枚 数 | R4: センター名 | T4: No.
K5: 年 月 日 曜 | O5: =壱岐市・対馬市!$O$5:$P$7 -> 0
Q6: 枚
B9: 銘 柄 | C9: 読 売 | F9: 朝 日 | I9: 毎 日 | L9: 西 日 本 | O9: 長 崎 | R9: Ｎポス
C10: コード ０１ | F10: コード ０２ | I10: コード ０３ | L10: コード ０８ | O10: コード ７７ | R10: コード ９６
A11: 市郡区 | C11: 店 名 | D11: 枚 数 | E11: 配 布 | F11: 店 名 | G11: 枚 数 | H11: 配 布 | I11: 店 名 | J11: 枚 数 | K11: 配 布 | L11: 店 名 | M11: 枚 数 | N11: 配 布 | O11: 店 名 | P11: 枚 数 | Q11: 配 布 | R11: 店 名 | S11: 枚 数 | T11: 配 布
A12: 島原市 | B12: 7 | C12: 島原 | D12: 280 | F12: 島原南部 | G12: 150 | I12: 島原南部 | J12: 460 | L12: 島原南K | M12: 650 | O12: 島原外港 | P12: 1300
A13: ※ | F13: 島原北部 | G13: 240 | I13: 島原北部S | J13: 160 | L13: 島原北K | M13: 630 | O13: 島原 | P13: 1880
O14: 島原松尾YAMNK | P14: 1160
O15: 大三東YAMNK | P15: 540
A16: ■地区枚数■ | B16: =D18+G18+J18+M18+P18+S18 -> 7450
A18: ■配布枚数■ | B18: =E18+H18+K18+N18+Q18+T18 -> 0 | C18: ◆小 計◆ | D18: =SUM(D12:D16) -> 280 | E18: =SUM(E12:E16) -> 0 | F18: ◆小 計◆ | G18: =SUM(G12:G16) -> 390 | H18: =SUM(H12:H16) -> 0 | I18: ◆小 計◆ | J18: =SUM(J12:J16) -> 620 | K18: =SUM(K12:K16) -> 0 | L18: ◆小 計◆ | M18: =SUM(M12:M16) -> 1280 | N18: =SUM(N12:N16) -> 0 | O18: ◆小 計◆ | P18: =SUM(P12:P16) -> 4880 | Q18: =SUM(Q12:Q16) -> 0 | R18: ◆小 計◆ | S18: =SUM(S12:S16) -> 0 | T18: =SUM(T12:T16) -> 0
A20: 五島市 | B20: 8 | C20: ★福江 | D20: 110 | F20: ★福江NK | G20: 230 | L20: ☆富江YMK | M20: 20 | O20: ★五島中央MS | P20: 4150
A21: ※ | O21: ★崎山M | P21: 270
O22: ★久賀島M | P22: 30
A23: ☆離島 | O23: ☆富江A | P23: 540
A24: ★離島 | O24: ☆岐宿AMNK | P24: 330
O25: ☆三井楽YAMN | P25: 300
O26: ☆玉ノ浦AMN | P26: 130
O27: ☆奈留YAMN | P27: 220
A29: ■地区枚数■ | B29: =D31+G31+J31+M31+P31+S31 -> 6330
A31: ■配布枚数■ | B31: =E31+H31+K31+N31+Q31+T31 -> 0 | C31: ◆小 計◆ | D31: =SUM(D20:D29) -> 110 | E31: =SUM(E20:E29) -> 0 | F31: ◆小 計◆ | G31: =SUM(G20:G29) -> 230 | H31: =SUM(H20:H29) -> 0 | I31: ◆小 計◆ | J31: =SUM(J20:J29) -> 0 | K31: =SUM(K20:K29) -> 0 | L31: ◆小 計◆ | M31: =SUM(M20:M29) -> 20 | N31: =SUM(N20:N29) -> 0 | O31: ◆小 計◆ | P31: =SUM(P20:P29) -> 5970 | Q31: =SUM(Q20:Q29) -> 0 | R31: ◆小 計◆ | S31: =SUM(S20:S29) -> 0 | T31: =SUM(T20:T29) -> 0
A33: 南松浦郡 | B33: 9 | O33: ★奈良尾YAMN | P33: 230
A34: ※ | O34: ★青方YAMNK | P34: 660
O35: ★若松YAMNK | P35: 300
A36: ★離島 | O36: ★有川YAMNK | P36: 610
O37: ★魚目YAMNK | P37: 270
O38: ★北魚目AMN | P38: 140
A43: ■地区枚数■ | B43: =D45+G45+J45+M45+P45+S45 -> 2210
A45: ■配布枚数■ | B45: =E45+H45+K45+N45+Q45+T45 -> 0 | C45: ◆小 計◆ | D45: =SUM(D33:D44) -> 0 | E45: =SUM(E33:E44) -> 0 | F45: ◆小 計◆ | G45: =SUM(G33:G44) -> 0 | H45: =SUM(H33:H44) -> 0 | I45: ◆小 計◆ | L45: ◆小 計◆ | M45: =SUM(M33:M44) -> 0 | N45: =SUM(N33:N44) -> 0 | O45: ◆小 計◆ | P45: =SUM(P33:P44) -> 2210 | Q45: =SUM(Q33:Q44) -> 0 | R45: ◆小 計◆ | S45: =SUM(S33:S44) -> 0 | T45: =SUM(T33:T44) -> 0
A47: 東彼杵郡 | B47: 10 | C47: 川棚 | D47: 780 | L47: 川棚 | M47: 300 | O47: 川棚AMK | P47: 1510 | R47: PS波佐見 | S47: 50
A48: ※ | C48: 波佐見 | D48: 1010 | O48: 波佐見AMNSK | P48: 1750
C49: 東彼杵 | D49: 190 | O49: 東彼杵AMNK | P49: 1210
A54: ■地区枚数■ | B54: =D56+G56+J56+M56+P56+S56 -> 6800
A56: ■配布枚数■ | B56: =E56+H56+K56+N56+Q56+T56 -> 0 | C56: ◆小 計◆ | D56: =SUM(D47:D54) -> 1980 | E56: =SUM(E47:E54) -> 0 | F56: ◆小 計◆ | I56: ◆小 計◆ | L56: ◆小 計◆ | M56: =SUM(M47:M54) -> 300 | N56: =SUM(N47:N54) -> 0 | O56: ◆小 計◆ | P56: =SUM(P47:P54) -> 4470 | Q56: =SUM(Q47:Q54) -> 0 | R56: ◆小 計◆ | S56: =SUM(S47:S54) -> 50 | T56: =SUM(T47:T54) -> 0

Sheet 佐世保市・北松浦郡
B1: 佐世保営業所 | F1: 長 崎 県 コード ４２
M2: 46296 | O2: 大分折込株式会社
A4: スポンサー名 | E4: タイトル | I4: 請求先 | K4: 折 込 日 | N4: サイズ | O4: 枚 数 | R4: センター名 | T4: No.
K5: 年 月 日 曜 | O5: =壱岐市・対馬市!$O$5:$P$7 -> 0
Q6: 枚
B9: 銘 柄 | C9: 読 売 | F9: 朝 日 | I9: 毎 日 | L9: 西 日 本 | O9: 長 崎 | R9: Ｎポス
C10: コード ０１ | F10: コード ０２ | I10: コード ０３ | L10: コード ０８ | O10: コード ７７ | R10: コード ９６
A11: 市郡区 | C11: 店 名 | D11: 枚 数 | E11: 配 布 | F11: 店 名 | G11: 枚 数 | H11: 配 布 | I11: 店 名 | J11: 枚 数 | K11: 配 布 | L11: 店 名 | M11: 枚 数 | N11: 配 布 | O11: 店 名 | P11: 枚 数 | Q11: 配 布 | R11: 店 名 | S11: 枚 数 | T11: 配 布
A12: 佐世保市 | B12: 11 | C12: 日宇黒髪K | D12: 1390 | I12: 天神・日宇S | J12: 640 | L12: 早岐南YAMKS | M12: 1440 | O12: 早岐YAMNSK | P12: 3100 | R12: PS日宇天神 | S12: 100
C13: 天神ANN | D13: 1400 | I13: 大宮・中央S | J13: 360 | L13: 早岐・大塔YAMKS | M13: 1990 | O13: 日宇天神MSK | P13: 2520 | R13: PS中央西部 | S13: 300
C14: 大宮汐見ANN | D14: 1450 | I14: 大久保 | J14: 80 | L14: 黒髪・日宇AMK | M14: 1410 | O14: 東部 | P14: 490 | R14: PS俵町稲荷 | S14: 500
C15: 中央K | D15: 510 | I15: 俵町S | J15: 310 | L15: 佐世保中央A | M15: 630 | O15: 中央 | P15: 390 | R15: PS相浦日野 | S15: 200
C16: 勝富 | D16: 580 | I16: 大野S | J16: 880 | L16: 高梨AK | M16: 810 | O16: 西部AN | P16: 960 | R16: PS吉井世知原佐々 | S16: 200
C17: 御船福田K | D17: 670 | L17: 俵町AK | M17: 410 | O17: 俵町稲荷 | P17: 1800 | R17: PS江迎鹿町 | S17: 100
C18: 俵町 | D18: 720 | L18: 大野AK | M18: 1570 | O18: 山ノ田 | P18: 510
C19: 春日 | D19: 680 | L19: 日野AMS | M19: 810 | O19: 大野 | P19: 1490
C20: 大野 | D20: 420 | L20: 相ノ浦AMSK | M20: 1080 | O20: 日野 | P20: 970
C21: 日野K | D21: 520 | L21: 中里皆瀬AM | M21: 900 | O21: 相ノ浦 | P21: 1320
C22: 相浦皆瀬 | D22: 700 | O22: 中里皆瀬K | P22: 820
C23: 江鹿 | D23: 160 | O23: 吉井世知原AMNSK | P23: 1030
C24: 吉井 | D24: 270 | O24: 江迎・鹿町AMNK | P24: 1740
C25: 世知原 | D25: 210 | O25: ★宇久Y | P25: 110
C26: 小佐々 | D26: 190
A31: ★離島 | O31: 三川内YANMK | P31: 590
O32: 黒島 | P32: 10
A37: ■地区枚数■ | B37: =D39+G39+J39+M39+P39+S39 -> 42440
A39: ■配布枚数■ | B39: =E39+H39+K39+N39+Q39+T39 -> 0 | C39: ◆小 計◆ | D39: =SUM(D12:D38) -> 9870 | E39: =SUM(E12:E38) -> 0 | F39: ◆小 計◆ | G39: =SUM(G12:G38) -> 0 | H39: =SUM(H12:H38) -> 0 | I39: ◆小 計◆ | J39: =SUM(J12:J38) -> 2270 | K39: =SUM(K12:K38) -> 0 | L39: ◆小 計◆ | M39: =SUM(M12:M38) -> 11050 | N39: =SUM(N12:N38) -> 0 | O39: ◆小 計◆ | P39: =SUM(P12:P38) -> 17850 | Q39: =SUM(Q12:Q38) -> 0 | R39: ◆小 計◆ | S39: =SUM(S12:S38) -> 1400 | T39: =SUM(T12:T38) -> 0
A41: 北松浦郡 | B41: 12 | C41: 佐々 | D41: 610 | O41: 佐々臼の浦AMNSK | P41: 1910
O42: ★小値賀YAMN | P42: 190
A44: ★離島
A56: ■地区枚数■ | B56: =D58+G58+J58+M58+P58+S58 -> 2710
A58: ■配布枚数■ | B58: =E58+H58+K58+N58+Q58+T58 -> 0 | C58: ◆小 計◆ | D58: =SUM(D41:D57) -> 610 | E58: =SUM(E41:E57) -> 0 | F58: ◆小 計◆ | I58: ◆小 計◆ | J58: =SUM(J41:J57) -> 0 | K58: =SUM(K41:K57) -> 0 | L58: ◆小 計◆ | M58: =SUM(M41:M57) -> 0 | N58: =SUM(N41:N57) -> 0 | O58: ◆小 計◆ | P58: =SUM(P41:P57) -> 2100 | Q58: =SUM(Q41:Q57) -> 0 | R58: ◆小 計◆ | S58: =SUM(S41:S57) -> 0 | T58: =SUM(T41:T57) -> 0

Sheet 平戸市・松浦市
B1: 佐世保営業所 | F1: 長 崎 県 コード ４２
M2: 46296 | O2: 大分折込株式会社
A4: スポンサー名 | E4: タイトル | I4: 請求先 | K4: 折 込 日 | N4: サイズ | O4: 枚 数 | R4: センター名 | T4: No.
K5: 年 月 日 曜 | O5: =壱岐市・対馬市!$O$5:$P$7 -> 0
Q6: 枚
B9: 銘 柄 | C9: 読 売 | F9: 朝 日 | I9: 毎 日 | L9: 西 日 本 | O9: 長 崎 | R9: Ｎポス
C10: コード ０１ | F10: コード ０２ | I10: コード ０３ | L10: コード ０８ | O10: コード ７７ | R10: コード ９６
A11: 市郡区 | C11: 店 名 | D11: 枚 数 | E11: 配 布 | F11: 店 名 | G11: 枚 数 | H11: 配 布 | I11: 店 名 | J11: 枚 数 | K11: 配 布 | L11: 店 名 | M11: 枚 数 | N11: 配 布 | O11: 店 名 | P11: 枚 数 | Q11: 配 布 | R11: 店 名 | S11: 枚 数 | T11: 配 布
A12: 平戸市 | B12: 13 | C12: 田平 | D12: 210 | O12: 平戸(合) | P12: 2760
A13: ※ | O13: 田平AMNNK | P13: 970
O14: ★生月YAMN | P14: 720
A15: ★離島
A19: ■地区枚数■ | B19: =D21+G21+J21+M21+P21+S21 -> 4660
A21: ■配布枚数■ | B21: =E21+H21+K21+N21+Q21+T21 -> 0 | C21: ◆小 計◆ | D21: =SUM(D12:D20) -> 210 | E21: =SUM(E12:E20) -> 0 | F21: ◆小 計◆ | G21: =SUM(G12:G20) -> 0 | H21: =SUM(H12:H20) -> 0 | I21: ◆小 計◆ | J21: =SUM(J12:J20) -> 0 | K21: =SUM(K12:K20) -> 0 | L21: ◆小 計◆ | M21: =SUM(M12:M20) -> 0 | N21: =SUM(N12:N20) -> 0 | O21: ◆小 計◆ | P21: =SUM(P12:P20) -> 4450 | Q21: =SUM(Q12:Q20) -> 0 | R21: ◆小 計◆ | S21: =SUM(S12:S20) -> 0 | T21: =SUM(T12:T20) -> 0
A23: 松浦市 | B23: 14 | C23: 松浦 | D23: 640 | O23: 志佐AMNSK | P23: 1220
A24: ※ | C24: 御厨 | D24: 210 | O24: 御厨AMNK | P24: 980
C25: 今福 | D25: 90 | O25: 今福AMNK | P25: 340
A26: ★離島 | O26: ★青島 | P26: 10
O27: ★福島AMNK | P27: 270
A28: ■地区枚数■ | B28: =D31+G31+J31+M31+P31+S31 -> 3910 | O28: ★鷹島AMNK | P28: 150
A31: ■配布枚数■ | B31: =E31+H31+K31+N31+Q31+T31 -> 0 | C31: ◆小 計◆ | D31: =SUM(D23:D29) -> 940 | E31: =SUM(E23:E29) -> 0 | F31: ◆小 計◆ | I31: ◆小 計◆ | L31: ◆小 計◆ | M31: =SUM(M23:M29) -> 0 | N31: =SUM(N23:N29) -> 0 | O31: ◆小 計◆ | P31: =SUM(P23:P29) -> 2970 | Q31: =SUM(Q23:Q29) -> 0 | R31: ◆小 計◆ | S31: =SUM(S22:S29) -> 0 | T31: =SUM(T22:T29) -> 0

Sheet 壱岐市・対馬市
B1: YCC福岡 | F1: 長 崎 県 コード ４２
M2: 46296 | O2: 大分折込株式会社
A4: スポンサー名 | E4: タイトル | I4: 請求先 | K4: 折 込 日 | N4: サイズ | O4: 枚 数 | R4: センター名 | T4: No.
K5: 年 月 日 曜 | O5: =長崎市２・西彼杵郡・西海市・諫早市!B26+長崎市２・西彼杵郡・西海市・諫早市!B34+長崎市２・西彼杵郡・西海市・諫早市!B44+長崎市２・西彼杵郡・西海市・諫早市!B60+大村市・南島原市・雲仙市!B23+大村市・南島原市・雲仙市!B36+大村市・南島原市・雲仙市!B51+島原市・五島市・南松浦郡・東彼杵郡!B18+島原市・五島市・南松浦郡・東彼杵郡!B31+島原市・五島市・南松浦郡・東彼杵郡!B45+島原市・五島市・南松浦郡・東彼杵郡!B56+佐世保市・北松浦郡!B39+佐世保市・北松浦郡!B58+平戸市・松浦市!B21+平戸市・松浦市!B31+壱岐市・対馬市!B20+壱岐市・対馬市!B28 -> 0
Q6: 枚
B9: 銘 柄 | C9: 読 売 | F9: 朝 日 | I9: 毎 日 | L9: 西 日 本 | O9: 長 崎 | R9: Ｎポス
C10: コード ０１ | F10: コード ０２ | I10: コード ０３ | L10: コード ０８ | O10: コード ７７ | R10: コード ９６
A11: 市郡区 | C11: 店 名 | D11: 枚 数 | E11: 配 布 | F11: 店 名 | G11: 枚 数 | H11: 配 布 | I11: 店 名 | J11: 枚 数 | K11: 配 布 | L11: 店 名 | M11: 枚 数 | N11: 配 布 | O11: 店 名 | P11: 枚 数 | Q11: 配 布 | R11: 店 名 | S11: 枚 数 | T11: 配 布
A12: 壱岐市 | B12: 15 | C12: ★壱岐 | D12: 1260 | I12: ★壱岐 | J12: 20 | L12: ★壱岐AK | M12: 1050 | O12: ★壱岐 | P12: 220
A13: ※ | L13: ★勝本AK | M13: 150
A15: ★離島
A18: ■地区枚数■ | B18: =D20+G20+J20+M20+P20+S20 -> 2700
A20: ■配布枚数■ | B20: =E20+H20+K20+N20+Q20+T20 -> 0 | C20: ◆小 計◆ | D20: =SUM(D12:D19) -> 1260 | E20: =SUM(E12:E19) -> 0 | F20: ◆小 計◆ | I20: ◆小 計◆ | J20: =SUM(J12:J19) -> 20 | K20: =SUM(K12:K19) -> 0 | L20: ◆小 計◆ | M20: =SUM(M12:M19) -> 1200 | N20: =SUM(N12:N19) -> 0 | O20: ◆小 計◆ | P20: =SUM(P12:P19) -> 220 | Q20: =SUM(Q12:Q19) -> 0 | R20: ◆小 計◆ | S20: =SUM(S12:S19) -> 0 | T20: =SUM(T12:T19) -> 0
A22: 対馬市 | B22: 16 | L22: ★比田勝AM | M22: 60 | O22: ★厳原YAMNSK | P22: 1880
A23: ※ | L23: ★佐須奈AM | M23: 30
A24: ★離島
A26: ■地区枚数■ | B26: =D28+G28+J28+M28+P28+S28 -> 1970
A28: ■配布枚数■ | B28: =E28+H28+K28+N28+Q28+T28 -> 0 | C28: ◆小 計◆ | F28: ◆小 計◆ | I28: ◆小 計◆ | L28: ◆小 計◆ | M28: =SUM(M22:M26) -> 90 | N28: =SUM(N22:N26) -> 0 | O28: ◆小 計◆ | P28: =SUM(P22:P26) -> 1880 | Q28: =SUM(Q22:Q26) -> 0 | R28: ◆小 計◆ | S28: =SUM(S22:S26) -> 0 | T28: =SUM(T22:T26) -> 0
