Workbook

Sheet 集計
F1: 鹿 児 島 県 コード ４６
Q3: 46296 | T3: 大分折込株式会社
A5: 市・郡・区 | B5: コード № | D5: 読 売 | F5: 朝 日 | H5: 毎 日 | J5: 南 日 本 | L5: 日 経 | P5: 奄 美 | R5: 南 海 | T5: 枚数計 | U5: 配布計 | V5: ページ | W5: 26.01
D6: 枚数 | E6: 配布 | F6: 枚数 | G6: 配布 | H6: 枚数 | I6: 配布 | J6: 枚数 | K6: 配布 | L6: 枚数 | M6: 配布 | N6: 枚数 | O6: 配布 | P6: 枚数 | Q6: 配布 | R6: 枚数 | S6: 配布 | W6: 世帯数
A7: 南九州市 | B7: ０１ | C7: 部 数 | D7: =南九州市・枕崎市・南さつま市・指宿市!$D$23 -> 70 | E7: =南九州市・枕崎市・南さつま市・指宿市!$E$23 -> 0 | F7: =南九州市・枕崎市・南さつま市・指宿市!$G$23 -> 120 | G7: =南九州市・枕崎市・南さつま市・指宿市!$H$23 -> 0 | H7: =南九州市・枕崎市・南さつま市・指宿市!$J$23 -> 20 | I7: =南九州市・枕崎市・南さつま市・指宿市!$K$23 -> 0 | J7: =南九州市・枕崎市・南さつま市・指宿市!$M$23 -> 7030 | K7: =南九州市・枕崎市・南さつま市・指宿市!$N$23 -> 0 | L7: =南九州市・枕崎市・南さつま市・指宿市!$P$23 -> 120 | M7: =南九州市・枕崎市・南さつま市・指宿市!$Q$23 -> 0 | T7: =SUM(D7,F7,H7,J7,L7,P7,R7) -> 7360 | U7: =SUM(E7,G7,I7,K7,M7,Q7,S7) -> 0 | V7: 1 | W7: 16078
A8: 枕崎市 | B8: ０２ | C8: 部 数 | D8: =南九州市・枕崎市・南さつま市・指宿市!$D$31 -> 140 | E8: =南九州市・枕崎市・南さつま市・指宿市!$E$31 -> 0 | F8: =南九州市・枕崎市・南さつま市・指宿市!$G$31 -> 50 | G8: =南九州市・枕崎市・南さつま市・指宿市!$H$31 -> 0 | H8: =南九州市・枕崎市・南さつま市・指宿市!$J$31 -> 10 | I8: =南九州市・枕崎市・南さつま市・指宿市!$K$31 -> 0 | J8: =南九州市・枕崎市・南さつま市・指宿市!$M$31 -> 3020 | K8: =南九州市・枕崎市・南さつま市・指宿市!$N$31 -> 0 | L8: =南九州市・枕崎市・南さつま市・指宿市!$P$31 -> 40 | M8: =南九州市・枕崎市・南さつま市・指宿市!$Q$31 -> 0 | T8: =SUM(D8,F8,H8,J8,L8,P8,R8) -> 3260 | U8: =SUM(E8,G8,I8,K8,M8,Q8,S8) -> 0 | V8: 1 | W8: 10243
A9: 南さつま市 | B9: ０３ | C9: 部 数 | D9: =南九州市・枕崎市・南さつま市・指宿市!$D$45 -> 70 | E9: =南九州市・枕崎市・南さつま市・指宿市!$E$45 -> 0 | F9: =南九州市・枕崎市・南さつま市・指宿市!$G$45 -> 90 | G9: =南九州市・枕崎市・南さつま市・指宿市!$H$45 -> 0 | H9: =南九州市・枕崎市・南さつま市・指宿市!$J$45 -> 40 | I9: =南九州市・枕崎市・南さつま市・指宿市!$K$45 -> 0 | J9: =南九州市・枕崎市・南さつま市・指宿市!$M$45 -> 4660 | K9: =南九州市・枕崎市・南さつま市・指宿市!$N$45 -> 0 | L9: =南九州市・枕崎市・南さつま市・指宿市!$P$45 -> 90 | M9: =南九州市・枕崎市・南さつま市・指宿市!$Q$45 -> 0 | T9: =SUM(D9,F9,H9,J9,L9,P9,R9) -> 4950 | U9: =SUM(E9,G9,I9,K9,M9,Q9,S9) -> 0 | V9: 1 | W9: 16479
A10: 指宿市 | B10: ０４ | C10: 部 数 | D10: =南九州市・枕崎市・南さつま市・指宿市!$D$57 -> 210 | E10: =南九州市・枕崎市・南さつま市・指宿市!$E$57 -> 0 | F10: =南九州市・枕崎市・南さつま市・指宿市!$G$57 -> 160 | G10: =南九州市・枕崎市・南さつま市・指宿市!$H$57 -> 0 | H10: =南九州市・枕崎市・南さつま市・指宿市!$J$57 -> 60 | I10: =南九州市・枕崎市・南さつま市・指宿市!$K$57 -> 0 | J10: =南九州市・枕崎市・南さつま市・指宿市!$M$57 -> 4750 | K10: =南九州市・枕崎市・南さつま市・指宿市!$N$57 -> 0 | L10: =南九州市・枕崎市・南さつま市・指宿市!$P$57 -> 120 | M10: =南九州市・枕崎市・南さつま市・指宿市!$Q$57 -> 0 | T10: =SUM(D10,F10,H10,J10,L10,P10,R10) -> 5300 | U10: =SUM(E10,G10,I10,K10,M10,Q10,S10) -> 0 | V10: 1 | W10: 19519
A11: 鹿児島市 | B11: ０６ | C11: 部 数 | D11: =鹿児島市２!$D$57 -> 4960 | E11: =鹿児島市２!$E$57 -> 0 | F11: =鹿児島市２!$G$57 -> 3930 | G11: =鹿児島市２!$H$57 -> 0 | H11: =鹿児島市２!$J$57 -> 590 | I11: =鹿児島市２!$K$57 -> 0 | J11: =鹿児島市２!$M$57 -> 75400 | K11: =鹿児島市２!$N$57 -> 0 | L11: =鹿児島市２!$P$57 -> 3650 | M11: =鹿児島市２!$Q$57 -> 0 | T11: =SUM(D11,F11,H11,J11,L11,P11,R11) -> 88530 | U11: =SUM(E11,G11,I11,K11,M11,Q11,S11) -> 0 | V11: 2・３ | W11: 306640
A12: 日置市 | B12: ０７ | C12: 部 数 | D12: =日置市・いちき串木野市・薩摩川内市!$D$25 -> 620 | E12: =日置市・いちき串木野市・薩摩川内市!$E$25 -> 0 | F12: =日置市・いちき串木野市・薩摩川内市!$G$25 -> 220 | G12: =日置市・いちき串木野市・薩摩川内市!$H$25 -> 0 | H12: =日置市・いちき串木野市・薩摩川内市!$J$25 -> 40 | I12: =日置市・いちき串木野市・薩摩川内市!$K$25 -> 0 | J12: =日置市・いちき串木野市・薩摩川内市!$M$25 -> 7560 | K12: =日置市・いちき串木野市・薩摩川内市!$N$25 -> 0 | L12: =日置市・いちき串木野市・薩摩川内市!$P$25 -> 150 | M12: =日置市・いちき串木野市・薩摩川内市!$Q$25 -> 0 | T12: =SUM(D12,F12,H12,J12,L12,P12,R12) -> 8590 | U12: =SUM(E12,G12,I12,K12,M12,Q12,S12) -> 0 | V12: 4 | W12: 22556
A13: いちき串木野市 | B13: ０８ | C13: 部 数 | D13: =日置市・いちき串木野市・薩摩川内市!$D$34 -> 120 | E13: =日置市・いちき串木野市・薩摩川内市!$E$34 -> 0 | F13: =日置市・いちき串木野市・薩摩川内市!$G$34 -> 160 | G13: =日置市・いちき串木野市・薩摩川内市!$H$34 -> 0 | H13: =日置市・いちき串木野市・薩摩川内市!$J$34 -> 40 | I13: =日置市・いちき串木野市・薩摩川内市!$K$34 -> 0 | J13: =日置市・いちき串木野市・薩摩川内市!$M$34 -> 5190 | K13: =日置市・いちき串木野市・薩摩川内市!$N$34 -> 0 | L13: =日置市・いちき串木野市・薩摩川内市!$P$34 -> 130 | M13: =日置市・いちき串木野市・薩摩川内市!$Q$34 -> 0 | T13: =SUM(D13,F13,H13,J13,L13,P13,R13) -> 5640 | U13: =SUM(E13,G13,I13,K13,M13,Q13,S13) -> 0 | V13: 4 | W13: 13121
A14: 薩摩川内市 | B14: ０９ | C14: 部 数 | D14: =日置市・いちき串木野市・薩摩川内市!$D$58 -> 1250 | E14: =日置市・いちき串木野市・薩摩川内市!$E$58 -> 0 | F14: =日置市・いちき串木野市・薩摩川内市!$G$58 -> 330 | G14: =日置市・いちき串木野市・薩摩川内市!$H$58 -> 0 | H14: =日置市・いちき串木野市・薩摩川内市!$J$58 -> 90 | I14: =日置市・いちき串木野市・薩摩川内市!$K$58 -> 0 | J14: =日置市・いちき串木野市・薩摩川内市!$M$58 -> 10820 | K14: =日置市・いちき串木野市・薩摩川内市!$N$58 -> 0 | L14: =日置市・いちき串木野市・薩摩川内市!$P$58 -> 260 | M14: =日置市・いちき串木野市・薩摩川内市!$Q$58 -> 0 | T14: =SUM(D14,F14,H14,J14,L14,P14,R14) -> 12750 | U14: =SUM(E14,G14,I14,K14,M14,Q14,S14) -> 0 | V14: 4 | W14: 46101
A15: 薩摩郡 | B15: １０ | C15: 部 数 | D15: =薩摩郡・阿久根市!$D$37 -> 70 | E15: =薩摩郡・阿久根市!$E$37 -> 0 | F15: =薩摩郡・阿久根市!$G$37 -> 70 | G15: =薩摩郡・阿久根市!$H$37 -> 0 | H15: =薩摩郡・阿久根市!$J$37 -> 30 | I15: =薩摩郡・阿久根市!$K$37 -> 0 | J15: =薩摩郡・阿久根市!$M$37 -> 3100 | K15: =薩摩郡・阿久根市!$N$37 -> 0 | L15: =薩摩郡・阿久根市!$P$37 -> 50 | M15: =薩摩郡・阿久根市!$Q$37 -> 0 | T15: =SUM(D15,F15,H15,J15,L15,P15,R15) -> 3320 | U15: =SUM(E15,G15,I15,K15,M15,Q15,S15) -> 0 | V15: 5 | W15: 9762
A16: 阿久根市 | B16: １１ | C16: 部 数 | D16: =薩摩郡・阿久根市!$D$57 -> 660 | E16: =薩摩郡・阿久根市!$E$57 -> 0 | F16: =薩摩郡・阿久根市!$G$57 -> 60 | G16: =薩摩郡・阿久根市!$H$57 -> 0 | H16: =薩摩郡・阿久根市!$J$57 -> 30 | I16: =薩摩郡・阿久根市!$K$57 -> 0 | J16: =薩摩郡・阿久根市!$M$57 -> 2390 | K16: =薩摩郡・阿久根市!$N$57 -> 0 | L16: =薩摩郡・阿久根市!$P$57 -> 70 | M16: =薩摩郡・阿久根市!$Q$57 -> 0 | T16: =SUM(D16,F16,H16,J16,L16,P16,R16) -> 3210 | U16: =SUM(E16,G16,I16,K16,M16,Q16,S16) -> 0 | V16: 5 | W16: 9563
A17: 出水郡 | B17: １２ | C17: 部 数 | D17: =出水市郡・伊佐市!$D$25 -> 20 | E17: =出水市郡・伊佐市!$E$25 -> 0 | F17: =出水市郡・伊佐市!$G$25 -> 10 | G17: =出水市郡・伊佐市!$H$25 -> 0 | H17: =出水市郡・伊佐市!$J$25 -> 0 | I17: =出水市郡・伊佐市!$K$25 -> 0 | J17: =出水市郡・伊佐市!$M$25 -> 1250 | K17: =出水市郡・伊佐市!$N$25 -> 0 | L17: =出水市郡・伊佐市!$P$25 -> 20 | M17: =出水市郡・伊佐市!$Q$25 -> 0 | T17: =SUM(D17,F17,H17,J17,L17,P17,R17) -> 1300 | U17: =SUM(E17,G17,I17,K17,M17,Q17,S17) -> 0 | V17: 6 | W17: 4304
A18: 出水市 | B18: １３ | C18: 部 数 | D18: =出水市郡・伊佐市!$D$38 -> 970 | E18: =出水市郡・伊佐市!$E$38 -> 0 | F18: =出水市郡・伊佐市!$G$38 -> 330 | G18: =出水市郡・伊佐市!$H$38 -> 0 | H18: =出水市郡・伊佐市!$J$38 -> 110 | I18: =出水市郡・伊佐市!$K$38 -> 0 | J18: =出水市郡・伊佐市!$M$38 -> 6200 | K18: =出水市郡・伊佐市!$N$38 -> 0 | L18: =出水市郡・伊佐市!$P$38 -> 170 | M18: =出水市郡・伊佐市!$Q$38 -> 0 | T18: =SUM(D18,F18,H18,J18,L18,P18,R18) -> 7780 | U18: =SUM(E18,G18,I18,K18,M18,Q18,S18) -> 0 | V18: 6 | W18: 25954
A19: 伊佐市 | B19: １４ | C19: 部 数 | D19: =出水市郡・伊佐市!$D$54 -> 110 | E19: =出水市郡・伊佐市!$E$54 -> 0 | F19: =出水市郡・伊佐市!$G$54 -> 130 | G19: =出水市郡・伊佐市!$H$54 -> 0 | H19: =出水市郡・伊佐市!$J$54 -> 30 | I19: =出水市郡・伊佐市!$K$54 -> 0 | J19: =出水市郡・伊佐市!$M$54 -> 3700 | K19: =出水市郡・伊佐市!$N$54 -> 0 | L19: =出水市郡・伊佐市!$P$54 -> 70 | M19: =出水市郡・伊佐市!$Q$54 -> 0 | T19: =SUM(D19,F19,H19,J19,L19,P19,R19) -> 4040 | U19: =SUM(E19,G19,I19,K19,M19,Q19,S19) -> 0 | V19: 6 | W19: 12215
A20: 姶良市 | B20: １５ | C20: 部 数 | D20: =姶良市郡・霧島市!$D$24 -> 990 | E20: =姶良市郡・霧島市!$E$24 -> 0 | F20: =姶良市郡・霧島市!$G$24 -> 390 | G20: =姶良市郡・霧島市!$H$24 -> 0 | H20: =姶良市郡・霧島市!$J$24 -> 70 | I20: =姶良市郡・霧島市!$K$24 -> 0 | J20: =姶良市郡・霧島市!$M$24 -> 9250 | K20: =姶良市郡・霧島市!$N$24 -> 0 | L20: =姶良市郡・霧島市!$P$24 -> 220 | M20: =姶良市郡・霧島市!$Q$24 -> 0 | T20: =SUM(D20,F20,H20,J20,L20,P20,R20) -> 10920 | U20: =SUM(E20,G20,I20,K20,M20,Q20,S20) -> 0 | V20: 7 | W20: 38901
A21: 姶良郡 | B21: １６ | C21: 部 数 | D21: =姶良市郡・霧島市!$D$32 -> 60 | E21: =姶良市郡・霧島市!$E$32 -> 0 | F21: =姶良市郡・霧島市!$G$32 -> 30 | G21: =姶良市郡・霧島市!$H$32 -> 0 | H21: =姶良市郡・霧島市!$J$32 -> 10 | I21: =姶良市郡・霧島市!$K$32 -> 0 | J21: =姶良市郡・霧島市!$M$32 -> 1260 | K21: =姶良市郡・霧島市!$N$32 -> 0 | L21: =姶良市郡・霧島市!$P$32 -> 30 | M21: =姶良市郡・霧島市!$Q$32 -> 0 | T21: =SUM(D21,F21,H21,J21,L21,P21,R21) -> 1390 | U21: =SUM(E21,G21,I21,K21,M21,Q21,S21) -> 0 | V21: 7 | W21: 4578
A22: 霧島市 | B22: １７ | C22: 部 数 | D22: =姶良市郡・霧島市!$D$55 -> 1690 | E22: =姶良市郡・霧島市!$E$55 -> 0 | F22: =姶良市郡・霧島市!$G$55 -> 520 | G22: =姶良市郡・霧島市!$H$55 -> 0 | H22: =姶良市郡・霧島市!$J$55 -> 90 | I22: =姶良市郡・霧島市!$K$55 -> 0 | J22: =姶良市郡・霧島市!$M$55 -> 12370 | K22: =姶良市郡・霧島市!$N$55 -> 0 | L22: =姶良市郡・霧島市!$P$55 -> 410 | M22: =姶良市郡・霧島市!$Q$55 -> 0 | T22: =SUM(D22,F22,H22,J22,L22,P22,R22) -> 15080 | U22: =SUM(E22,G22,I22,K22,M22,Q22,S22) -> 0 | V22: 7 | W22: 63137
A23: 曽於郡 | B23: １８ | C23: 部 数 | D23: =曽於市郡・志布志市・垂水市!$D$21 -> 40 | E23: =曽於市郡・志布志市・垂水市!$E$21 -> 0 | F23: =曽於市郡・志布志市・垂水市!$G$21 -> 40 | G23: =曽於市郡・志布志市・垂水市!$H$21 -> 0 | H23: =曽於市郡・志布志市・垂水市!$J$21 -> 10 | I23: =曽於市郡・志布志市・垂水市!$K$21 -> 0 | J23: =曽於市郡・志布志市・垂水市!$M$21 -> 2190 | K23: =曽於市郡・志布志市・垂水市!$N$21 -> 0 | L23: =曽於市郡・志布志市・垂水市!$P$21 -> 20 | M23: =曽於市郡・志布志市・垂水市!$Q$21 -> 0 | T23: =SUM(D23,F23,H23,J23,L23,P23,R23) -> 2300 | U23: =SUM(E23,G23,I23,K23,M23,Q23,S23) -> 0 | V23: 8 | W23: 6532
A24: 曽於市 | B24: １８ | C24: 部 数 | D24: =曽於市郡・志布志市・垂水市!$D$32 -> 150 | E24: =曽於市郡・志布志市・垂水市!$E$32 -> 0 | F24: =曽於市郡・志布志市・垂水市!$G$32 -> 110 | G24: =曽於市郡・志布志市・垂水市!$H$32 -> 0 | H24: =曽於市郡・志布志市・垂水市!$J$32 -> 20 | I24: =曽於市郡・志布志市・垂水市!$K$32 -> 0 | J24: =曽於市郡・志布志市・垂水市!$M$32 -> 4450 | K24: =曽於市郡・志布志市・垂水市!$N$32 -> 0 | L24: =曽於市郡・志布志市・垂水市!$P$32 -> 90 | M24: =曽於市郡・志布志市・垂水市!$Q$32 -> 0 | T24: =SUM(D24,F24,H24,J24,L24,P24,R24) -> 4820 | U24: =SUM(E24,G24,I24,K24,M24,Q24,S24) -> 0 | V24: 8 | W24: 17023
A25: 志布志市 | B25: １８ | C25: 部 数 | D25: =曽於市郡・志布志市・垂水市!$D$41 -> 80 | E25: =曽於市郡・志布志市・垂水市!$E$41 -> 0 | F25: =曽於市郡・志布志市・垂水市!$G$41 -> 70 | G25: =曽於市郡・志布志市・垂水市!$H$41 -> 0 | H25: =曽於市郡・志布志市・垂水市!$J$41 -> 20 | I25: =曽於市郡・志布志市・垂水市!$K$41 -> 0 | J25: =曽於市郡・志布志市・垂水市!$M$41 -> 2890 | K25: =曽於市郡・志布志市・垂水市!$N$41 -> 0 | L25: =曽於市郡・志布志市・垂水市!$P$41 -> 90 | M25: =曽於市郡・志布志市・垂水市!$Q$41 -> 0 | T25: =SUM(D25,F25,H25,J25,L25,P25,R25) -> 3150 | U25: =SUM(E25,G25,I25,K25,M25,Q25,S25) -> 0 | V25: 8 | W25: 15066
A26: 垂水市 | B26: １９ | C26: 部 数 | D26: =曽於市郡・志布志市・垂水市!$D$56 -> 80 | E26: =曽於市郡・志布志市・垂水市!$E$56 -> 0 | F26: =曽於市郡・志布志市・垂水市!$G$56 -> 60 | G26: =曽於市郡・志布志市・垂水市!$H$56 -> 0 | H26: =曽於市郡・志布志市・垂水市!$J$56 -> 20 | I26: =曽於市郡・志布志市・垂水市!$K$56 -> 0 | J26: =曽於市郡・志布志市・垂水市!$M$56 -> 1880 | K26: =曽於市郡・志布志市・垂水市!$N$56 -> 0 | L26: =曽於市郡・志布志市・垂水市!$P$56 -> 40 | M26: =曽於市郡・志布志市・垂水市!$Q$56 -> 0 | T26: =SUM(D26,F26,H26,J26,L26,P26,R26) -> 2080 | U26: =SUM(E26,G26,I26,K26,M26,Q26,S26) -> 0 | V26: 8 | W26: 7109
A27: 鹿屋市 | B27: ２０ | C27: 部 数 | D27: =鹿屋市・肝属郡!$D$35 -> 790 | E27: =鹿屋市・肝属郡!$E$35 -> 0 | F27: =鹿屋市・肝属郡!$G$35 -> 290 | G27: =鹿屋市・肝属郡!$H$35 -> 0 | H27: =鹿屋市・肝属郡!$J$35 -> 100 | I27: =鹿屋市・肝属郡!$K$35 -> 0 | J27: =鹿屋市・肝属郡!$M$35 -> 10460 | K27: =鹿屋市・肝属郡!$N$35 -> 0 | L27: =鹿屋市・肝属郡!$P$35 -> 290 | M27: =鹿屋市・肝属郡!$Q$35 -> 0 | T27: =SUM(D27,F27,H27,J27,L27,P27,R27) -> 11930 | U27: =SUM(E27,G27,I27,K27,M27,Q27,S27) -> 0 | V27: 9 | W27: 51268
A28: 肝属郡 | B28: ２１ | C28: 部 数 | D28: =鹿屋市・肝属郡!$D$54 -> 140 | E28: =鹿屋市・肝属郡!$E$54 -> 0 | F28: =鹿屋市・肝属郡!$G$54 -> 80 | G28: =鹿屋市・肝属郡!$H$54 -> 0 | H28: =鹿屋市・肝属郡!$J$54 -> 20 | I28: =鹿屋市・肝属郡!$K$54 -> 0 | J28: =鹿屋市・肝属郡!$M$54 -> 4470 | K28: =鹿屋市・肝属郡!$N$54 -> 0 | L28: =鹿屋市・肝属郡!$P$54 -> 70 | M28: =鹿屋市・肝属郡!$Q$54 -> 0 | T28: =SUM(D28,F28,H28,J28,L28,P28,R28) -> 4780 | U28: =SUM(E28,G28,I28,K28,M28,Q28,S28) -> 0 | V28: 9 | W28: 17235
A29: 熊毛郡 | B29: ２２ | C29: 部 数 | D29: =熊毛郡・西之表市・大島郡１・奄美市１!$D$19 -> 90 | E29: =熊毛郡・西之表市・大島郡１・奄美市１!$E$19 -> 0 | F29: =熊毛郡・西之表市・大島郡１・奄美市１!$G$19 -> 40 | G29: =熊毛郡・西之表市・大島郡１・奄美市１!$H$19 -> 0 | H29: =熊毛郡・西之表市・大島郡１・奄美市１!$J$19 -> 20 | I29: =熊毛郡・西之表市・大島郡１・奄美市１!$K$19 -> 0 | J29: =熊毛郡・西之表市・大島郡１・奄美市１!$M$19 -> 1530 | K29: =熊毛郡・西之表市・大島郡１・奄美市１!$N$19 -> 0 | L29: =熊毛郡・西之表市・大島郡１・奄美市１!$P$19 -> 30 | M29: =熊毛郡・西之表市・大島郡１・奄美市１!$Q$19 -> 0 | T29: =SUM(D29,F29,H29,J29,L29,P29,R29) -> 1710 | U29: =SUM(E29,G29,I29,K29,M29,Q29,S29) -> 0 | V29: 10 | W29: 13292
A30: 西之表市 | B30: ２３ | C30: 部 数 | D30: =熊毛郡・西之表市・大島郡１・奄美市１!$D$24 -> 60 | E30: =熊毛郡・西之表市・大島郡１・奄美市１!$E$24 -> 0 | F30: =熊毛郡・西之表市・大島郡１・奄美市１!$G$24 -> 20 | G30: =熊毛郡・西之表市・大島郡１・奄美市１!$H$24 -> 0 | H30: =熊毛郡・西之表市・大島郡１・奄美市１!$J$24 -> 10 | I30: =熊毛郡・西之表市・大島郡１・奄美市１!$K$24 -> 0 | J30: =熊毛郡・西之表市・大島郡１・奄美市１!$M$24 -> 900 | K30: =熊毛郡・西之表市・大島郡１・奄美市１!$N$24 -> 0 | L30: =熊毛郡・西之表市・大島郡１・奄美市１!$P$24 -> 30 | M30: =熊毛郡・西之表市・大島郡１・奄美市１!$Q$24 -> 0 | T30: =SUM(D30,F30,H30,J30,L30,P30,R30) -> 1020 | U30: =SUM(E30,G30,I30,K30,M30,Q30,S30) -> 0 | V30: 10 | W30: 7945
A31: 大島郡 | B31: ２４ | C31: 部 数 | D31: =熊毛郡・西之表市・大島郡１・奄美市１!$D$36 -> 70 | E31: =熊毛郡・西之表市・大島郡１・奄美市１!$E$36 -> 0 | F31: =熊毛郡・西之表市・大島郡１・奄美市１!$G$36 -> 120 | G31: =熊毛郡・西之表市・大島郡１・奄美市１!$H$36 -> 0 | H31: =熊毛郡・西之表市・大島郡１・奄美市１!$J$36 -> 0 | I31: =熊毛郡・西之表市・大島郡１・奄美市１!$K$36 -> 0 | J31: =熊毛郡・西之表市・大島郡１・奄美市１!$M$36 -> 910 | K31: =熊毛郡・西之表市・大島郡１・奄美市１!$N$36 -> 0 | L31: =熊毛郡・西之表市・大島郡１・奄美市１!$P$36 -> 60 | M31: =熊毛郡・西之表市・大島郡１・奄美市１!$Q$36 -> 0 | N31: =熊毛郡・西之表市・大島郡１・奄美市１!$D$36 -> 70 | P31: =大島郡２・奄美市２!D32 -> 2940 | Q31: =大島郡２・奄美市２!E32 -> 0 | R31: =大島郡２・奄美市２!G32 -> 9870 | S31: =大島郡２・奄美市２!H32 -> 0 | T31: =SUM(D31,F31,H31,J31,L31,P31,R31) -> 13970 | U31: =SUM(E31,G31,I31,K31,M31,Q31,S31) -> 0 | V31: １０・１１ | W31: 34426
A32: 奄美市 | B32: ２５ | C32: 部 数 | D32: =熊毛郡・西之表市・大島郡１・奄美市１!$D$54 -> 80 | E32: =熊毛郡・西之表市・大島郡１・奄美市１!$E$54 -> 0 | F32: =熊毛郡・西之表市・大島郡１・奄美市１!$G$54 -> 90 | G32: =熊毛郡・西之表市・大島郡１・奄美市１!$H$54 -> 0 | H32: =熊毛郡・西之表市・大島郡１・奄美市１!$J$54 -> 20 | I32: =熊毛郡・西之表市・大島郡１・奄美市１!$K$54 -> 0 | J32: =熊毛郡・西之表市・大島郡１・奄美市１!$M$54 -> 420 | K32: =熊毛郡・西之表市・大島郡１・奄美市１!$N$54 -> 0 | L32: =熊毛郡・西之表市・大島郡１・奄美市１!$P$54 -> 110 | M32: =熊毛郡・西之表市・大島郡１・奄美市１!$Q$54 -> 0 | N32: =熊毛郡・西之表市・大島郡１・奄美市１!$D$54 -> 80 | P32: =大島郡２・奄美市２!D55 -> 4420 | Q32: =大島郡２・奄美市２!E55 -> 0 | R32: =大島郡２・奄美市２!G55 -> 11130 | S32: =大島郡２・奄美市２!H55 -> 0 | T32: =SUM(D32,F32,H32,J32,L32,P32,R32) -> 16270 | U32: =SUM(E32,G32,I32,K32,M32,Q32,S32) -> 0 | V32: １０・１１ | W32: 23242
A35: 合 計 | C35: 部 数 | D35: =SUM(D7:E34) -> 13590 | F35: =SUM(F7:G34) -> 7520 | H35: =SUM(H7:I34) -> 1500 | J35: =SUM(J7:K34) -> 188050 | L35: =SUM(L7:M34) -> 6430 | N35: =SUM(N7:O34) -> 150 | P35: =SUM(P7:Q34) -> 7360 | R35: =SUM(R7:S34) -> 21000 | T35: =SUM(T7:T34) -> 245450 | U35: =SUM(U7:U34) -> 0 | W35: =SUM(W7:W34) -> 812289

Sheet 南九州市・枕崎市・南さつま市・指宿市
B1: 鹿児島営業所 | F1: 鹿 児 島 県 コード ４６
M2: 46296 | O2: 大分折込株式会社
A4: スポンサー名 | F4: 請求先 | H4: 折 込 日 | K4: サイズ | L4: 枚 数 | O4: センター名 | Q4: No.
H5: 年 月 日 曜 | L5: =大島郡２・奄美市２!$L$5:$M$7 -> 0
N6: 枚
B9: 銘柄 | C9: 読 売 | F9: 朝 日 | I9: 毎 日 | L9: 南 日 本 | O9: 日 経
C10: コード ０１ | F10: コード ０２ | I10: コード ０３ | L10: コード ８１ | O10: コード ０５
A11: 市郡区 | C11: 店 名 | D11: 枚 数 | E11: 配 布 | F11: 店 名 | G11: 枚 数 | H11: 配 布 | I11: 店 名 | J11: 枚 数 | K11: 配 布 | L11: 店 名 | M11: 枚 数 | N11: 配 布 | O11: 店 名 | P11: 枚 数 | Q11: 配 布
A12: 南九州市 | B12: 1 | C12: 南九州中央(合) | D12: 20 | F12: えい開聞(合) | G12: 30 | I12: (南)南九州中央 | J12: 20 | L12: えい開聞 | M12: 2540 | O12: えい開聞 | P12: 30
A13: ※ | C13: えい開聞(合) | D13: 50 | F13: 南九州中央(合) | G13: 90 | L13: 南九州中央 | M13: 4490 | O13: 南九州中央 | P13: 90
A21: ■地区枚数■ | B21: =D23+G23+J23+M23+P23 -> 7360
A23: ■配布枚数■ | B23: =E23+H23+K23+N23+Q23 -> 0 | C23: ◆小 計◆ | D23: =SUM(D12:D22) -> 70 | E23: =SUM(E12:E22) -> 0 | F23: ◆小 計◆ | G23: =SUM(G12:G22) -> 120 | H23: =SUM(H12:H22) -> 0 | I23: ◆小 計◆ | J23: =SUM(J12:J22) -> 20 | K23: =SUM(K12:K22) -> 0 | L23: ◆小 計◆ | M23: =SUM(M12:M22) -> 7030 | N23: =SUM(N12:N22) -> 0 | O23: ◆小 計◆ | P23: =SUM(P12:P22) -> 120 | Q23: =SUM(Q12:Q22) -> 0
A25: 枕崎市 | B25: 2 | C25: 枕崎 | D25: 140 | F25: 枕崎(合) | G25: 50 | I25: (南)枕崎 | J25: 10 | L25: 枕崎 | M25: 3020 | O25: 枕崎 | P25: 40
A26: ※
A29: ■地区枚数■ | B29: =D31+G31+J31+M31+P31 -> 3260
A31: ■配布枚数■ | B31: =E31+H31+K31+N31+Q31 -> 0 | C31: ◆小 計◆ | D31: =SUM(D24:D30) -> 140 | E31: =SUM(E24:E30) -> 0 | F31: ◆小 計◆ | G31: =SUM(G24:G30) -> 50 | H31: =SUM(H24:H30) -> 0 | I31: ◆小 計◆ | J31: =SUM(J24:J30) -> 10 | K31: =SUM(K24:K30) -> 0 | L31: ◆小 計◆ | M31: =SUM(M24:M30) -> 3020 | N31: =SUM(N24:N30) -> 0 | O31: ◆小 計◆ | P31: =SUM(P24:P30) -> 40 | Q31: =SUM(Q24:Q30) -> 0
A33: 南さつま市 | B33: 3 | C33: 加世田（合） | D33: 30 | F33: 加世田(合) | G33: 50 | I33: (南)加世田 | J33: 20 | L33: 加世田 | M33: 2000 | O33: 加世田 | P33: 60
A34: ※ | C34: 大浦笠沙(合) | D34: 10 | F34: 加世田西部(合) | G34: 30 | I34: (南)加世田西 | J34: 10 | L34: 加世田西部 | M34: 1960 | O34: 加世田西部 | P34: 20
C35: 加世田西部（合） | D35: 30 | F35: 大浦笠沙(南) | G35: 10 | I35: (南)大浦笠沙 | J35: 10 | L35: 大浦笠沙 | M35: 700 | O35: 大浦笠沙 | P35: 10
A43: ■地区枚数■ | B43: =D45+G45+J45+M45+P45 -> 4950
A45: ■配布枚数■ | B45: =E45+H45+K45+N45+Q45 -> 0 | C45: ◆小 計◆ | D45: =SUM(D32:D44) -> 70 | E45: =SUM(E32:E44) -> 0 | F45: ◆小 計◆ | G45: =SUM(G32:G44) -> 90 | H45: =SUM(H32:H44) -> 0 | I45: ◆小 計◆ | J45: =SUM(J32:J44) -> 40 | K45: =SUM(K32:K44) -> 0 | L45: ◆小 計◆ | M45: =SUM(M32:M44) -> 4660 | N45: =SUM(N32:N44) -> 0 | O45: ◆小 計◆ | P45: =SUM(P32:P44) -> 90 | Q45: =SUM(Q32:Q44) -> 0
A47: 指宿市 | B47: 4 | C47: 指宿喜入(合) | D47: 40 | F47: 指宿(合) | G47: 100 | I47: (南)指宿 | J47: 40 | L47: 指宿 | M47: 2140 | O47: 指宿喜入 | P47: 30
A48: ※ | C48: 指宿(合) | D48: 140 | F48: 指宿喜入(合) | G48: 30 | I48: (南)指宿喜入 | J48: 10 | L48: 指宿喜入 | M48: 1340 | O48: 山川 | P48: 20
C49: 山川(合) | D49: 30 | F49: 山川(合) | G49: 30 | I49: (南)山川 | J49: 10 | L49: 山川 | M49: 1270 | O49: 指宿 | P49: 70
A55: ■地区枚数■ | B55: =D57+G57+J57+M57+P57 -> 5300
A57: ■配布枚数■ | B57: =E57+H57+K57+N57+Q57 -> 0 | C57: ◆小 計◆ | D57: =SUM(D47:D56) -> 210 | E57: =SUM(E47:E56) -> 0 | F57: ◆小 計◆ | G57: =SUM(G47:G56) -> 160 | H57: =SUM(H47:H56) -> 0 | I57: ◆小 計◆ | J57: =SUM(J47:J56) -> 60 | K57: =SUM(K47:K56) -> 0 | L57: ◆小 計◆ | M57: =SUM(M47:M56) -> 4750 | N57: =SUM(N47:N56) -> 0 | O57: ◆小 計◆ | P57: =SUM(P47:P56) -> 120 | Q57: =SUM(Q47:Q56) -> 0
C60: 2005年11月 7日、加世田市、川辺郡笠沙町・大浦町・坊津町、日置郡金峰町 が合併することにより、市郡区が南さつま市に変更になります。
C61: 2006年 1月 1日、指宿市、揖宿郡山川町･開聞町 が合併することにより、市郡区が指宿市に変更になります。
C62: 2007年12月 1日、揖宿郡頴娃町、川辺郡知覧町・川辺町 が合併することにより、市郡区が南九州市に変更になります。
C63: 2009年 4月 1日、鹿児島県内全域の西日本新聞販売店の閉鎖に伴い南日本新聞販売店の取り扱いとなります。

Sheet 鹿児島市１
B1: 鹿児島営業所 | F1: 鹿 児 島 県 コード ４６
M2: 46296 | O2: 大分折込株式会社
A4: スポンサー名 | F4: 請求先 | H4: 折 込 日 | K4: サイズ | L4: 枚 数 | O4: センター名 | Q4: No.
H5: 年 月 日 曜 | L5: =大島郡２・奄美市２!$L$5:$M$7 -> 0
N6: 枚
B9: 銘柄 | C9: 読 売 | F9: 朝 日 | I9: 毎 日 | L9: 南 日 本 | O9: 日 経
C10: コード ０１ | F10: コード ０２ | I10: コード ０３ | L10: コード ８１ | O10: コード ０５
A11: 市郡区 | C11: 店 名 | D11: 枚 数 | E11: 配 布 | F11: 店 名 | G11: 枚 数 | H11: 配 布 | I11: 店 名 | J11: 枚 数 | K11: 配 布 | L11: 店 名 | M11: 枚 数 | N11: 配 布 | O11: 店 名 | P11: 枚 数 | Q11: 配 布
A13: 鹿児島市 | B13: 6 | C13: 上町 | D13: 10 | F13: 吉野 | G13: 180 | I13: 伊敷 | J13: 30 | L13: 坂之上南 | M13: 1500 | O13: 吉野 | P13: 130
C14: 城東 | D14: 300 | F14: 伊敷 | G14: 440 | I14: (南)和田 | J14: 10 | L14: 坂之上 | M14: 680 | O14: 伊敷 | P14: 210
C15: 甲東 | D15: 100 | F15: 田上･武岡 | G15: 270 | I15: (南)南谷山 | J15: 10 | L15: 坂之上中央 | M15: 1530 | O15: 城西・薬師 | P15: 510
C16: 城南 | D16: 100 | F16: 鹿児島東部 | G16: 130 | I16: (南)谷山中央 | J16: 30 | L16: 和田 | M16: 1060 | O16: 鹿児島東部 | P16: 80
C17: 伊敷 | D17: 570 | F17: 城西･薬師 | G17: 440 | I17: (南)東谷山 | J17: 10 | L17: 南谷山 | M17: 780 | O17: 田上・武岡 | P17: 230
C18: 草牟田 | D18: 20 | F18: 荒田・鴨池 | G18: 430 | I18: (南)西谷山 | J18: 10 | L18: 谷山中央 | M18: 3090 | O18: 荒田・鴨池 | P18: 660
C19: 城西 | D19: 200 | F19: 紫原 | G19: 250 | I19: (南)皇徳寺 | J19: 10 | L19: 東谷山 | M19: 1570 | O19: 紫原 | P19: 130
C20: 鴨池 | D20: 310 | F20: 吉野中央(南) | G20: 100 | I20: (南)桜ヶ丘 | J20: 10 | L20: 西谷山 | M20: 1690 | O20: (南)吉野中央 | P20: 90
C21: 西鹿児島 | D21: 450 | F21: 吉野(南) | G21: 60 | I21: (南)宇宿 | J21: 10 | L21: 中山 | M21: 1020 | O21: (南)吉野 | P21: 30
C22: 田上 | D22: 360 | F22: 緑ヶ丘(南) | G22: 30 | I22: (南)南紫原 | J22: 20 | L22: 星ヶ峯 | M22: 1850 | O22: (南)緑ヶ丘 | P22: 20
C23: 武岡 | D23: 120 | F23: 花野光ヶ丘(南) | G23: 40 | I23: (南)真砂 | J23: 80 | L23: 皇徳寺 | M23: 1740 | O23: (南)花野光ヶ丘 | P23: 20
C24: 南鹿児島 | D24: 340 | F24: 伊敷団地(南) | G24: 50 | I24: (南)鴨池 | J24: 40 | L24: 桜ヶ丘 | M24: 2210 | O24: (南)伊敷中央 | P24: 30
C25: 紫原 | D25: 380 | F25: 伊敷中央(南) | G25: 30 | I25: (南)下荒田 | J25: 40 | L25: 宇宿 | M25: 1480 | O25: (南)伊敷団地 | P25: 30
... C36: 吉田南(合) | D36: 40 | F36: 中山(南) | G36: 40 | I36: (南)武町 | J36: 20 | L36: 武岡明和 | M36: 3820 | O36: (南)和田 | P36: 170
F37: 東谷山(南) | G37: 60 | I37: (南)鶴丸 | J37: 10 | L37: 伊敷中央 | M37: 1700 | O37: (南)坂之上南 | P37: 50
F38: 谷山中央(南) | G38: 130 | I38: (南)城南 | J38: 20 | L38: 伊敷団地 | M38: 1890 | O38: (南)東谷山 | P38: 50
F39: 西谷山(南) | G39: 40 | I39: (南)中央 | J39: 40 | L39: 緑ケ丘 | M39: 850 | O39: (南)中山 | P39: 20
F40: 和田(南) | G40: 40 | I40: (南)城東 | J40: 20 | L40: 花野光ケ丘 | M40: 1130 | O40: 南)坂之上中央･坂之上 | P40: 40
F41: 坂之上南(南) | G41: 50 | I41: (南)上町 | J41: 10 | L41: 伊敷台 | M41: 2490 | O41: (南)桜ヶ丘 | P41: 60
F42: 坂之上中央･坂之上(南 | G42: 90 | I42: (南)吉野 | J42: 10 | L42: 玉里団地 | M42: 1850 | O42: (南)星ヶ峯 | P42: 30
F43: 南谷山(南) | G43: 40 | I43: (南)吉野中央 | J43: 10 | L43: 城山北部 | M43: 1470 | O43: (南)皇徳寺 | P43: 30
F44: 吉田南(南) | G44: 30 | L44: 城西中央 | M44: 2840 | O44: (南)桜島 | P44: 10
L45: 武町 | M45: 1570
L46: 鶴丸 | M46: 520
L47: 城南 | M47: 1580
L48: 中央 | M48: 1240
L49: 城東 | M49: 1200

Sheet 鹿児島市２
B1: 鹿児島営業所 | F1: 鹿 児 島 県 コード ４６
M2: 46296 | O2: 大分折込株式会社
A4: スポンサー名 | F4: 請求先 | H4: 折 込 日 | K4: サイズ | L4: 枚 数 | O4: センター名 | Q4: No.
H5: 年 月 日 曜 | L5: =大島郡２・奄美市２!$L$5:$M$7 -> 0
N6: 枚
B9: 銘柄 | C9: 読 売 | F9: 朝 日 | I9: 毎 日 | L9: 南 日 本 | O9: 日 経
C10: コード ０１ | F10: コード ０２ | I10: コード ０３ | L10: コード ８１ | O10: コード ０５
A11: 市郡区 | C11: 店 名 | D11: 枚 数 | E11: 配 布 | F11: 店 名 | G11: 枚 数 | H11: 配 布 | I11: 店 名 | J11: 枚 数 | K11: 配 布 | L11: 店 名 | M11: 枚 数 | N11: 配 布 | O11: 店 名 | P11: 枚 数 | Q11: 配 布
A12: 鹿児島市 | B12: 6 | L12: 上町 | M12: 2730
L13: 吉野中央 | M13: 3090
L14: 吉野 | M14: 1720
L15: 吉田南 | M15: 1210
L16: 桜島 | M16: 540
C35: ◎喜入(合) | D35: 50 | F35: ◎喜入(合) | G35: 40 | I35: ◎(南)喜入 | J35: 10 | L35: ◎喜入 | M35: 1520 | O35: ◎(南)松元 | P35: 30
C36: ◎松元(合) | D36: 30 | F36: ◎松元(合) | G36: 50 | L36: ◎松元 | M36: 1890 | O36: ◎(南)郡山 | P36: 10
C37: ◎郡山(合) | D37: 10 | F37: ◎郡山(合) | G37: 20 | L37: ◎郡山 | M37: 950 | O37: ◎(南)喜入 | P37: 20
A55: ■地区枚数■ | B55: =D57+G57+J57+M57+P57 -> 88530
A57: ■配布枚数■ | B57: =E57+H57+K57+N57+Q57 -> 0 | C57: ◆小 計◆ | D57: =SUM(D12:D56)+SUM(鹿児島市１!D12:'鹿児島市１'!D60) -> 4960 | E57: =SUM(E12:E56)+SUM(鹿児島市１!E12:'鹿児島市１'!E60) -> 0 | F57: ◆小 計◆ | G57: =SUM(G12:G56)+SUM(鹿児島市１!G12:'鹿児島市１'!G60) -> 3930 | H57: =SUM(H12:H56)+SUM(鹿児島市１!H12:'鹿児島市１'!H60) -> 0 | I57: ◆小 計◆ | J57: =SUM(J12:J56)+SUM(鹿児島市１!J12:'鹿児島市１'!J60) -> 590 | K57: =SUM(K12:K56)+SUM(鹿児島市１!K12:'鹿児島市１'!K60) -> 0 | L57: ◆小 計◆ | M57: =SUM(M12:M56)+SUM(鹿児島市１!M12:'鹿児島市１'!M60) -> 75400 | N57: =SUM(N12:N56)+SUM(鹿児島市１!N12:'鹿児島市１'!N60) -> 0 | O57: ◆小 計◆ | P57: =SUM(P12:P56)+SUM(鹿児島市１!P12:'鹿児島市１'!P60) -> 3650 | Q57: =SUM(Q12:Q56)+SUM(鹿児島市１!Q12:'鹿児島市１'!Q60) -> 0
C60: 2004年11月 1日、鹿児島市、鹿児島郡吉田町・桜島町、揖宿郡喜入町、日置郡松元町・郡山町 が合併することにより、市郡区が鹿児島市に変更になります。
C61: 2009年 4月 1日、鹿児島県内全域の西日本新聞販売店の閉鎖に伴い南日本新聞販売店の取り扱いとなります。

Sheet 日置市・いちき串木野市・薩摩川内市
B1: 鹿児島営業所 | F1: 鹿 児 島 県 コード ４６
M2: 46296 | O2: 大分折込株式会社
A4: スポンサー名 | F4: 請求先 | H4: 折 込 日 | K4: サイズ | L4: 枚 数 | O4: センター名 | Q4: No.
H5: 年 月 日 曜 | L5: =大島郡２・奄美市２!$L$5:$M$7 -> 0
N6: 枚
B9: 銘柄 | C9: 読 売 | F9: 朝 日 | I9: 毎 日 | L9: 南 日 本 | O9: 日 経
C10: コード ０１ | F10: コード ０２ | I10: コード ０３ | L10: コード ８１ | O10: コード ０５
A11: 市郡区 | C11: 店 名 | D11: 枚 数 | E11: 配 布 | F11: 店 名 | G11: 枚 数 | H11: 配 布 | I11: 店 名 | J11: 枚 数 | K11: 配 布 | L11: 店 名 | M11: 枚 数 | N11: 配 布 | O11: 店 名 | P11: 枚 数 | Q11: 配 布
A12: 日置市 | B12: 7
A13: ※ | C13: 伊集院 | D13: 360 | F13: 東市来(合) | G13: 40 | I13: (南)東市来 | J13: 10 | L13: 吹上 | M13: 1360 | O13: 東市来 | P13: 30
C14: 伊集院北(合) | D14: 10 | F14: 伊集院(合) | G14: 30 | I14: (南)伊集院 | J14: 10 | L14: 日置 | M14: 810 | O14: 伊集院 | P14: 20
C15: 東市来(合) | D15: 30 | F15: 伊集院中央(合) | G15: 30 | I15: (南)日置 | J15: 10 | L15: 伊集院 | M15: 880 | O15: 伊集院北部 | P15: 40
C16: 吹上 | D16: 220 | F16: 伊集院北(合) | G16: 70 | I16: (南)伊集院北 | J16: 10 | L16: 伊集院中央 | M16: 1150 | O16: 伊集院中央 | P16: 30
F17: 日置(合) | G17: 20 | L17: 伊集院北 | M17: 1780 | O17: 日置 | P17: 10
F18: 吹上(合) | G18: 30 | L18: 東市来 | M18: 1580 | O18: 吹上 | P18: 20
A23: ■地区枚数■ | B23: =D25+G25+J25+M25+P25 -> 8590
A25: ■配布枚数■ | B25: =E25+H25+K25+N25+Q25 -> 0 | C25: ◆小 計◆ | D25: =SUM(D12:D24) -> 620 | E25: =SUM(E12:E24) -> 0 | F25: ◆小 計◆ | G25: =SUM(G12:G24) -> 220 | H25: =SUM(H12:H24) -> 0 | I25: ◆小 計◆ | J25: =SUM(J12:J24) -> 40 | K25: =SUM(K12:K24) -> 0 | L25: ◆小 計◆ | M25: =SUM(M12:M24) -> 7560 | N25: =SUM(N12:N24) -> 0 | O25: ◆小 計◆ | P25: =SUM(P12:P24) -> 150 | Q25: =SUM(Q12:Q24) -> 0
A27: いちき串木野市 | B27: 8 | C27: 串木野（合） | D27: 70 | F27: 串木野(合) | G27: 70 | I27: (南)串木野 | J27: 20 | L27: 串木野 | M27: 2070 | O27: 串木野 | P27: 50
A28: ※ | C28: 西薩川内（合） | D28: 20 | F28: 西薩川内(合) | G28: 60 | I28: (南)西薩川内 | J28: 10 | L28: 西薩川内 | M28: 1950 | O28: 西薩川内 | P28: 60
C29: 市来（合） | D29: 30 | F29: 市来(合) | G29: 30 | I29: (南)市来 | J29: 10 | L29: 市来 | M29: 1170 | O29: 市来 | P29: 20
A32: ■地区枚数■ | B32: =D34+G34+J34+M34+P34 -> 5640
A34: ■配布枚数■ | B34: =E34+H34+K34+N34+Q34 -> 0 | C34: ◆小 計◆ | D34: =SUM(D27:D33) -> 120 | E34: =SUM(E27:E33) -> 0 | F34: ◆小 計◆ | G34: =SUM(G27:G33) -> 160 | H34: =SUM(H27:H33) -> 0 | I34: ◆小 計◆ | J34: =SUM(J27:J33) -> 40 | K34: =SUM(K27:K33) -> 0 | L34: ◆小 計◆ | M34: =SUM(M27:M33) -> 5190 | N34: =SUM(N27:N33) -> 0 | O34: ◆小 計◆ | P34: =SUM(P27:P33) -> 130 | Q34: =SUM(Q27:Q33) -> 0
A36: 薩摩川内市 | B36: 9 | C36: 川内中央 | D36: 220 | F36: 川内(合) | G36: 110 | I36: (南)川内 | J36: 30 | L36: 川内 | M36: 2900 | O36: 川内 | P36: 120
A37: ※ | C37: 上川内 | D37: 200 | F37: さつま川内(合) | G37: 110 | I37: (南)さつま川内 | J37: 30 | L37: さつま川内 | M37: 2590 | O37: さつま川内 | P37: 80
C38: 川内向田 | D38: 550 | F38: 川内北(合) | G38: 30 | I38: (南)川内南部 | J38: 20 | L38: 西方 | M38: 70 | O38: 川内南部 | P38: 20
C39: 川内南部 | D39: 220 | F39: 川内南(市比野) | G39: 40 | I39: (南)祁答院 | J39: 10 | L39: 川内北 | M39: 1130 | O39: 入来 | P39: 10
C40: 入来(合) | D40: 20 | F40: 入来(合) | G40: 20 | L40: 川内南部 | M40: 2320 | O40: 川内北 | P40: 20
C41: 川内南(市比野) | D41: 30 | F41: 祁答院(合) | G41: 20 | L41: 入来 | M41: 790 | O41: 祁答院 | P41: 10
C42: 祁答院(合) | D42: 10 | L42: 祁答院 | M42: 570
L43: ★青瀬 | M43: 70
L44: ★長浜 | M44: 50
L45: ★鹿島 | M45: 50
L46: ★里 | M46: 110
L47: ★中甑 | M47: 100
L48: ★江石 | M48: 30
L49: ★平良 | M49: 40
A56: ■地区枚数■ | B56: =D58+G58+J58+M58+P58 -> 12750
A58: ■配布枚数■ | B58: =E58+H58+K58+N58+Q58 -> 0 | C58: ◆小 計◆ | D58: =SUM(D36:D57) -> 1250 | E58: =SUM(E36:E57) -> 0 | F58: ◆小 計◆ | G58: =SUM(G36:G57) -> 330 | H58: =SUM(H36:H57) -> 0 | I58: ◆小 計◆ | J58: =SUM(J36:J57) -> 90 | K58: =SUM(K36:K57) -> 0 | L58: ◆小 計◆ | M58: =SUM(M36:M57) -> 10820 | N58: =SUM(N36:N57) -> 0 | O58: ◆小 計◆ | P58: =SUM(P36:P57) -> 260 | Q58: =SUM(Q36:Q57) -> 0
C60: 2004年10月12日、川内市、薩摩郡樋脇町・入来町・東郷町・祁答院町・里村・上甑村・下甑村・鹿島村 が合併することにより、市郡区が薩摩川内市に変更になります。
C61: 2005年 5月 1日、日置郡東市来町・伊集院町・日吉町・吹上町が合併することにより、市郡区が日置市に変更になります。
...

Sheet 薩摩郡・阿久根市
B1: 鹿児島営業所 | F1: 鹿 児 島 県 コード ４６
M2: 46296 | O2: 大分折込株式会社
A4: スポンサー名 | F4: 請求先 | H4: 折 込 日 | K4: サイズ | L4: 枚 数 | O4: センター名 | Q4: No.
H5: 年 月 日 曜 | L5: =大島郡２・奄美市２!$L$5:$M$7 -> 0
N6: 枚
B9: 銘柄 | C9: 読 売 | F9: 朝 日 | I9: 毎 日 | L9: 南 日 本 | O9: 日 経
C10: コード ０１ | F10: コード ０２ | I10: コード ０３ | L10: コード ８１ | O10: コード ０５
A11: 市郡区 | C11: 店 名 | D11: 枚 数 | E11: 配 布 | F11: 店 名 | G11: 枚 数 | H11: 配 布 | I11: 店 名 | J11: 枚 数 | K11: 配 布 | L11: 店 名 | M11: 枚 数 | N11: 配 布 | O11: 店 名 | P11: 枚 数 | Q11: 配 布
A12: 薩摩郡 | B12: 10
A13: ※ | C13: 宮之城(合) | D13: 30 | F13: 山崎（合） | G13: 20 | I13: (南)宮之城 | J13: 20 | L13: 宮之城 | M13: 2060 | O13: 宮之城 | P13: 30
C14: 山崎 | D14: 20 | F14: 宮之城(合) | G14: 40 | I14: (南)さつま | J14: 10 | L14: さつま | M14: 1040 | O14: さつま | P14: 20
C15: さつま(合) | D15: 20 | F15: さつま(合) | G15: 10
A35: ■地区枚数■ | B35: =D37+G37+J37+M37+P37 -> 3320
A37: ■配布枚数■ | B37: =E37+H37+K37+N37+Q37 -> 0 | C37: ◆小 計◆ | D37: =SUM(D12:D36) -> 70 | E37: =SUM(E12:E36) -> 0 | F37: ◆小 計◆ | G37: =SUM(G12:G36) -> 70 | H37: =SUM(H12:H36) -> 0 | I37: ◆小 計◆ | J37: =SUM(J12:J36) -> 30 | K37: =SUM(K12:K36) -> 0 | L37: ◆小 計◆ | M37: =SUM(M12:M36) -> 3100 | N37: =SUM(N12:N36) -> 0 | O37: ◆小 計◆ | P37: =SUM(P12:P36) -> 50 | Q37: =SUM(Q12:Q36) -> 0
A39: 阿久根市 | B39: 11 | C39: 阿久根 | D39: 660 | F39: 阿久根 | G39: 50 | I39: (南)阿久根 | J39: 30 | L39: 阿久根 | M39: 1720 | O39: 阿久根 | P39: 60
A40: ※ | F40: 脇本(合) | G40: 10 | L40: 脇本 | M40: 670 | O40: 脇本 | P40: 10
A55: ■地区枚数■ | B55: =D57+G57+J57+M57+P57 -> 3210
A57: ■配布枚数■ | B57: =E57+H57+K57+N57+Q57 -> 0 | C57: ◆小 計◆ | D57: =SUM(D39:D56) -> 660 | E57: =SUM(E39:E56) -> 0 | F57: ◆小 計◆ | G57: =SUM(G39:G56) -> 60 | H57: =SUM(H39:H56) -> 0 | I57: ◆小 計◆ | J57: =SUM(J39:J56) -> 30 | K57: =SUM(K39:K56) -> 0 | L57: ◆小 計◆ | M57: =SUM(M39:M56) -> 2390 | N57: =SUM(N39:N56) -> 0 | O57: ◆小 計◆ | P57: =SUM(P39:P56) -> 70 | Q57: =SUM(Q39:Q56) -> 0
C60: 2009年 4月 1日、鹿児島県内全域の西日本新聞販売店の閉鎖に伴い南日本新聞販売店の取り扱いとなります。

Sheet 出水市郡・伊佐市
B1: 鹿児島営業所 | F1: 鹿 児 島 県 コード ４６
M2: 46296 | O2: 大分折込株式会社
A4: スポンサー名 | F4: 請求先 | H4: 折 込 日 | K4: サイズ | L4: 枚 数 | O4: センター名 | Q4: No.
H5: 年 月 日 曜 | L5: =大島郡２・奄美市２!$L$5:$M$7 -> 0
N6: 枚
B9: 銘柄 | C9: 読 売 | F9: 朝 日 | I9: 毎 日 | L9: 南 日 本 | O9: 日 経
C10: コード ０１ | F10: コード ０２ | I10: コード ０３ | L10: コード ８１ | O10: コード ０５
A11: 市郡区 | C11: 店 名 | D11: 枚 数 | E11: 配 布 | F11: 店 名 | G11: 枚 数 | H11: 配 布 | I11: 店 名 | J11: 枚 数 | K11: 配 布 | L11: 店 名 | M11: 枚 数 | N11: 配 布 | O11: 店 名 | P11: 枚 数 | Q11: 配 布
A12: 出水郡 | B12: 12
A13: ※ | C13: 西長島(合) | D13: 10 | F13: 東長島(合) | G13: 10 | L13: 西長島 | M13: 550 | O13: 西長島 | P13: 10
C14: 東長島(合) | D14: 10 | L14: 東長島 | M14: 700 | O14: 東長島 | P14: 10
A23: ■地区枚数■ | B23: =D25+G25+J25+M25+P25 -> 1300
A25: ■配布枚数■ | B25: =E25+H25+K25+N25+Q25 -> 0 | C25: ◆小 計◆ | D25: =SUM(D12:D24) -> 20 | E25: =SUM(E12:E24) -> 0 | F25: ◆小 計◆ | G25: =SUM(G12:G24) -> 10 | H25: =SUM(H12:H24) -> 0 | I25: ◆小 計◆ | J25: =SUM(J12:J24) -> 0 | K25: =SUM(K12:K24) -> 0 | L25: ◆小 計◆ | M25: =SUM(M12:M24) -> 1250 | N25: =SUM(N12:N24) -> 0 | O25: ◆小 計◆ | P25: =SUM(P12:P24) -> 20 | Q25: =SUM(Q12:Q24) -> 0
A27: 出水市 | B27: 13 | C27: 出水 | D27: 670 | F27: 出水北部(合) | G27: 70 | I27: (南)出水 | J27: 50 | L27: 出水 | M27: 1740 | O27: 出水 | P27: 70
A28: ※ | C28: 高尾野 | D28: 300 | F28: 出水西部(合) | G28: 80 | I28: (南)出水西部 | J28: 20 | L28: 出水西部 | M28: 1240 | O28: 出水北部 | P28: 20
F29: 出水(合) | G29: 120 | I29: (南)出水北部 | J29: 20 | L29: 出水北部 | M29: 1050 | O29: 出水西部 | P29: 40
F30: 野田(合) | G30: 20 | I30: (南)高尾野 | J30: 10 | L30: 高尾野 | M30: 1290 | O30: 高尾野 | P30: 30
F31: 高尾野(合) | G31: 40 | I31: (南)野田 | J31: 10 | L31: 野田 | M31: 880 | O31: 野田 | P31: 10
A36: ■地区枚数■ | B36: =D38+G38+J38+M38+P38 -> 7780
A38: ■配布枚数■ | B38: =E38+H38+K38+N38+Q38 -> 0 | C38: ◆小 計◆ | D38: =SUM(D27:D37) -> 970 | E38: =SUM(E27:E37) -> 0 | F38: ◆小 計◆ | G38: =SUM(G27:G37) -> 330 | H38: =SUM(H27:H37) -> 0 | I38: ◆小 計◆ | J38: =SUM(J27:J37) -> 110 | K38: =SUM(K27:K37) -> 0 | L38: ◆小 計◆ | M38: =SUM(M27:M37) -> 6200 | N38: =SUM(N27:N37) -> 0 | O38: ◆小 計◆ | P38: =SUM(P27:P37) -> 170 | Q38: =SUM(Q27:Q37) -> 0
A40: 伊佐市 | B40: 14
A41: ※ | B41: （旧 大口市） | C41: 大口 | D41: 100 | F41: 大口(合) | G41: 80 | I41: (南)大口 | J41: 20 | L41: 大口 | M41: 1750 | O41: 大口 | P41: 50
C42: 菱刈(合) | D42: 10 | F42: 菱刈(合) | G42: 50 | I42: (南)菱刈 | J42: 10 | L42: 菱刈 | M42: 1950 | O42: 菱刈 | P42: 20
A52: ■地区枚数■ | B52: =D54+G54+J54+M54+P54 -> 4040
A54: ■配布枚数■ | B54: =E54+H54+K54+N54+Q54 -> 0 | C54: ◆小 計◆ | D54: =SUM(D40:D53) -> 110 | E54: =SUM(E40:E53) -> 0 | F54: ◆小 計◆ | G54: =SUM(G40:G53) -> 130 | H54: =SUM(H40:H53) -> 0 | I54: ◆小 計◆ | J54: =SUM(J40:J53) -> 30 | K54: =SUM(K40:K53) -> 0 | L54: ◆小 計◆ | M54: =SUM(M40:M53) -> 3700 | N54: =SUM(N40:N53) -> 0 | O54: ◆小 計◆ | P54: =SUM(P40:P53) -> 70 | Q54: =SUM(Q40:Q53) -> 0
C60: 2006年 3月13日、出水市、出水郡野田町・高尾野町 が合併することにより、市郡区が出水市に変更になります。
C61: 200８年１１月1日、大口市、伊佐郡 が合併することにより、市郡区が伊佐市に変更になります。
C62: 2009年 4月 1日、鹿児島県内全域の西日本新聞販売店の閉鎖に伴い南日本新聞販売店の取り扱いとなります。

Sheet 姶良市郡・霧島市
B1: 鹿児島営業所 | F1: 鹿 児 島 県 コード ４６
M2: 46296 | O2: 大分折込株式会社
A4: スポンサー名 | F4: 請求先 | H4: 折 込 日 | K4: サイズ | L4: 枚 数 | O4: センター名 | Q4: No.
H5: 年 月 日 曜 | L5: =大島郡２・奄美市２!$L$5:$M$7 -> 0
N6: 枚
B9: 銘柄 | C9: 読 売 | F9: 朝 日 | I9: 毎 日 | L9: 南 日 本 | O9: 日 経
C10: コード ０１ | F10: コード ０２ | I10: コード ０３ | L10: コード ８１ | O10: コード ０５
A11: 市郡区 | C11: 店 名 | D11: 枚 数 | E11: 配 布 | F11: 店 名 | G11: 枚 数 | H11: 配 布 | I11: 店 名 | J11: 枚 数 | K11: 配 布 | L11: 店 名 | M11: 枚 数 | N11: 配 布 | O11: 店 名 | P11: 枚 数 | Q11: 配 布
A12: 姶良市 | B12: 15
A13: ※ | C13: 加治木 | D13: 330 | F13: 重富(合) | G13: 70 | I13: (南)姶良重富 | J13: 10 | L13: 重富 | M13: 1610 | O13: 重冨 | P13: 40
C14: 姶良 | D14: 630 | F14: 姶良蒲生(合) | G14: 30 | I14: (南)帖佐 | J14: 10 | L14: 帖佐 | M14: 2570 | O14: 帖佐 | P14: 70
C15: 姶良蒲生(合) | D15: 30 | F15: 帖佐(合) | G15: 110 | I15: (南)姶良東部 | J15: 10 | L15: 姶良東部 | M15: 1670 | O15: 姶良東部 | P15: 30
F16: 姶良東部(合) | G16: 60 | I16: (南)加治木東部 | J16: 10 | L16: 姶良蒲生 | M16: 850 | O16: 加治木東部 | P16: 30
F17: 加治木東部(合) | G17: 50 | I17: (南)加治木南部 | J17: 30 | L17: 加治木東部 | M17: 940 | O17: 姶良蒲生 | P17: 20
F18: 加治木南部(合) | G18: 70 | L18: 加治木南部 | M18: 1610 | O18: 加治木南部 | P18: 30
A22: ■地区枚数■ | B22: =D24+G24+J24+M24+P24 -> 10920
A24: ■配布枚数■ | B24: =E24+H24+K24+N24+Q24 -> 0 | C24: ◆小 計◆ | D24: =SUM(D13:D23) -> 990 | E24: =SUM(E13:E23) -> 0 | F24: ◆小 計◆ | G24: =SUM(G13:G23) -> 390 | H24: =SUM(H13:H23) -> 0 | I24: ◆小 計◆ | J24: =SUM(J13:J23) -> 70 | K24: =SUM(K13:K23) -> 0 | L24: ◆小 計◆ | M24: =SUM(M13:M23) -> 9250 | N24: =SUM(N13:N23) -> 0 | O24: ◆小 計◆ | P24: =SUM(P13:P23) -> 220 | Q24: =SUM(Q13:Q23) -> 0
A25: 姶良郡 | B25: 16
A26: ※ | C26: 湧水(合) | D26: 60 | F26: 湧水(合) | G26: 30 | I26: (南)湧水 | J26: 10 | L26: 湧水 | M26: 1260 | O26: 湧水 | P26: 30
A30: ■地区枚数■ | B30: =D32+G32+J32+M32+P32 -> 1390
A32: ■配布枚数■ | B32: =E32+H32+K32+N32+Q32 -> 0 | C32: ◆小 計◆ | D32: =SUM(D25:D31) -> 60 | E32: =SUM(E25:E31) -> 0 | F32: ◆小 計◆ | G32: =SUM(G25:G31) -> 30 | H32: =SUM(H25:H31) -> 0 | I32: ◆小 計◆ | J32: =SUM(J25:J31) -> 10 | K32: =SUM(K25:K31) -> 0 | L32: ◆小 計◆ | M32: =SUM(M25:M31) -> 1260 | N32: =SUM(N25:N31) -> 0 | O32: ◆小 計◆ | P32: =SUM(P25:P31) -> 30 | Q32: =SUM(Q25:Q31) -> 0
A34: 霧島市 | B34: 17 | C34: 隼人 | D34: 300 | F34: 隼人(合) | G34: 120 | I34: (南)隼人 | J34: 20 | L34: 隼人 | M34: 2350 | O34: 国分中央 | P34: 100
A35: ※ | C35: 日当山 | D35: 350 | F35: 日当山(合) | G35: 50 | I35: (南)牧園 | J35: 10 | L35: 日当山 | M35: 1260 | O35: 東国分 | P35: 60
C36: 溝辺 | D36: 80 | F36: 福山(合) | G36: 10 | I36: (南)みぞべ | J36: 10 | L36: 嘉例川 | M36: 50 | O36: 国分北部 | P36: 30
C37: 牧園(合) | D37: 60 | F37: 霧島(合) | G37: 30 | I37: (南)日当山 | J37: 10 | L37: 福山 | M37: 540 | O37: 隼人 | P37: 90
C38: 霧島 | D38: 50 | F38: 牧園(合) | G38: 40 | I38: (南)国分中央 | J38: 10 | L38: みぞべ | M38: 1040 | O38: 日当山 | P38: 30
C39: 国分西部 | D39: 300 | F39: 横川(合) | G39: 10 | I39: (南)国分北部 | J39: 20 | L39: 霧島 | M39: 650 | O39: 牧園 | P39: 40
C40: 国分東 | D40: 370 | F40: みぞべ(合) | G40: 20 | I40: (南)東国分 | J40: 10 | L40: 牧園 | M40: 1000 | O40: 霧島 | P40: 20
C41: 国分南 | D41: 180 | F41: 国分中央(合) | G41: 90 | L41: 横川 | M41: 500 | O41: 横川 | P41: 10
F42: 国分北(合) | G42: 80 | L42: 国分中央 | M42: 1710 | O42: みぞべ | P42: 20
F43: 東国分(合) | G43: 70 | L43: 東国分 | M43: 1730 | O43: 福山 | P43: 10
L44: 国分北 | M44: 1540
A53: ■地区枚数■ | B53: =D55+G55+J55+M55+P55 -> 15080
A55: ■配布枚数■ | B55: =E55+H55+K55+N55+Q55 -> 0 | C55: ◆小 計◆ | D55: =SUM(D34:D54) -> 1690 | E55: =SUM(E34:E54) -> 0 | F55: ◆小 計◆ | G55: =SUM(G34:G54) -> 520 | H55: =SUM(H34:H54) -> 0 | I55: ◆小 計◆ | J55: =SUM(J34:J54) -> 90 | K55: =SUM(K34:K54) -> 0 | L55: ◆小 計◆ | M55: =SUM(M34:M54) -> 12370 | N55: =SUM(N34:N54) -> 0 | O55: ◆小 計◆ | P55: =SUM(P34:P54) -> 410 | Q55: =SUM(Q34:Q54) -> 0
C59: 2005年11月 7日、国分市、姶良郡溝辺町・横川町・牧園町・霧島町・隼人町・福山町 が合併することにより、市郡区が霧島市に変更になります。
C60: 2009年 4月 1日、鹿児島県内全域の西日本新聞販売店の閉鎖に伴い南日本新聞販売店の取り扱いとなります。
C61: 2010年 3月23日、姶良郡加治木町・姶良町・蒲生町、姶良市が合併したことにより、市郡区が姶良市に変更になります。

Sheet 曽於市郡・志布志市・垂水市
B1: 鹿児島営業所 | F1: 鹿 児 島 県 コード ４６
M2: 46296 | O2: 大分折込株式会社
A4: スポンサー名 | F4: 請求先 | H4: 折 込 日 | K4: サイズ | L4: 枚 数 | O4: センター名 | Q4: No.
H5: 年 月 日 曜 | L5: =大島郡２・奄美市２!$L$5:$M$7 -> 0
N6: 枚
B9: 銘柄 | C9: 読 売 | F9: 朝 日 | I9: 毎 日 | L9: 南 日 本 | O9: 日 経
C10: コード ０１ | F10: コード ０２ | I10: コード ０３ | L10: コード ８１ | O10: コード ０５
A11: 市郡区 | C11: 店 名 | D11: 枚 数 | E11: 配 布 | F11: 店 名 | G11: 枚 数 | H11: 配 布 | I11: 店 名 | J11: 枚 数 | K11: 配 布 | L11: 店 名 | M11: 枚 数 | N11: 配 布 | O11: 店 名 | P11: 枚 数 | Q11: 配 布
A12: 曽於郡 | B12: 18
A13: ※ | C13: 大崎(合) | D13: 30 | F13: 菱田(合) | G13: 10 | I13: (南)菱田 | J13: 10 | L13: 大崎 | M13: 960 | O13: 野方 | P13: 10
C14: 菱田(合) | D14: 10 | F14: 大崎(合) | G14: 20 | L14: 菱田 | M14: 750 | O14: 菱田 | P14: 10
F15: 野方(合) | G15: 10 | L15: 野方 | M15: 480
A19: ■地区枚数■ | B19: =D21+G21+J21+M21+P21 -> 2300
A21: ■配布枚数■ | B21: =E21+H21+K21+N21+Q21 -> 0 | C21: ◆小 計◆ | D21: =SUM(D12:D20) -> 40 | E21: =SUM(E12:E20) -> 0 | F21: ◆小 計◆ | G21: =SUM(G12:G20) -> 40 | H21: =SUM(H12:H20) -> 0 | I21: ◆小 計◆ | J21: =SUM(J12:J20) -> 10 | K21: =SUM(K12:K20) -> 0 | L21: ◆小 計◆ | M21: =SUM(M12:M20) -> 2190 | N21: =SUM(N12:N20) -> 0 | O21: ◆小 計◆ | P21: =SUM(P12:P20) -> 20 | Q21: =SUM(Q12:Q20) -> 0
A23: 曽於市 | B23: 18 | C23: 財部(合) | D23: 60 | F23: 末吉(合) | G23: 40 | I23: (南)末吉 | J23: 10 | L23: 財部 | M23: 1570 | O23: 財部 | P23: 40
A24: ※ | C24: 岩川西部(合) | D24: 10 | F24: 財部(合) | G24: 50 | I24: (南)財部 | J24: 10 | L24: 末吉 | M24: 1810 | O24: 末吉 | P24: 40
C25: 末吉(南) | D25: 60 | F25: 岩川西部(合) | G25: 10 | L25: 岩川西部 | M25: 440 | O25: 大隅 | P25: 10
C26: 大隅(合) | D26: 20 | F26: 大隅(合) | G26: 10 | L26: 大隅 | M26: 630
A30: ■地区枚数■ | B30: =D32+G32+J32+M32+P32 -> 4820
A32: ■配布枚数■ | B32: =E32+H32+K32+N32+Q32 -> 0 | C32: ◆小 計◆ | D32: =SUM(D23:D31) -> 150 | E32: =SUM(E23:E31) -> 0 | F32: ◆小 計◆ | G32: =SUM(G23:G31) -> 110 | H32: =SUM(H23:H31) -> 0 | I32: ◆小 計◆ | J32: =SUM(J23:J31) -> 20 | K32: =SUM(K23:K31) -> 0 | L32: ◆小 計◆ | M32: =SUM(M23:M31) -> 4450 | N32: =SUM(N23:N31) -> 0 | O32: ◆小 計◆ | P32: =SUM(P23:P31) -> 90 | Q32: =SUM(Q23:Q31) -> 0
A34: 志布志市 | B34: 18 | C34: 松山(合) | D34: 10 | F34: 松山(合) | G34: 10 | I34: (南)志布志 | J34: 10 | L34: 松山 | M34: 420 | O34: 松山 | P34: 10
A35: ※ | C35: 志布志(合) | D35: 40 | F35: 有明中央(合) | G35: 10 | I35: (南)志布志東部 | J35: 10 | L35: 志布志 | M35: 860 | O35: 有明中央 | P35: 20
C36: 志布志東部(合) | D36: 20 | F36: 志布志(合) | G36: 30 | L36: 志布志東部 | M36: 870 | O36: 志布志 | P36: 50
C37: 有明中央(合) | D37: 10 | F37: 志布志東部(合) | G37: 20 | L37: 有明中央 | M37: 740 | O37: 志布志東部 | P37: 10
A39: ■地区枚数■ | B39: =D41+G41+J41+M41+P41 -> 3150
A41: ■配布枚数■ | B41: =E41+H41+K41+N41+Q41 -> 0 | C41: ◆小 計◆ | D41: =SUM(D34:D40) -> 80 | E41: =SUM(E34:E40) -> 0 | F41: ◆小 計◆ | G41: =SUM(G34:G40) -> 70 | H41: =SUM(H34:H40) -> 0 | I41: ◆小 計◆ | J41: =SUM(J34:J40) -> 20 | K41: =SUM(K34:K40) -> 0 | L41: ◆小 計◆ | M41: =SUM(M34:M40) -> 2890 | N41: =SUM(N34:N40) -> 0 | O41: ◆小 計◆ | P41: =SUM(P34:P40) -> 90 | Q41: =SUM(Q34:Q40) -> 0
A43: 垂水市 | B43: 19 | C43: ふるえ新城(合) | D43: 10 | F43: 牛根(合) | G43: 10 | I43: (南)垂水 | J43: 20 | L43: 新城 | M43: 140 | O43: 垂水 | P43: 40
A44: ※ | C44: 垂水(合) | D44: 60 | F44: 垂水 | G44: 40 | L44: 垂水 | M44: 1540
C45: 牛根(合) | D45: 10 | F45: 新城(合) | G45: 10 | L45: 牛根 | M45: 200
A54: ■地区枚数■ | B54: =D56+G56+J56+M56+P56 -> 2080
A56: ■配布枚数■ | B56: =E56+H56+K56+N56+Q56 -> 0 | C56: ◆小 計◆ | D56: =SUM(D43:D55) -> 80 | E56: =SUM(E43:E55) -> 0 | F56: ◆小 計◆ | G56: =SUM(G43:G55) -> 60 | H56: =SUM(H43:H55) -> 0 | I56: ◆小 計◆ | J56: =SUM(J43:J55) -> 20 | K56: =SUM(K43:K55) -> 0 | L56: ◆小 計◆ | M56: =SUM(M43:M55) -> 1880 | N56: =SUM(N43:N55) -> 0 | O56: ◆小 計◆ | P56: =SUM(P43:P55) -> 40 | Q56: =SUM(Q43:Q55) -> 0
C60: 2005年 7月 1日、曽於郡大隅町・財部町・末吉町 が合併することにより、市郡区が曽於市に変更になります。
C61: 2006年 1月 1日、曽於郡松山町・志布志町・有明町 が合併することにより、市郡区が志布志市に変更になります。
C62: 2009年 4月 1日、鹿児島県内全域の西日本新聞販売店の閉鎖に伴い南日本新聞販売店の取り扱いとなります。

Sheet 鹿屋市・肝属郡
B1: 鹿児島営業所 | F1: 鹿 児 島 県 コード ４６
M2: 46296 | O2: 大分折込株式会社
A4: スポンサー名 | F4: 請求先 | H4: 折 込 日 | K4: サイズ | L4: 枚 数 | O4: センター名 | Q4: No.
H5: 年 月 日 曜 | L5: =大島郡２・奄美市２!$L$5:$M$7 -> 0
N6: 枚
B9: 銘柄 | C9: 読 売 | F9: 朝 日 | I9: 毎 日 | L9: 南 日 本 | O9: 日 経
C10: コード ０１ | F10: コード ０２ | I10: コード ０３ | L10: コード ８１ | O10: コード ０５
A11: 市郡区 | C11: 店 名 | D11: 枚 数 | E11: 配 布 | F11: 店 名 | G11: 枚 数 | H11: 配 布 | I11: 店 名 | J11: 枚 数 | K11: 配 布 | L11: 店 名 | M11: 枚 数 | N11: 配 布 | O11: 店 名 | P11: 枚 数 | Q11: 配 布
A12: 鹿屋市 | B12: 20
A13: ※ | C13: 鹿屋東部 | D13: 230 | F13: 鹿屋第一(合) | G13: 90 | I13: (南)鹿屋第一 | J13: 40 | L13: 鹿屋第一 | M13: 2120 | O13: 鹿屋西部 | P13: 60
C14: 鹿屋西部 | D14: 260 | F14: 笠之原(合) | G14: 30 | I14: (南)笠之原 | J14: 10 | L14: 笠之原 | M14: 1060 | O14: 鹿屋第一 | P14: 90
C15: 鹿屋南部 | D15: 270 | F15: 鹿屋西部(合) | G15: 50 | I15: (南)鹿屋西部 | J15: 20 | L15: 鹿屋西部 | M15: 1550 | O15: 鹿屋北 | P15: 20
C16: 串良(合) | D16: 20 | F16: 鹿屋南部(合) | G16: 40 | I16: (南)鹿屋南部 | J16: 10 | L16: 鹿屋南部 | M16: 1150 | O16: 古江 | P16: 10
C17: 輝北(合) | D17: 10 | F17: 大姶良高須(合) | G17: 10 | I17: (南)鹿屋北 | J17: 10 | L17: 大姶良高須 | M17: 780 | O17: 笠之原 | P17: 30
F18: 古江(合) | G18: 10 | I18: (南)串良 | J18: 10 | L18: 鹿屋古江 | M18: 420 | O18: 吾平 | P18: 10
F19: 鹿屋北(合) | G19: 20 | L19: 鹿屋北 | M19: 1030 | O19: 串良 | P19: 20
F20: 串良(合) | G20: 20 | L20: 串良 | M20: 1290 | O20: 輝北 | P20: 10
F21: 吾平(合) | G21: 10 | L21: 吾平 | M21: 640 | O21: 鹿屋南部 | P21: 30
F22: 市成 | G22: 10 | L22: 輝北 | M22: 420 | O22: 大姶良高須 | P22: 10
A33: ■地区枚数■ | B33: =D35+G35+J35+M35+P35 -> 11930
A35: ■配布枚数■ | B35: =E35+H35+K35+N35+Q35 -> 0 | C35: ◆小 計◆ | D35: =SUM(D12:D34) -> 790 | E35: =SUM(E12:E34) -> 0 | F35: ◆小 計◆ | G35: =SUM(G12:G34) -> 290 | H35: =SUM(H12:H34) -> 0 | I35: ◆小 計◆ | J35: =SUM(J12:J34) -> 100 | K35: =SUM(K12:K34) -> 0 | L35: ◆小 計◆ | M35: =SUM(M12:M34) -> 10460 | N35: =SUM(N12:N34) -> 0 | O35: ◆小 計◆ | P35: =SUM(P12:P34) -> 290 | Q35: =SUM(Q12:Q34) -> 0
A37: 肝属郡 | B37: 21 | C37: 東串良(合) | D37: 40 | F37: 東串良(合) | G37: 20 | I37: (南)高山 | J37: 10 | L37: 東串良 | M37: 800 | O37: 東串良 | P37: 30
A38: ※ | C38: 高山 | D38: 60 | F38: 高山(合) | G38: 30 | I38: (南)大根占 | J38: 10 | L38: 高山 | M38: 1360 | O38: 大根占 | P38: 10
C39: 内之浦(合) | D39: 10 | F39: 内之浦(合) | G39: 10 | L39: 肝属内之浦 | M39: 310 | O39: 根占 | P39: 10
C40: 大根占(合) | D40: 10 | F40: 大根占(合) | G40: 10 | L40: 大根占 | M40: 710 | O40: 高山 | P40: 20
C41: 根占(合) | D41: 10 | F41: 根占(合) | G41: 10 | L41: 田代 | M41: 350
C42: 佐多(合) | D42: 10 | L42: 根占 | M42: 710
L43: 佐多 | M43: 230
A52: ■地区枚数■ | B52: =D54+G54+J54+M54+P54 -> 4780
A54: ■配布枚数■ | B54: =E54+H54+K54+N54+Q54 -> 0 | C54: ◆小 計◆ | D54: =SUM(D37:D53) -> 140 | E54: =SUM(E37:E53) -> 0 | F54: ◆小 計◆ | G54: =SUM(G37:G53) -> 80 | H54: =SUM(H37:H53) -> 0 | I54: ◆小 計◆ | J54: =SUM(J37:J53) -> 20 | K54: =SUM(K37:K53) -> 0 | L54: ◆小 計◆ | M54: =SUM(M37:M53) -> 4470 | N54: =SUM(N37:N53) -> 0 | O54: ◆小 計◆ | P54: =SUM(P37:P53) -> 70 | Q54: =SUM(Q37:Q53) -> 0
C60: 2006年 1月 1日、鹿屋市、曽於郡輝北町、肝属郡串良町・吾平町 が合併することにより、市郡区が鹿屋市に変更になります。
C61: 2009年 4月 1日、鹿児島県内全域の西日本新聞販売店の閉鎖に伴い南日本新聞販売店の取り扱いとなります。

Sheet 熊毛郡・西之表市・大島郡１・奄美市１
B1: 鹿児島営業所 | F1: 鹿 児 島 県 コード ４６
M2: 46296 | O2: 大分折込株式会社
A4: スポンサー名 | F4: 請求先 | H4: 折 込 日 | K4: サイズ | O4: センター名 | Q4: No.
H5: 年 月 日 曜 | L5: =大島郡２・奄美市２!$L$5:$M$7 -> 0
N6: 枚
B9: 銘柄 | C9: 読 売 | F9: 朝 日 | I9: 毎 日 | L9: 南 日 本 | O9: 日 経
C10: コード ０１ | F10: コード ０２ | I10: コード ０３ | L10: コード ８１ | O10: コード ０５
A11: 市郡区 | C11: 店 名 | D11: 枚 数 | E11: 配 布 | F11: 店 名 | G11: 枚 数 | H11: 配 布 | I11: 店 名 | J11: 枚 数 | K11: 配 布 | L11: 店 名 | M11: 枚 数 | N11: 配 布 | O11: 店 名 | P11: 枚 数 | Q11: 配 布
A12: 熊毛郡 | B12: 22 | C12: ★中種子(合) | D12: 30 | F12: ★南種子(南) | G12: 10 | I12: ★(南)南種子 | J12: 10 | L12: ★中種子 | M12: 480 | O12: 南種子(南) | P12: 10
A13: ※ | C13: ★南種子(合) | D13: 10 | F13: ★上屋久(合) | G13: 10 | I13: ★(南)上屋久 | J13: 10 | L13: ★南種子 | M13: 340 | O13: 上屋久 | P13: 10
C14: ★上屋久(合) | D14: 30 | F14: ★下屋久(合) | G14: 20 | L14: ★上屋久 | M14: 380 | O14: 下屋久 | P14: 10
C15: ★下屋久(合) | D15: 20 | L15: ★下屋久 | M15: 330
A17: ■地区枚数■ | B17: =D19+G19+J19+M19+P19 -> 1710
A19: ■配布枚数■ | B19: =E19+H19+K19+N19+Q19 -> 0 | C19: ◆小 計◆ | D19: =SUM(D12:D18) -> 90 | E19: =SUM(E12:E18) -> 0 | F19: ◆小 計◆ | G19: =SUM(G12:G18) -> 40 | H19: =SUM(H12:H18) -> 0 | I19: ◆小 計◆ | J19: =SUM(J12:J18) -> 20 | K19: =SUM(K12:K18) -> 0 | L19: ◆小 計◆ | M19: =SUM(M12:M18) -> 1530 | N19: =SUM(N12:N18) -> 0 | O19: ◆小 計◆ | P19: =SUM(P12:P18) -> 30 | Q19: =SUM(Q12:Q18) -> 0
A21: 西之表市 | B21: 23 | C21: ★西之表 | D21: 60 | F21: ★西之表 | G21: 20 | I21: ★(南)西之表 | J21: 10 | L21: ★西之表 | M21: 900 | O21: 西之表 | P21: 30
A22: ※
A23: ■地区枚数■ | B23: =D24+G24+J24+M24+P24 -> 1020
A24: ■合計枚数■ | B24: =E24+H24+K24+N24+Q24 -> 0 | C24: ◆小 計◆ | D24: =SUM(D21:D23) -> 60 | E24: =SUM(E21:E23) -> 0 | F24: ◆小 計◆ | G24: =SUM(G21:G23) -> 20 | H24: =SUM(H21:H23) -> 0 | I24: ◆小 計◆ | J24: =SUM(J21:J23) -> 10 | K24: =SUM(K21:K23) -> 0 | L24: ◆小 計◆ | M24: =SUM(M21:M23) -> 900 | N24: =SUM(N21:N23) -> 0 | O24: ◆小 計◆ | P24: =SUM(P21:P23) -> 30 | Q24: =SUM(Q21:Q23) -> 0
A26: 大島郡 ２４ | C26: ★喜界島(合) | D26: 30 | F26: ★瀬戸内(合) | G26: 10 | L26: ★瀬戸内（大 | M26: 50 | O26: 亀津 | P26: 10
A27: ※ | C27: ★徳之島(徳) | D27: 10 | F27: ★喜界島（喜 | G27: 40 | L27: ★喜界（喜） | M27: 150 | O27: 知名 | P27: 10
C28: ★与論島(合) | D28: 10 | F28: ★徳之島（徳 | G28: 30 | L28: ★亀津（徳） | M28: 190 | O28: 瀬戸内 | P28: 10
C29: ★和泊(合) | D29: 10 | F29: ★天城(徳 | G29: 10 | L29: ★天城（徳） | M29: 110 | O29: 与論 | P29: 10
C30: ★知名(合) | D30: 10 | F30: 和泊(合) | G30: 10 | L30: ★伊仙（徳） | M30: 90 | O30: 喜界島 | P30: 20
F31: 知名(合) | G31: 10 | L31: ★和泊（沖永 | M31: 150
F32: ★与論島(合) | G32: 10 | L32: ★知名（沖永 | M32: 90
L33: ★与論島（与 | M33: 80
A34: ■地区枚数■ | B34: =D36+G36+J36+M36+P36 -> 1160
A36: ■配布枚数■ | B36: =E36+H36+K36+N36+Q36 -> 0 | C36: ◆小 計◆ | D36: =SUM(D26:D35) -> 70 | E36: =SUM(E26:E35) -> 0 | F36: ◆小 計◆ | G36: =SUM(G26:G35) -> 120 | H36: =SUM(H26:H35) -> 0 | I36: ◆小 計◆ | J36: =SUM(J26:J35) -> 0 | K36: =SUM(K26:K35) -> 0 | L36: ◆小 計◆ | M36: =SUM(M26:M35) -> 910 | N36: =SUM(N26:N35) -> 0 | O36: ◆小 計◆ | P36: =SUM(P26:P35) -> 60 | Q36: =SUM(Q26:Q35) -> 0
A38: 奄美市 | B38: 25 | C38: ★奄美 | D38: 80 | F38: ★奄美 | G38: 90 | I38: ★(南)奄美 | J38: 20 | L38: ★名瀬 | M38: 420 | O38: 名瀬 | P38: 110
A39: ※
A52: ■地区枚数■ | B52: =D54+G54+J54+M54+P54 -> 720
A54: ■配布枚数■ | B54: =E54+H54+K54+N54+Q54 -> 0 | C54: ◆小 計◆ | D54: =SUM(D38:D53) -> 80 | E54: =SUM(E38:E53) -> 0 | F54: ◆小 計◆ | G54: =SUM(G38:G53) -> 90 | H54: =SUM(H38:H53) -> 0 | I54: ◆小 計◆ | J54: =SUM(J38:J53) -> 20 | K54: =SUM(K38:K53) -> 0 | L54: ◆小 計◆ | M54: =SUM(M38:M53) -> 420 | N54: =SUM(N38:N53) -> 0 | O54: ◆小 計◆ | P54: =SUM(P38:P53) -> 110 | Q54: =SUM(Q38:Q53) -> 0
C60: 2006年 3月20日、名瀬市、大島郡住用村・笠利町 が合併することにより、市郡区が奄美市に変更になります。
C61: 2009年 4月 1日、鹿児島県内全域の西日本新聞販売店の閉鎖に伴い南日本新聞販売店の取り扱いとなります。

Sheet 大島郡２・奄美市２
B1: 鹿児島営業所 | F1: 鹿 児 島 県 コード ４６
M2: 46296 | O2: 大分折込株式会社
A4: スポンサー名 | F4: 請求先 | H4: 折 込 日 | K4: サイズ | L4: 枚 数 | O4: センター名 | Q4: No.
H5: 年 月 日 曜 | L5: =南九州市・枕崎市・南さつま市・指宿市!B23+南九州市・枕崎市・南さつま市・指宿市!B31+南九州市・枕崎市・南さつま市・指宿市!B45+南九州市・枕崎市・南さつま市・指宿市!B57+鹿児島市２!B57+日置市・いちき串木野市・薩摩川内市!B25+日置市・いちき串木野市・薩摩川内市!B34+日置市・いちき串木野市・薩摩川内市!B58+薩摩郡・阿久根市!B37+薩摩郡・阿久根市!B57+出水市郡・伊佐市!B25+出水市郡・伊佐市!B38+出水市郡・伊佐市!B54+姶良市郡・霧島市!B24+姶良市郡・霧島市!B32+姶良市郡・霧島市!B55+曽於市郡・志布志市・垂水市!B21+曽於市郡・志布志市・垂水市!B32+曽於市郡・志布志市・垂水市!B41+曽於市郡・志布志市・垂水市!B56+鹿屋市・肝属郡!B35+鹿屋市・肝属郡!B54+熊毛郡・西之表市・大島郡１・奄美市１!B19+熊毛郡・西之表市・大島郡１・奄美市１!B24+熊毛郡・西之表市・大島郡１・奄美市１!B36+熊毛郡・西之表市・大島郡１・奄美市１!B54+大島郡２・奄美市２!B32+大島郡２・奄美市２!B55 -> 0
N6: 枚
B9: 銘柄 | C9: 奄 美 | F9: 南 海 日 々
C10: コード ８３ | F10: コード ８４ | I10: コード ００ | L10: コード ００ | O10: コード ００
A11: 市郡区 | C11: 店 名 | D11: 枚 数 | E11: 配 布 | F11: 店 名 | G11: 枚 数 | H11: 配 布 | I11: 店 名 | J11: 枚 数 | K11: 配 布 | L11: 店 名 | M11: 枚 数 | N11: 配 布 | O11: 店 名 | P11: 枚 数 | Q11: 配 布
A12: 大島郡 | B12: 24
A13: ※ | C13: ★竜郷町（大 | D13: 480 | F13: ★龍郷第一(大 | G13: 730
C14: ★瀬戸内（大 | D14: 535 | F14: ★龍郷第二(大 | G14: 890
C15: ★宇検村（大 | D15: 215 | F15: ★大和村（大 | G15: 420
C16: ★大和村（大 | D16: 170 | F16: ★宇検村（大 | G16: 500
C17: ★喜界（喜） | D17: 225 | F17: ★瀬戸内（大 | G17: 1810
C18: ★徳之島（徳 | D18: 475 | F18: ★加計呂麻 | G18: 300
C19: ★伊仙（徳） | D19: 230 | F19: ★喜界（喜） | G19: 1120
C20: ★天城（徳） | D20: 195 | F20: ★徳之島（徳 | G20: 970
C21: ★和泊（沖永 | D21: 140 | F21: ★伊仙（徳） | G21: 580
C22: ★知名（沖永 | D22: 200 | F22: ★天城（徳） | G22: 580
C23: ★与論（与） | D23: 75 | F23: ★和泊（沖永 | G23: 760
F24: ★知名（沖永 | G24: 810
F25: ★与論（与） | G25: 400
A30: ■地区枚数■ | B30: =D32+G32+J32+M32+P32 -> 12810
A32: ■配布枚数■ | B32: =E32+H32+K32+N32+Q32 -> 0 | C32: ◆小 計◆ | D32: =SUM(D12:D31) -> 2940 | E32: =SUM(E12:E31) -> 0 | F32: ◆小 計◆ | G32: =SUM(G12:G31) -> 9870 | H32: =SUM(H12:H31) -> 0 | I32: ◆小 計◆ | J32: =SUM(J12:J31) -> 0 | K32: =SUM(K12:K31) -> 0 | L32: ◆小 計◆ | M32: =SUM(M12:M31) -> 0 | N32: =SUM(N12:N31) -> 0 | O32: ◆小 計◆ | P32: =SUM(P12:P31) -> 0 | Q32: =SUM(Q12:Q31) -> 0
A34: 奄美市 | B34: 25 | C34: ★名瀬崎原 | D34: 30 | F34: ★笠利町（大 | G34: 1450
A35: ※ | C35: ★笠利町（大 | D35: 755 | F35: ★名瀬第一 | G35: 920
C36: ★名瀬第一 | D36: 360 | F36: ★名瀬第二 | G36: 920
C37: ★名瀬第二 | D37: 315 | F37: ★名瀬第三 | G37: 950
C38: ★名瀬第三 | D38: 365 | F38: ★住用村（大 | G38: 350
C39: ★住用村（大 | D39: 140 | F39: ★名瀬第六 | G39: 1420
C40: ★名瀬第四 | D40: 585 | F40: ★名瀬第七 | G40: 1080
C41: ★名瀬第六 | D41: 120 | F41: ★名瀬朝仁 | G41: 680
C42: ★名瀬第七 | D42: 415 | F42: ★名瀬輪内 | G42: 2030
C43: ★名瀬第八 | D43: 480 | F43: ★名瀬小宿 | G43: 1110
C44: ★名瀬第九 | D44: 625 | F44: ★名瀬古見 | G44: 220
C45: ★名瀬古見方 | D45: 160
C46: ★名瀬有良 | D46: 5
C47: ★名瀬芦花部 | D47: 20
C48: ★名瀬知名瀬 | D48: 25
C49: ★名瀬根瀬部 | D49: 20
...
