Workbook

Sheet 集計
D1: 福 岡 県 コード ４０
N3: 46296 | P3: 大分折込株式会社
A5: 市・郡・区 | B5: コード № | D5: 読 売 | F5: 朝 日 | H5: 毎 日 | J5: 西 日 本 | L5: 日 経 | N5: 福ポス | P5: 枚数系 | Q5: 配布計 | R5: ページ | S5: 26.01
D6: 枚数 | E6: 配布 | F6: 枚数 | G6: 配布 | H6: 枚数 | I6: 配布 | J6: 枚数 | K6: 配布 | L6: 枚数 | M6: 配布 | N6: 枚数 | O6: 配布 | S6: 世帯数
A7: 大牟田市 | B7: ０１ | C7: 枚 数 | D7: =大牟田市!$D$41 -> 4960 | E7: =大牟田市!$E$41 -> 0 | F7: =大牟田市!$G$41 -> 2330 | G7: =大牟田市!$H$41 -> 0 | H7: =大牟田市!$J$41 -> 2060 | I7: =大牟田市!$K$41 -> 0 | J7: =大牟田市!$M$41 -> 7250 | K7: =大牟田市!$N$41 -> 0 | L7: =大牟田市!$P$41 -> 0 | M7: =大牟田市!$Q$41 -> 0 | N7: =大牟田市!$S$41 -> 0 | O7: =大牟田市!$T$41 -> 0 | P7: =SUM(D7,F7,H7,J7,L7,N7) -> 16600 | Q7: =SUM(E7,G7,I7,K7,M7,O7) -> 0 | R7: 1 | S7: 54590
A8: みやま市 | B8: ０３ | C8: 枚 数 | D8: ='みやま市・柳川市・大川市・三潴郡 '!$D$24 -> 1480 | E8: ='みやま市・柳川市・大川市・三潴郡 '!$E$24 -> 0 | F8: ='みやま市・柳川市・大川市・三潴郡 '!$G$24 -> 0 | G8: ='みやま市・柳川市・大川市・三潴郡 '!$H$24 -> 0 | H8: ='みやま市・柳川市・大川市・三潴郡 '!$J$24 -> 970 | I8: ='みやま市・柳川市・大川市・三潴郡 '!$K$24 -> 0 | J8: ='みやま市・柳川市・大川市・三潴郡 '!$M$24 -> 2950 | K8: ='みやま市・柳川市・大川市・三潴郡 '!$N$24 -> 0 | L8: ='みやま市・柳川市・大川市・三潴郡 '!$P$24 -> 0 | M8: ='みやま市・柳川市・大川市・三潴郡 '!$Q$24 -> 0 | N8: ='みやま市・柳川市・大川市・三潴郡 '!$S$24 -> 0 | O8: ='みやま市・柳川市・大川市・三潴郡 '!$T$24 -> 0 | P8: =SUM(D8,F8,H8,J8,L8,N8) -> 5400 | Q8: =SUM(E8,G8,I8,K8,M8,O8) -> 0 | R8: 2 | S8: 14613
A9: 柳川市 | B9: ０４ | C9: 枚 数 | D9: ='みやま市・柳川市・大川市・三潴郡 '!$D$35 -> 2110 | E9: ='みやま市・柳川市・大川市・三潴郡 '!$E$35 -> 0 | F9: ='みやま市・柳川市・大川市・三潴郡 '!$G$35 -> 0 | G9: ='みやま市・柳川市・大川市・三潴郡 '!$H$35 -> 0 | H9: ='みやま市・柳川市・大川市・三潴郡 '!$J$35 -> 710 | I9: ='みやま市・柳川市・大川市・三潴郡 '!$K$35 -> 0 | J9: ='みやま市・柳川市・大川市・三潴郡 '!$M$35 -> 5970 | K9: ='みやま市・柳川市・大川市・三潴郡 '!$N$35 -> 0 | L9: ='みやま市・柳川市・大川市・三潴郡 '!$P$35 -> 0 | M9: ='みやま市・柳川市・大川市・三潴郡 '!$Q$35 -> 0 | N9: ='みやま市・柳川市・大川市・三潴郡 '!$S$35 -> 0 | O9: ='みやま市・柳川市・大川市・三潴郡 '!$T$35 -> 0 | P9: =SUM(D9,F9,H9,J9,L9,N9) -> 8790 | Q9: =SUM(E9,G9,I9,K9,M9,O9) -> 0 | R9: 2 | S9: 26674 | T9: 2024年08月01日 筑後マーケティングセンター閉鎖 久留米営業所へ業務譲渡
A10: 大川市 | B10: ０５ | C10: 枚 数 | D10: ='みやま市・柳川市・大川市・三潴郡 '!$D$46 -> 940 | E10: ='みやま市・柳川市・大川市・三潴郡 '!$E$46 -> 0 | F10: ='みやま市・柳川市・大川市・三潴郡 '!$G$46 -> 340 | G10: ='みやま市・柳川市・大川市・三潴郡 '!$H$46 -> 0 | H10: ='みやま市・柳川市・大川市・三潴郡 '!$J$46 -> 210 | I10: ='みやま市・柳川市・大川市・三潴郡 '!$K$46 -> 0 | J10: ='みやま市・柳川市・大川市・三潴郡 '!$M$46 -> 3460 | K10: ='みやま市・柳川市・大川市・三潴郡 '!$N$46 -> 0 | L10: ='みやま市・柳川市・大川市・三潴郡 '!$P$46 -> 0 | M10: ='みやま市・柳川市・大川市・三潴郡 '!$Q$46 -> 0 | N10: ='みやま市・柳川市・大川市・三潴郡 '!$S$46 -> 0 | O10: ='みやま市・柳川市・大川市・三潴郡 '!$T$46 -> 0 | P10: =SUM(D10,F10,H10,J10,L10,N10) -> 4950 | Q10: =SUM(E10,G10,I10,K10,M10,O10) -> 0 | R10: 2 | S10: 14022
A11: 三潴郡 | B11: ０６ | C11: 枚 数 | D11: ='みやま市・柳川市・大川市・三潴郡 '!$D$56 -> 500 | E11: ='みやま市・柳川市・大川市・三潴郡 '!$E$56 -> 0 | F11: ='みやま市・柳川市・大川市・三潴郡 '!$G$56 -> 0 | G11: ='みやま市・柳川市・大川市・三潴郡 '!$H$56 -> 0 | H11: ='みやま市・柳川市・大川市・三潴郡 '!$J$56 -> 0 | I11: ='みやま市・柳川市・大川市・三潴郡 '!$K$56 -> 0 | J11: ='みやま市・柳川市・大川市・三潴郡 '!$M$56 -> 2060 | K11: ='みやま市・柳川市・大川市・三潴郡 '!$N$56 -> 0 | L11: ='みやま市・柳川市・大川市・三潴郡 '!$P$56 -> 0 | M11: ='みやま市・柳川市・大川市・三潴郡 '!$Q$56 -> 0 | N11: ='みやま市・柳川市・大川市・三潴郡 '!$S$56 -> 0 | O11: ='みやま市・柳川市・大川市・三潴郡 '!$T$56 -> 0 | P11: =SUM(D11,F11,H11,J11,L11,N11) -> 2560 | Q11: =SUM(E11,G11,I11,K11,M11,O11) -> 0 | R11: 2 | S11: 5430
A12: 筑後市 | B12: ０７ | C12: 枚 数 | D12: =筑後市・八女市郡!$D$25 -> 2340 | E12: =筑後市・八女市郡!$E$25 -> 0 | F12: =筑後市・八女市郡!$G$25 -> 0 | G12: =筑後市・八女市郡!$H$25 -> 0 | H12: =筑後市・八女市郡!$J$25 -> 120 | I12: =筑後市・八女市郡!$K$25 -> 0 | J12: =筑後市・八女市郡!$M$25 -> 4730 | K12: =筑後市・八女市郡!$N$25 -> 0 | L12: =筑後市・八女市郡!$P$25 -> 0 | M12: =筑後市・八女市郡!$Q$25 -> 0 | N12: =筑後市・八女市郡!$S$25 -> 0 | O12: =筑後市・八女市郡!$T$25 -> 0 | P12: =SUM(D12,F12,H12,J12,L12,N12) -> 7190 | Q12: =SUM(E12,G12,I12,K12,M12,O12) -> 0 | R12: 3 | S12: 21424
A13: 八女市 | B13: ０８ | C13: 枚 数 | D13: =筑後市・八女市郡!$D$49 -> 780 | E13: =筑後市・八女市郡!$E$49 -> 0 | F13: =筑後市・八女市郡!$G$49 -> 0 | G13: =筑後市・八女市郡!$H$49 -> 0 | H13: =筑後市・八女市郡!$J$49 -> 0 | I13: =筑後市・八女市郡!$K$49 -> 0 | J13: =筑後市・八女市郡!$M$49 -> 9180 | K13: =筑後市・八女市郡!$N$49 -> 0 | L13: =筑後市・八女市郡!$P$49 -> 0 | M13: =筑後市・八女市郡!$Q$49 -> 0 | N13: =筑後市・八女市郡!$S$49 -> 0 | O13: =筑後市・八女市郡!$T$49 -> 0 | P13: =SUM(D13,F13,H13,J13,L13,N13) -> 9960 | Q13: =SUM(E13,G13,I13,K13,M13,O13) -> 0 | R13: 3 | S13: 26321
A14: 八女郡 | B14: ０９ | C14: 枚 数 | D14: =筑後市・八女市郡!$D$57 -> 240 | E14: =筑後市・八女市郡!$E$57 -> 0 | F14: =筑後市・八女市郡!$G$57 -> 0 | G14: =筑後市・八女市郡!$H$57 -> 0 | H14: =筑後市・八女市郡!$J$57 -> 0 | I14: =筑後市・八女市郡!$K$57 -> 0 | J14: =筑後市・八女市郡!$M$57 -> 2720 | K14: =筑後市・八女市郡!$N$57 -> 0 | L14: =筑後市・八女市郡!$P$57 -> 0 | M14: =筑後市・八女市郡!$Q$57 -> 0 | N14: =筑後市・八女市郡!$S$57 -> 0 | O14: =筑後市・八女市郡!$T$57 -> 0 | P14: =SUM(D14,F14,H14,J14,L14,N14) -> 2960 | Q14: =SUM(E14,G14,I14,K14,M14,O14) -> 0 | R14: 3 | S14: 8342
A15: 久留米市三井郡 | B15: １０ | C15: 枚 数 | D15: =久留米市三井郡・うきは市!$D$43 -> 10570 | E15: =久留米市三井郡・うきは市!$E$43 -> 0 | F15: =久留米市三井郡・うきは市!$G$43 -> 3240 | G15: =久留米市三井郡・うきは市!$H$43 -> 0 | H15: =久留米市三井郡・うきは市!$J$43 -> 1080 | I15: =久留米市三井郡・うきは市!$K$43 -> 0 | J15: =久留米市三井郡・うきは市!$M$43 -> 26590 | K15: =久留米市三井郡・うきは市!$N$43 -> 0 | L15: =久留米市三井郡・うきは市!$P$43 -> 0 | M15: =久留米市三井郡・うきは市!$Q$43 -> 0 | N15: =久留米市三井郡・うきは市!$S$43 -> 7920 | O15: =久留米市三井郡・うきは市!$W$43 -> 0 | P15: =SUM(D15,F15,H15,J15,L15,N15) -> 49400 | Q15: =SUM(E15,G15,I15,K15,M15,O15) -> 0 | R15: 4 | S15: 151490
A16: うきは市 | B16: １２ | C16: 枚 数 | D16: =久留米市三井郡・うきは市!$D$57 -> 370 | E16: =久留米市三井郡・うきは市!$E$57 -> 0 | F16: =久留米市三井郡・うきは市!$G$57 -> 0 | G16: =久留米市三井郡・うきは市!$H$57 -> 0 | H16: =久留米市三井郡・うきは市!$J$57 -> 0 | I16: =久留米市三井郡・うきは市!$K$57 -> 0 | J16: =久留米市三井郡・うきは市!$M$57 -> 4020 | K16: =久留米市三井郡・うきは市!$N$57 -> 0 | L16: =久留米市三井郡・うきは市!$P$57 -> 0 | M16: =久留米市三井郡・うきは市!$Q$57 -> 0 | N16: =久留米市三井郡・うきは市!$V$57 -> 0 | O16: =久留米市三井郡・うきは市!$W$57 -> 0 | P16: =SUM(D16,F16,H16,J16,L16,N16) -> 4390 | Q16: =SUM(E16,G16,I16,K16,M16,O16) -> 0 | R16: 4 | S16: 11534
A17: 筑後地区計 | D17: =SUM(D7:D16) -> 24290 | E17: =SUM(E7:E16) -> 0 | F17: =SUM(F7:F16) -> 5910 | G17: =SUM(G7:G16) -> 0 | H17: =SUM(H7:H16) -> 5150 | I17: =SUM(I7:I16) -> 0 | J17: =SUM(J7:J16) -> 68930 | K17: =SUM(K7:K16) -> 0 | ... Q17: =SUM(Q7:Q16) -> 0 | S17: =SUM(S7:S16) -> 334440
A18: 朝倉郡 | B18: １３ | C18: 枚 数 | D18: =朝倉市郡・小郡市!$D$26 -> 610 | E18: =朝倉市郡・小郡市!$E$26 -> 0 | F18: =朝倉市郡・小郡市!$G$26 -> 0 | G18: =朝倉市郡・小郡市!$H$26 -> 0 | H18: =朝倉市郡・小郡市!$J$26 -> 0 | I18: =朝倉市郡・小郡市!$K$26 -> 0 | J18: =朝倉市郡・小郡市!$M$26 -> 2420 | K18: =朝倉市郡・小郡市!$N$26 -> 0 | L18: =朝倉市郡・小郡市!$P$26 -> 0 | M18: =朝倉市郡・小郡市!$Q$26 -> 0 | N18: =朝倉市郡・小郡市!$S$26 -> 480 | O18: =朝倉市郡・小郡市!$T$26 -> 0 | P18: =SUM(D18,F18,H18,J18,L18,N18) -> 3510 | Q18: =SUM(E18,G18,I18,K18,M18,O18) -> 0 | R18: 5 | S18: 13788
A19: 朝倉市 | B19: １４ | C19: 枚 数 | D19: =朝倉市郡・小郡市!$D$40 -> 2560 | E19: =朝倉市郡・小郡市!$E$40 -> 0 | F19: =朝倉市郡・小郡市!$G$40 -> 0 | G19: =朝倉市郡・小郡市!$H$40 -> 0 | H19: =朝倉市郡・小郡市!$J$40 -> 0 | I19: =朝倉市郡・小郡市!$K$40 -> 0 | J19: =朝倉市郡・小郡市!$M$40 -> 5420 | K19: =朝倉市郡・小郡市!$N$40 -> 0 | L19: =朝倉市郡・小郡市!$P$40 -> 0 | M19: =朝倉市郡・小郡市!$Q$40 -> 0 | N19: =朝倉市郡・小郡市!$S$40 -> 300 | O19: =朝倉市郡・小郡市!$T$40 -> 0 | P19: =SUM(D19,F19,H19,J19,L19,N19) -> 8280 | Q19: =SUM(E19,G19,I19,K19,M19,O19) -> 0 | R19: 5 | S19: 22581
A20: 小郡市 | B20: １５ | C20: 枚 数 | D20: =朝倉市郡・小郡市!$D$56 -> 2050 | E20: =朝倉市郡・小郡市!$E$56 -> 0 | F20: =朝倉市郡・小郡市!$G$56 -> 0 | G20: =朝倉市郡・小郡市!$H$56 -> 0 | H20: =朝倉市郡・小郡市!$J$56 -> 0 | I20: =朝倉市郡・小郡市!$K$56 -> 0 | J20: =朝倉市郡・小郡市!$M$56 -> 8060 | K20: =朝倉市郡・小郡市!$N$56 -> 0 | L20: =朝倉市郡・小郡市!$P$56 -> 0 | M20: =朝倉市郡・小郡市!$Q$56 -> 0 | N20: =朝倉市郡・小郡市!$S$56 -> 1500 | O20: =朝倉市郡・小郡市!$T$56 -> 0 | P20: =SUM(D20,F20,H20,J20,L20,N20) -> 11610 | Q20: =SUM(E20,G20,I20,K20,M20,O20) -> 0 | R20: 5 | S20: 26824
A21: 筑紫野市 | B21: １６ | C21: 枚 数 | D21: =筑紫野・那珂川市・太宰府・大野城市!$D$25 -> 2970 | E21: =筑紫野・那珂川市・太宰府・大野城市!$E$25 -> 0 | F21: =筑紫野・那珂川市・太宰府・大野城市!$G$25 -> 0 | G21: =筑紫野・那珂川市・太宰府・大野城市!$H$25 -> 0 | H21: =筑紫野・那珂川市・太宰府・大野城市!$J$25 -> 1880 | I21: =筑紫野・那珂川市・太宰府・大野城市!$K$25 -> 0 | J21: =筑紫野・那珂川市・太宰府・大野城市!$M$25 -> 11310 | K21: =筑紫野・那珂川市・太宰府・大野城市!$N$25 -> 0 | L21: =筑紫野・那珂川市・太宰府・大野城市!$P$25 -> 730 | M21: =筑紫野・那珂川市・太宰府・大野城市!$Q$25 -> 0 | N21: =筑紫野・那珂川市・太宰府・大野城市!$S$25 -> 6130 | O21: =筑紫野・那珂川市・太宰府・大野城市!$T$25 -> 0 | P21: =SUM(D21,F21,H21,J21,L21,N21) -> 23020 | Q21: =SUM(E21,G21,I21,K21,M21,O21) -> 0 | R21: 6 | S21: 49128
A22: 那珂川市 | B22: １７ | C22: 枚 数 | D22: =筑紫野・那珂川市・太宰府・大野城市!$D$35 -> 730 | E22: =筑紫野・那珂川市・太宰府・大野城市!$E$35 -> 0 | F22: =筑紫野・那珂川市・太宰府・大野城市!$G$35 -> 380 | G22: =筑紫野・那珂川市・太宰府・大野城市!$H$35 -> 0 | H22: =筑紫野・那珂川市・太宰府・大野城市!$J$35 -> 350 | I22: =筑紫野・那珂川市・太宰府・大野城市!$K$35 -> 0 | J22: =筑紫野・那珂川市・太宰府・大野城市!$M$35 -> 3300 | K22: =筑紫野・那珂川市・太宰府・大野城市!$N$35 -> 0 | L22: =筑紫野・那珂川市・太宰府・大野城市!$P$35 -> 190 | M22: =筑紫野・那珂川市・太宰府・大野城市!$Q$35 -> 0 | N22: =筑紫野・那珂川市・太宰府・大野城市!$S$35 -> 450 | O22: =筑紫野・那珂川市・太宰府・大野城市!$T$35 -> 0 | P22: =SUM(D22,F22,H22,J22,L22,N22) -> 5400 | Q22: =SUM(E22,G22,I22,K22,M22,O22) -> 0 | R22: 6 | S22: 22100
A23: 太宰府市 | B23: １８ | C23: 枚 数 | D23: =筑紫野・那珂川市・太宰府・大野城市!$D$47 -> 1400 | E23: =筑紫野・那珂川市・太宰府・大野城市!$E$47 -> 0 | F23: =筑紫野・那珂川市・太宰府・大野城市!$G$47 -> 400 | G23: =筑紫野・那珂川市・太宰府・大野城市!$H$47 -> 0 | H23: =筑紫野・那珂川市・太宰府・大野城市!$J$47 -> 750 | I23: =筑紫野・那珂川市・太宰府・大野城市!$K$47 -> 0 | J23: =筑紫野・那珂川市・太宰府・大野城市!$M$47 -> 5860 | K23: =筑紫野・那珂川市・太宰府・大野城市!$N$47 -> 0 | L23: =筑紫野・那珂川市・太宰府・大野城市!$P$47 -> 410 | M23: =筑紫野・那珂川市・太宰府・大野城市!$Q$47 -> 0 | N23: =筑紫野・那珂川市・太宰府・大野城市!$S$47 -> 3910 | O23: =筑紫野・那珂川市・太宰府・大野城市!$T$47 -> 0 | P23: =SUM(D23,F23,H23,J23,L23,N23) -> 12730 | Q23: =SUM(E23,G23,I23,K23,M23,O23) -> 0 | R23: 6 | S23: 33768
A24: 大野城市 | B24: １９ | C24: 枚 数 | D24: =筑紫野・那珂川市・太宰府・大野城市!$D$62 -> 3820 | E24: =筑紫野・那珂川市・太宰府・大野城市!$E$62 -> 0 | F24: =筑紫野・那珂川市・太宰府・大野城市!$G$62 -> 2410 | G24: =筑紫野・那珂川市・太宰府・大野城市!$H$62 -> 0 | H24: =筑紫野・那珂川市・太宰府・大野城市!$J$62 -> 1650 | I24: =筑紫野・那珂川市・太宰府・大野城市!$K$62 -> 0 | J24: =筑紫野・那珂川市・太宰府・大野城市!$M$62 -> 6080 | K24: =筑紫野・那珂川市・太宰府・大野城市!$N$62 -> 0 | L24: =筑紫野・那珂川市・太宰府・大野城市!$P$62 -> 930 | M24: =筑紫野・那珂川市・太宰府・大野城市!$Q$62 -> 0 | N24: =筑紫野・那珂川市・太宰府・大野城市!$S$62 -> 7640 | O24: =筑紫野・那珂川市・太宰府・大野城市!$T$62 -> 0 | P24: =SUM(D24,F24,H24,J24,L24,N24) -> 22530 | Q24: =SUM(E24,G24,I24,K24,M24,O24) -> 0 | R24: 6 | S24: 48270
A25: 春日市 | B25: ２０ | C25: 枚 数 | D25: =春日市・糸島市・西区!$D$24 -> 3020 | E25: =春日市・糸島市・西区!$E$24 -> 0 | F25: =春日市・糸島市・西区!$G$24 -> 2050 | G25: =春日市・糸島市・西区!$H$24 -> 0 | H25: =春日市・糸島市・西区!$J$24 -> 1050 | I25: =春日市・糸島市・西区!$K$24 -> 0 | J25: =春日市・糸島市・西区!$M$24 -> 6650 | K25: =春日市・糸島市・西区!$N$24 -> 0 | L25: =春日市・糸島市・西区!$P24 -> 590 | M25: =春日市・糸島市・西区!$Q24 -> 0 | N25: =春日市・糸島市・西区!$S24 -> 4130 | O25: =春日市・糸島市・西区!$T24 -> 0 | P25: =SUM(D25,F25,H25,J25,L25,N25) -> 17490 | Q25: =SUM(E25,G25,I25,K25,M25,O25) -> 0 | R25: 7 | S25: 51827
A26: 糸島市 | B26: ２１ | C26: 枚 数 | D26: =春日市・糸島市・西区!$D$38 -> 900 | E26: =春日市・糸島市・西区!$E$38 -> 0 | F26: =春日市・糸島市・西区!$G$38 -> 0 | G26: =春日市・糸島市・西区!$H$38 -> 0 | H26: =春日市・糸島市・西区!$J$38 -> 0 | I26: =春日市・糸島市・西区!$K$38 -> 0 | J26: =春日市・糸島市・西区!$M$38 -> 11530 | K26: =春日市・糸島市・西区!$N$38 -> 0 | L26: =春日市・糸島市・西区!$P$38 -> 500 | M26: =春日市・糸島市・西区!$Q$38 -> 0 | N26: =春日市・糸島市・西区!$S$38 -> 1400 | O26: =春日市・糸島市・西区!$T$38 -> 0 | P26: =SUM(D26,F26,H26,J26,L26,N26) -> 14330 | Q26: =SUM(E26,G26,I26,K26,M26,O26) -> 0 | R26: 7 | S26: 47532
A27: 西区 | B27: ３０ | C27: 枚 数 | D27: =春日市・糸島市・西区!$D$66 -> 4570 | E27: =春日市・糸島市・西区!$E$66 -> 0 | F27: =春日市・糸島市・西区!$G$66 -> 2700 | G27: =春日市・糸島市・西区!$H$66 -> 0 | H27: =春日市・糸島市・西区!$J$66 -> 1330 | I27: =春日市・糸島市・西区!$K$66 -> 0 | J27: =春日市・糸島市・西区!$M$66 -> 12550 | K27: =春日市・糸島市・西区!$N$66 -> 0 | L27: =春日市・糸島市・西区!$P$66 -> 1560 | M27: =春日市・糸島市・西区!$Q$66 -> 0 | N27: =春日市・糸島市・西区!$S$66 -> 9900 | O27: =春日市・糸島市・西区!$T$66 -> 0 | P27: =SUM(D27,F27,H27,J27,L27,N27) -> 32610 | Q27: =SUM(E27,G27,I27,K27,M27,O27) -> 0 | R27: 7 | S27: 104592
A28: 早良区 | B28: ３１ | C28: 枚 数 | D28: =早良区・城南区!$D$42 -> 5180 | E28: =早良区・城南区!$E$42 -> 0 | F28: =早良区・城南区!$G$42 -> 3900 | G28: =早良区・城南区!$H$42 -> 0 | H28: =早良区・城南区!$J$42 -> 1600 | I28: =早良区・城南区!$K$42 -> 0 | J28: =早良区・城南区!$M$42 -> 14220 | K28: =早良区・城南区!$N$42 -> 0 | L28: =早良区・城南区!$P$42 -> 2610 | M28: =早良区・城南区!$Q$42 -> 0 | N28: =早良区・城南区!$S$42 -> 11590 | O28: =早良区・城南区!$T$42 -> 0 | P28: =SUM(D28,F28,H28,J28,L28,N28) -> 39100 | Q28: =SUM(E28,G28,I28,K28,M28,O28) -> 0 | R28: 8 | S28: 110663
A29: 城南区 | B29: ３２ | C29: 枚 数 | D29: =早良区・城南区!$D$60 -> 2940 | E29: =早良区・城南区!$E$60 -> 0 | F29: =早良区・城南区!$G$60 -> 780 | G29: =早良区・城南区!$H$60 -> 0 | H29: =早良区・城南区!$J$60 -> 1990 | I29: =早良区・城南区!$K$60 -> 0 | J29: =早良区・城南区!$M$60 -> 9650 | K29: =早良区・城南区!$N$60 -> 0 | L29: =早良区・城南区!$P$60 -> 420 | M29: =早良区・城南区!$Q$60 -> 0 | N29: =早良区・城南区!$S$60 -> 6650 | O29: =早良区・城南区!$T$60 -> 0 | P29: =SUM(D29,F29,H29,J29,L29,N29) -> 22430 | Q29: =SUM(E29,G29,I29,K29,M29,O29) -> 0 | R29: 8 | S29: 67471
A30: 南区 | B30: ３３ | C30: 枚 数 | D30: =南区!$D$53 -> 5850 | E30: =南区!$E$53 -> 0 | F30: =南区!$G$53 -> 3910 | G30: =南区!$H$53 -> 0 | H30: =南区!$J$53 -> 2700 | I30: =南区!$K$53 -> 0 | J30: =南区!$M$53 -> 16310 | K30: =南区!$N$53 -> 0 | L30: =南区!$P$53 -> 1930 | M30: =南区!$Q$53 -> 0 | N30: =南区!$S$53 -> 13260 | O30: =南区!$T$53 -> 0 | P30: =SUM(D30,F30,H30,J30,L30,N30) -> 43960 | Q30: =SUM(E30,G30,I30,K30,M30,O30) -> 0 | R30: 9 | S30: 143873
A31: 中央区 | B31: ３４ | C31: 枚 数 | D31: =中央区・博多区!$D$31 -> 3830 | E31: =中央区・博多区!$E$31 -> 0 | F31: =中央区・博多区!$G$31 -> 1360 | G31: =中央区・博多区!$H$31 -> 0 | H31: =中央区・博多区!$J$31 -> 1450 | I31: =中央区・博多区!$K$31 -> 0 | J31: =中央区・博多区!$M$31 -> 11790 | K31: =中央区・博多区!$N$31 -> 0 | L31: =中央区・博多区!$P$31 -> 4340 | M31: =中央区・博多区!$Q$31 -> 0 | N31: =中央区・博多区!$S$31 -> 7120 | O31: =中央区・博多区!$T$31 -> 0 | P31: =SUM(D31,F31,H31,J31,L31,N31) -> 29890 | Q31: =SUM(E31,G31,I31,K31,M31,O31) -> 0 | R31: 10 | S31: 126226
A32: 博多区 | B32: ３５ | C32: 枚 数 | D32: =中央区・博多区!$D$53 -> 5090 | E32: =中央区・博多区!$E$53 -> 0 | F32: =中央区・博多区!$G$53 -> 1330 | G32: =中央区・博多区!$H$53 -> 0 | H32: =中央区・博多区!$J$53 -> 1110 | I32: =中央区・博多区!$K$53 -> 0 | J32: =中央区・博多区!$M$53 -> 11680 | K32: =中央区・博多区!$N$53 -> 0 | L32: =中央区・博多区!$P$53 -> 3360 | M32: =中央区・博多区!$Q$53 -> 0 | N32: =中央区・博多区!$S$53 -> 7630 | O32: =中央区・博多区!$T$53 -> 0 | P32: =SUM(D32,F32,H32,J32,L32,N32) -> 30200 | Q32: =SUM(E32,G32,I32,K32,M32,O32) -> 0 | R32: 10 | S32: 159857
A33: 東区 | B33: ３６ | C33: 枚 数 | D33: =東区!$D$50 -> 7750 | E33: =東区!$E$50 -> 0 | F33: =東区!$G$50 -> 4570 | G33: =東区!$H$50 -> 0 | H33: =東区!$J$50 -> 5490 | I33: =東区!$K$50 -> 0 | J33: =東区!$M$50 -> 17590 | K33: =東区!$N$50 -> 0 | L33: =東区!$P$50 -> 2150 | M33: =東区!$Q$50 -> 0 | N33: =東区!$S$50 -> 19930 | O33: =東区!$T$50 -> 0 | P33: =SUM(D33,F33,H33,J33,L33,N33) -> 57480 | Q33: =SUM(E33,G33,I33,K33,M33,O33) -> 0 | R33: 11 | S33: 176271
A34: 古賀市 | B34: ４０ | C34: 枚 数 | D34: =古賀市・粕屋郡!$D$25 -> 1110 | E34: =古賀市・粕屋郡!$E$25 -> 0 | F34: =古賀市・粕屋郡!$G$25 -> 1350 | G34: =古賀市・粕屋郡!$H$25 -> 0 | H34: =古賀市・粕屋郡!$J$25 -> 1850 | I34: =古賀市・粕屋郡!$K$25 -> 0 | J34: =古賀市・粕屋郡!$M$25 -> 3980 | K34: =古賀市・粕屋郡!$N$25 -> 0 | L34: =古賀市・粕屋郡!$P$25 -> 350 | M34: =古賀市・粕屋郡!$Q$25 -> 0 | N34: =古賀市・粕屋郡!$S$25 -> 3910 | O34: =古賀市・粕屋郡!$T$25 -> 0 | P34: =SUM(D34,F34,H34,J34,L34,N34) -> 12550 | Q34: =SUM(E34,G34,I34,K34,M34,O34) -> 0 | R34: 12 | S34: 27509
A35: 粕屋郡 | B35: ４０ | C35: 枚 数 | D35: =古賀市・粕屋郡!$D$53 -> 4010 | E35: =古賀市・粕屋郡!$E$53 -> 0 | F35: =古賀市・粕屋郡!$G$53 -> 0 | G35: =古賀市・粕屋郡!$H$53 -> 0 | H35: =古賀市・粕屋郡!$J$53 -> 3020 | I35: =古賀市・粕屋郡!$K$53 -> 0 | J35: =古賀市・粕屋郡!$M$53 -> 17430 | K35: =古賀市・粕屋郡!$N$53 -> 0 | L35: =古賀市・粕屋郡!$P$53 -> 1020 | M35: =古賀市・粕屋郡!$Q$53 -> 0 | N35: =古賀市・粕屋郡!$S$53 -> 8260 | O35: =古賀市・粕屋郡!$T$53 -> 0 | P35: =SUM(D35,F35,H35,J35,L35,N35) -> 33740 | Q35: =SUM(E35,G35,I35,K35,M35,O35) -> 0 | R35: 12 | S35: 106167
A36: 福津市 | B36: ４１ | C36: 枚 数 | D36: =福津市・宗像市!$D$32 -> 2270 | E36: =福津市・宗像市!$E$32 -> 0 | F36: =福津市・宗像市!$G$32 -> 1550 | G36: =福津市・宗像市!$H$32 -> 0 | H36: =福津市・宗像市!$J$32 -> 2300 | I36: =福津市・宗像市!$K$32 -> 0 | J36: =福津市・宗像市!$M$32 -> 4330 | K36: =福津市・宗像市!$N$32 -> 0 | L36: =福津市・宗像市!$P$32 -> 320 | M36: =福津市・宗像市!$Q$32 -> 0 | N36: =福津市・宗像市!$S$32 -> 1500 | O36: =福津市・宗像市!$T$32 -> 0 | P36: =SUM(D36,F36,H36,J36,L36,N36) -> 12270 | Q36: =SUM(E36,G36,I36,K36,M36,O36) -> 0 | R36: 13 | S36: 31017
A37: 宗像市 | B37: ４２ | C37: 枚 数 | D37: =福津市・宗像市!$D$53 -> 3810 | E37: =福津市・宗像市!$E$53 -> 0 | F37: =福津市・宗像市!$G$53 -> 2820 | G37: =福津市・宗像市!$H$53 -> 0 | H37: =福津市・宗像市!$J$53 -> 5390 | I37: =福津市・宗像市!$K$53 -> 0 | J37: =福津市・宗像市!$M$53 -> 4640 | K37: =福津市・宗像市!$N$53 -> 0 | L37: =福津市・宗像市!$P$53 -> 440 | M37: =福津市・宗像市!$Q$53 -> 0 | N37: =福津市・宗像市!$S$53 -> 2340 | O37: =福津市・宗像市!$T$53 -> 0 | P37: =SUM(D37,F37,H37,J37,L37,N37) -> 19440 | Q37: =SUM(E37,G37,I37,K37,M37,O37) -> 0 | R37: 13 | S37: 45848
A38: 福岡都市圏計 | D38: =SUM(D18:D37) -> 64470 | E38: =SUM(E18:E37) -> 0 | F38: =SUM(F18:F37) -> 29510 | G38: =SUM(G18:G37) -> 0 | H38: =SUM(H18:H37) -> 33910 | I38: =SUM(I18:I37) -> 0 | J38: =SUM(J18:J37) -> 184800 | K38: =SUM(K18:K37) -> 0 | ... Q38: =SUM(Q18:Q37) -> 0 | S38: =SUM(S18:S37) -> 1415312
A39: 嘉穂郡 | B39: ４３ | C39: 枚 数 | D39: =飯塚市・嘉麻市・田川市!$D$16 -> 0 | E39: =飯塚市・嘉麻市・田川市!$E$16 -> 0 | F39: =飯塚市・嘉麻市・田川市!$G$16 -> 320 | G39: =飯塚市・嘉麻市・田川市!$H$16 -> 0 | H39: =飯塚市・嘉麻市・田川市!$J$16 -> 0 | I39: =飯塚市・嘉麻市・田川市!$K$16 -> 0 | J39: =飯塚市・嘉麻市・田川市!$M$16 -> 0 | K39: =飯塚市・嘉麻市・田川市!$N$16 -> 0 | L39: =飯塚市・嘉麻市・田川市!$P$16 -> 0 | M39: =飯塚市・嘉麻市・田川市!$Q$16 -> 0 | N39: =飯塚市・嘉麻市・田川市!$S$16 -> 0 | O39: =飯塚市・嘉麻市・田川市!$T$16 -> 0 | P39: =SUM(D39,F39,H39,J39,L39,N39) -> 320 | Q39: =SUM(E39,G39,I39,K39,M39,O39) -> 0 | R39: 14 | S39: 6303
A40: 飯塚市 | B40: ４４ | C40: 枚 数 | D40: =飯塚市・嘉麻市・田川市!$D$37 -> 3950 | E40: =飯塚市・嘉麻市・田川市!$E$37 -> 0 | F40: =飯塚市・嘉麻市・田川市!$G$37 -> 4050 | G40: =飯塚市・嘉麻市・田川市!$H$37 -> 0 | H40: =飯塚市・嘉麻市・田川市!$J$37 -> 1500 | I40: =飯塚市・嘉麻市・田川市!$K$37 -> 0 | J40: =飯塚市・嘉麻市・田川市!$M$37 -> 9940 | K40: =飯塚市・嘉麻市・田川市!$N$37 -> 0 | L40: =飯塚市・嘉麻市・田川市!$P$37 -> 0 | M40: =飯塚市・嘉麻市・田川市!$Q$37 -> 0 | N40: =飯塚市・嘉麻市・田川市!$S$37 -> 0 | O40: =飯塚市・嘉麻市・田川市!$T$37 -> 0 | P40: =SUM(D40,F40,H40,J40,L40,N40) -> 19440 | Q40: =SUM(E40,G40,I40,K40,M40,O40) -> 0 | R40: 14 | S40: 64515
A41: 嘉麻市 | B41: ４５ | C41: 枚 数 | D41: =飯塚市・嘉麻市・田川市!$D$46 -> 1410 | E41: =飯塚市・嘉麻市・田川市!$E$46 -> 0 | F41: =飯塚市・嘉麻市・田川市!$G$46 -> 0 | G41: =飯塚市・嘉麻市・田川市!$H$46 -> 0 | H41: =飯塚市・嘉麻市・田川市!$J$46 -> 1290 | I41: =飯塚市・嘉麻市・田川市!$K$46 -> 0 | J41: =飯塚市・嘉麻市・田川市!$M$46 -> 3440 | K41: =飯塚市・嘉麻市・田川市!$N$46 -> 0 | L41: =飯塚市・嘉麻市・田川市!$P$46 -> 0 | M41: =飯塚市・嘉麻市・田川市!$Q$46 -> 0 | N41: =飯塚市・嘉麻市・田川市!$S$46 -> 0 | O41: =飯塚市・嘉麻市・田川市!$T$46 -> 0 | P41: =SUM(D41,F41,H41,J41,L41,N41) -> 6140 | Q41: =SUM(E41,G41,I41,K41,M41,O41) -> 0 | R41: 14 | S41: 17688
A42: 田川市 | B42: ４６ | C42: 枚 数 | D42: =飯塚市・嘉麻市・田川市!$D$56 -> 2660 | E42: =飯塚市・嘉麻市・田川市!$E$56 -> 0 | F42: =飯塚市・嘉麻市・田川市!$G$56 -> 2850 | G42: =飯塚市・嘉麻市・田川市!$H$56 -> 0 | H42: =飯塚市・嘉麻市・田川市!$J$56 -> 1580 | I42: =飯塚市・嘉麻市・田川市!$K$56 -> 0 | J42: =飯塚市・嘉麻市・田川市!$M$56 -> 850 | K42: =飯塚市・嘉麻市・田川市!$N$56 -> 0 | L42: =飯塚市・嘉麻市・田川市!$P$56 -> 0 | M42: =飯塚市・嘉麻市・田川市!$Q$56 -> 0 | N42: =飯塚市・嘉麻市・田川市!$S$56 -> 0 | O42: =飯塚市・嘉麻市・田川市!$T$56 -> 0 | P42: =SUM(D42,F42,H42,J42,L42,N42) -> 7940 | Q42: =SUM(E42,G42,I42,K42,M42,O42) -> 0 | R42: 14 | S42: 24166
A43: 田川郡 | B43: ４７ | C43: 枚 数 | D43: =田川郡・鞍手郡・宮若市・直方市!$D$27 -> 1310 | E43: =田川郡・鞍手郡・宮若市・直方市!$E$27 -> 0 | F43: =田川郡・鞍手郡・宮若市・直方市!$G$27 -> 3740 | G43: =田川郡・鞍手郡・宮若市・直方市!$H$27 -> 0 | H43: =田川郡・鞍手郡・宮若市・直方市!$J$27 -> 0 | I43: =田川郡・鞍手郡・宮若市・直方市!$K$27 -> 0 | J43: =田川郡・鞍手郡・宮若市・直方市!$M$27 -> 250 | K43: =田川郡・鞍手郡・宮若市・直方市!$N$27 -> 0 | L43: =田川郡・鞍手郡・宮若市・直方市!$P$27 -> 0 | M43: =田川郡・鞍手郡・宮若市・直方市!$Q$27 -> 0 | N43: =田川郡・鞍手郡・宮若市・直方市!$S$27 -> 0 | O43: =田川郡・鞍手郡・宮若市・直方市!$T$27 -> 0 | P43: =SUM(D43,F43,H43,J43,L43,N43) -> 5300 | Q43: =SUM(E43,G43,I43,K43,M43,O43) -> 0 | R43: 15 | S43: 37490
A44: 鞍手郡 | B44: ４８ | C44: 枚 数 | D44: =田川郡・鞍手郡・宮若市・直方市!$D$35 -> 1160 | E44: =田川郡・鞍手郡・宮若市・直方市!$E$35 -> 0 | F44: =田川郡・鞍手郡・宮若市・直方市!$G$35 -> 0 | G44: =田川郡・鞍手郡・宮若市・直方市!$H$35 -> 0 | H44: =田川郡・鞍手郡・宮若市・直方市!$J$35 -> 0 | I44: =田川郡・鞍手郡・宮若市・直方市!$K$35 -> 0 | J44: =田川郡・鞍手郡・宮若市・直方市!$M$35 -> 2000 | K44: =田川郡・鞍手郡・宮若市・直方市!$N$35 -> 0 | L44: =田川郡・鞍手郡・宮若市・直方市!$P$35 -> 0 | M44: =田川郡・鞍手郡・宮若市・直方市!$Q$35 -> 0 | N44: =田川郡・鞍手郡・宮若市・直方市!$S$35 -> 0 | O44: =田川郡・鞍手郡・宮若市・直方市!$T$35 -> 0 | P44: =SUM(D44,F44,H44,J44,L44,N44) -> 3160 | Q44: =SUM(E44,G44,I44,K44,M44,O44) -> 0 | R44: 15 | S44: 11177
A45: 宮若市 | B45: 43 | C45: 枚 数 | D45: =田川郡・鞍手郡・宮若市・直方市!$D$43 -> 700 | E45: =田川郡・鞍手郡・宮若市・直方市!$E$43 -> 0 | F45: =田川郡・鞍手郡・宮若市・直方市!$G$43 -> 840 | G45: =田川郡・鞍手郡・宮若市・直方市!$H$43 -> 0 | H45: =田川郡・鞍手郡・宮若市・直方市!$J$43 -> 0 | I45: =田川郡・鞍手郡・宮若市・直方市!$K$43 -> 0 | J45: =田川郡・鞍手郡・宮若市・直方市!$M$43 -> 1330 | K45: =田川郡・鞍手郡・宮若市・直方市!$N$43 -> 0 | L45: =田川郡・鞍手郡・宮若市・直方市!$P$43 -> 0 | M45: =田川郡・鞍手郡・宮若市・直方市!$Q$43 -> 0 | N45: =田川郡・鞍手郡・宮若市・直方市!$S$43 -> 0 | O45: =田川郡・鞍手郡・宮若市・直方市!$T$43 -> 0 | P45: =SUM(D45,F45,H45,J45,L45,N45) -> 2870 | Q45: =SUM(E45,G45,I45,K45,M45,O45) -> 0 | R45: 15 | S45: 13257
A46: 直方市 | B46: ４９ | C46: 枚 数 | D46: =田川郡・鞍手郡・宮若市・直方市!$D$57 -> 3360 | E46: =田川郡・鞍手郡・宮若市・直方市!$E$57 -> 0 | F46: =田川郡・鞍手郡・宮若市・直方市!$G$57 -> 3070 | G46: =田川郡・鞍手郡・宮若市・直方市!$H$57 -> 0 | H46: =田川郡・鞍手郡・宮若市・直方市!$J$57 -> 430 | I46: =田川郡・鞍手郡・宮若市・直方市!$K$57 -> 0 | J46: =田川郡・鞍手郡・宮若市・直方市!$M$57 -> 1560 | K46: =田川郡・鞍手郡・宮若市・直方市!$N$57 -> 0 | L46: =田川郡・鞍手郡・宮若市・直方市!$P$57 -> 0 | M46: =田川郡・鞍手郡・宮若市・直方市!$Q$57 -> 0 | N46: =田川郡・鞍手郡・宮若市・直方市!$S$57 -> 0 | O46: =田川郡・鞍手郡・宮若市・直方市!$T$57 -> 0 | P46: =SUM(D46,F46,H46,J46,L46,N46) -> 8420 | Q46: =SUM(E46,G46,I46,K46,M46,O46) -> 0 | R46: 15 | S46: 27862
A47: 筑豊地区計 | D47: =SUM(D39:D46) -> 14550 | E47: =SUM(E39:E46) -> 0 | F47: =SUM(F39:F46) -> 14870 | G47: =SUM(G39:G46) -> 0 | H47: =SUM(H39:H46) -> 4800 | I47: =SUM(I39:I46) -> 0 | J47: =SUM(J39:J46) -> 19370 | K47: =SUM(K39:K46) -> 0 | ... Q47: =SUM(Q39:Q46) -> 0 | S47: =SUM(S39:S46) -> 202458
A48: 中間市 | B48: ５０ | C48: 枚 数 | D48: =中間市・遠賀郡!$D$23 -> 860 | E48: =中間市・遠賀郡!$E$23 -> 0 | F48: =中間市・遠賀郡!$G$23 -> 1630 | G48: =中間市・遠賀郡!$H$23 -> 0 | H48: =中間市・遠賀郡!$J$23 -> 940 | I48: =中間市・遠賀郡!$K$23 -> 0 | J48: =中間市・遠賀郡!$M$23 -> 650 | K48: =中間市・遠賀郡!$N$23 -> 0 | L48: =中間市・遠賀郡!$P$23 -> 0 | M48: =中間市・遠賀郡!$Q$23 -> 0 | N48: =中間市・遠賀郡!$S$23 -> 0 | O48: =中間市・遠賀郡!$T$23 -> 0 | P48: =SUM(D48,F48,H48,J48,L48,N48) -> 4080 | Q48: =SUM(E48,G48,I48,K48,M48,O48) -> 0 | R48: 16 | S48: 20435
A49: 遠賀郡 | B49: ５１ | C49: 枚 数 | D49: =中間市・遠賀郡!$D$38 -> 3130 | E49: =中間市・遠賀郡!$E$38 -> 0 | F49: =中間市・遠賀郡!$G$38 -> 5190 | G49: =中間市・遠賀郡!$H$38 -> 0 | H49: =中間市・遠賀郡!$J$38 -> 3950 | I49: =中間市・遠賀郡!$K$38 -> 0 | J49: =中間市・遠賀郡!$M$38 -> 30 | K49: =中間市・遠賀郡!$N$38 -> 0 | L49: =中間市・遠賀郡!$P$38 -> 0 | M49: =中間市・遠賀郡!$Q$38 -> 0 | N49: =中間市・遠賀郡!$S$38 -> 0 | O49: =中間市・遠賀郡!$T$38 -> 0 | P49: =SUM(D49,F49,H49,J49,L49,N49) -> 12300 | Q49: =SUM(E49,G49,I49,K49,M49,O49) -> 0 | R49: 16 | S49: 43622
A50: 若松区 | B50: ６０ | C50: 枚 数 | D50: =若松区・八幡西区!$D$26 -> 2690 | E50: =若松区・八幡西区!$E$26 -> 0 | F50: =若松区・八幡西区!$G$26 -> 4490 | G50: =若松区・八幡西区!$H$26 -> 0 | H50: =若松区・八幡西区!$J$26 -> 4970 | I50: =若松区・八幡西区!$K$26 -> 0 | J50: =若松区・八幡西区!$M$26 -> 630 | K50: =若松区・八幡西区!$N$26 -> 0 | L50: =若松区・八幡西区!$P$26 -> 0 | M50: =若松区・八幡西区!$Q$26 -> 0 | N50: =若松区・八幡西区!$S$26 -> 0 | O50: =若松区・八幡西区!$T$26 -> 0 | P50: =SUM(D50,F50,H50,J50,L50,N50) -> 12780 | Q50: =SUM(E50,G50,I50,K50,M50,O50) -> 0 | R50: 17 | S50: 40089
A51: 八幡西区 | B51: ６１ | C51: 枚 数 | D51: =若松区・八幡西区!$D$57 -> 7830 | E51: =若松区・八幡西区!$E$57 -> 0 | F51: =若松区・八幡西区!$G$57 -> 14160 | G51: =若松区・八幡西区!$H$57 -> 0 | H51: =若松区・八幡西区!$J$57 -> 14230 | I51: =若松区・八幡西区!$K$57 -> 0 | J51: =若松区・八幡西区!$M$57 -> 1550 | K51: =若松区・八幡西区!$N$57 -> 0 | L51: =若松区・八幡西区!$P$57 -> 0 | M51: =若松区・八幡西区!$Q$57 -> 0 | N51: =若松区・八幡西区!$S$57 -> 0 | O51: =若松区・八幡西区!$T$57 -> 0 | P51: =SUM(D51,F51,H51,J51,L51,N51) -> 37770 | Q51: =SUM(E51,G51,I51,K51,M51,O51) -> 0 | R51: 17 | S51: 125668
A52: 八幡東区 | B52: ６２ | C52: 枚 数 | D52: =八幡東区・戸畑区!$D$23 -> 2750 | E52: =八幡東区・戸畑区!$E$23 -> 0 | F52: =八幡東区・戸畑区!$G$23 -> 4130 | G52: =八幡東区・戸畑区!$H$23 -> 0 | H52: =八幡東区・戸畑区!$J$23 -> 2100 | I52: =八幡東区・戸畑区!$K$23 -> 0 | J52: =八幡東区・戸畑区!$M$23 -> 0 | K52: =八幡東区・戸畑区!$N$23 -> 0 | L52: =八幡東区・戸畑区!$P$23 -> 0 | M52: =八幡東区・戸畑区!$Q$23 -> 0 | N52: =八幡東区・戸畑区!$S$23 -> 0 | O52: =八幡東区・戸畑区!$T$23 -> 0 | P52: =SUM(D52,F52,H52,J52,L52,N52) -> 8980 | Q52: =SUM(E52,G52,I52,K52,M52,O52) -> 0 | R52: 18 | S52: 33794
A53: 戸畑区 | B53: ６３ | C53: 枚 数 | D53: =八幡東区・戸畑区!$D$40 -> 1880 | E53: =八幡東区・戸畑区!$E$40 -> 0 | F53: =八幡東区・戸畑区!$G$40 -> 2860 | G53: =八幡東区・戸畑区!$H$40 -> 0 | H53: =八幡東区・戸畑区!$J$40 -> 1660 | I53: =八幡東区・戸畑区!$K$40 -> 0 | J53: =八幡東区・戸畑区!$M$40 -> 0 | K53: =八幡東区・戸畑区!$N$40 -> 0 | L53: =八幡東区・戸畑区!$P$40 -> 0 | M53: =八幡東区・戸畑区!$Q$40 -> 0 | N53: =八幡東区・戸畑区!$S$40 -> 0 | O53: =八幡東区・戸畑区!$T$40 -> 0 | P53: =SUM(D53,F53,H53,J53,L53,N53) -> 6400 | Q53: =SUM(E53,G53,I53,K53,M53,O53) -> 0 | R53: 18 | S53: 29393
A54: 小倉北区 | B54: ６４ | C54: 枚 数 | D54: =小倉北区・門司区!$D$38 -> 5870 | E54: =小倉北区・門司区!$E$38 -> 0 | F54: =小倉北区・門司区!$G$38 -> 11850 | G54: =小倉北区・門司区!$H$38 -> 0 | H54: =小倉北区・門司区!$J$38 -> 8870 | I54: =小倉北区・門司区!$K$38 -> 0 | J54: =小倉北区・門司区!$M$38 -> 0 | K54: =小倉北区・門司区!$N$38 -> 0 | L54: =小倉北区・門司区!$P$38 -> 0 | M54: =小倉北区・門司区!$Q$38 -> 0 | N54: =小倉北区・門司区!$S$38 -> 0 | O54: =小倉北区・門司区!$T$38 -> 0 | P54: =SUM(D54,F54,H54,J54,L54,N54) -> 26590 | Q54: =SUM(E54,G54,I54,K54,M54,O54) -> 0 | R54: 19 | S54: 104515
A55: 門司区 | B55: ６５ | C55: 枚 数 | D55: =小倉北区・門司区!$D$56 -> 6040 | E55: =小倉北区・門司区!$E$56 -> 0 | F55: =小倉北区・門司区!$G$56 -> 4420 | G55: =小倉北区・門司区!$H$56 -> 0 | H55: =小倉北区・門司区!$J$56 -> 5910 | I55: =小倉北区・門司区!$K$56 -> 0 | J55: =小倉北区・門司区!$M$56 -> 50 | K55: =小倉北区・門司区!$N$56 -> 0 | L55: =小倉北区・門司区!$P$56 -> 0 | M55: =小倉北区・門司区!$Q$56 -> 0 | N55: =小倉北区・門司区!$S$56 -> 0 | O55: =小倉北区・門司区!$T$56 -> 0 | P55: =SUM(D55,F55,H55,J55,L55,N55) -> 16420 | Q55: =SUM(E55,G55,I55,K55,M55,O55) -> 0 | R55: 19 | S55: 48354
A56: 小倉南区 | B56: ６６ | C56: 枚 数 | D56: =小倉南区・京都郡・行橋市!$D$32 -> 9370 | E56: =小倉南区・京都郡・行橋市!$E$32 -> 0 | F56: =小倉南区・京都郡・行橋市!$G$32 -> 10080 | G56: =小倉南区・京都郡・行橋市!$H$32 -> 0 | H56: =小倉南区・京都郡・行橋市!$J$32 -> 12060 | I56: =小倉南区・京都郡・行橋市!$K$32 -> 0 | J56: =小倉南区・京都郡・行橋市!$M$32 -> 0 | K56: =小倉南区・京都郡・行橋市!$N$32 -> 0 | L56: =小倉南区・京都郡・行橋市!$P$32 -> 0 | M56: =小倉南区・京都郡・行橋市!$Q$32 -> 0 | N56: =小倉南区・京都郡・行橋市!$S$32 -> 0 | O56: =小倉南区・京都郡・行橋市!$T$32 -> 0 | P56: =SUM(D56,F56,H56,J56,L56,N56) -> 31510 | Q56: =SUM(E56,G56,I56,K56,M56,O56) -> 0 | R56: 20 | S56: 104064
A57: 京都郡 | B57: ７０ | C57: 枚 数 | D57: =小倉南区・京都郡・行橋市!$D$42 -> 1200 | E57: =小倉南区・京都郡・行橋市!$E$42 -> 0 | F57: =小倉南区・京都郡・行橋市!$G$42 -> 4020 | G57: =小倉南区・京都郡・行橋市!$H$42 -> 0 | H57: =小倉南区・京都郡・行橋市!$J$42 -> 1670 | I57: =小倉南区・京都郡・行橋市!$K$42 -> 0 | J57: =小倉南区・京都郡・行橋市!$M$42 -> 0 | K57: =小倉南区・京都郡・行橋市!$N$42 -> 0 | L57: =小倉南区・京都郡・行橋市!$P$42 -> 0 | M57: =小倉南区・京都郡・行橋市!$Q$42 -> 0 | N57: =小倉南区・京都郡・行橋市!$S$42 -> 0 | O57: =小倉南区・京都郡・行橋市!$T$42 -> 0 | P57: =SUM(D57,F57,H57,J57,L57,N57) -> 6890 | Q57: =SUM(E57,G57,I57,K57,M57,O57) -> 0 | R57: 20 | S57: 27429
A58: 行橋市 | B58: ７１ | C58: 枚 数 | D58: =小倉南区・京都郡・行橋市!$D$52 -> 2780 | E58: =小倉南区・京都郡・行橋市!$E$52 -> 0 | F58: =小倉南区・京都郡・行橋市!$G$52 -> 5540 | G58: =小倉南区・京都郡・行橋市!$H$52 -> 0 | H58: =小倉南区・京都郡・行橋市!$J$52 -> 4510 | I58: =小倉南区・京都郡・行橋市!$K$52 -> 0 | J58: =小倉南区・京都郡・行橋市!$M$52 -> 0 | K58: =小倉南区・京都郡・行橋市!$N$52 -> 0 | L58: =小倉南区・京都郡・行橋市!$P$52 -> 0 | M58: =小倉南区・京都郡・行橋市!$Q$52 -> 0 | N58: =小倉南区・京都郡・行橋市!$S$52 -> 0 | O58: =小倉南区・京都郡・行橋市!$T$52 -> 0 | P58: =SUM(D58,F58,H58,J58,L58,N58) -> 12830 | Q58: =SUM(E58,G58,I58,K58,M58,O58) -> 0 | R58: 20 | S58: 35014
A59: 築上郡 | B59: ７２ | C59: 枚 数 | D59: =築上郡・豊前市!$D$19 -> 1920 | E59: =築上郡・豊前市!$E$19 -> 0 | F59: =築上郡・豊前市!$G$19 -> 1820 | G59: =築上郡・豊前市!$H$19 -> 0 | H59: =築上郡・豊前市!$J$19 -> 440 | I59: =築上郡・豊前市!$K$19 -> 0 | J59: =築上郡・豊前市!$M$19 -> 0 | K59: =築上郡・豊前市!$N$19 -> 0 | L59: =築上郡・豊前市!$P$19 -> 0 | M59: =築上郡・豊前市!$Q$19 -> 0 | N59: =築上郡・豊前市!$S$19 -> 0 | O59: =築上郡・豊前市!$T$19 -> 0 | P59: =SUM(D59,F59,H59,J59,L59,N59) -> 4180 | Q59: =SUM(E59,G59,I59,K59,M59,O59) -> 0 | R59: 21 | S59: 14791
A60: 豊前市 | B60: ７３ | C60: 枚 数 | D60: =築上郡・豊前市!$D$28 -> 1530 | E60: =築上郡・豊前市!$E$28 -> 0 | F60: =築上郡・豊前市!$G$28 -> 1550 | G60: =築上郡・豊前市!$H$28 -> 0 | H60: =築上郡・豊前市!$J$28 -> 1200 | I60: =築上郡・豊前市!$K$28 -> 0 | J60: =築上郡・豊前市!$M$28 -> 90 | K60: =築上郡・豊前市!$N$28 -> 0 | L60: =築上郡・豊前市!$P$28 -> 0 | M60: =築上郡・豊前市!$Q$28 -> 0 | N60: =築上郡・豊前市!$S$28 -> 0 | O60: =築上郡・豊前市!$T$28 -> 0 | P60: =SUM(D60,F60,H60,J60,L60,N60) -> 4370 | Q60: =SUM(E60,G60,I60,K60,M60,O60) -> 0 | R60: 21 | S60: 11676
A61: 北九州地計 | D61: =SUM(D48:D60) -> 47850 | E61: =SUM(E48:E60) -> 0 | F61: =SUM(F48:F60) -> 71740 | G61: =SUM(G48:G60) -> 0 | H61: =SUM(H48:H60) -> 62510 | I61: =SUM(I48:I60) -> 0 | J61: =SUM(J48:J60) -> 3000 | K61: =SUM(K48:K60) -> 0 | ... Q61: =SUM(Q48:Q60) -> 0 | S61: =SUM(S48:S60) -> 638844
A63: 合 計 | C63: 枚 数 | D63: =SUM(D17,D38,D47,D61) -> 151160 | E63: =SUM(E17,E38,E47,E61) -> 0 | F63: =SUM(F17,F38,F47,F61) -> 122030 | G63: =SUM(G17,G38,G47,G61) -> 0 | H63: =SUM(H17,H38,H47,H61) -> 106370 | I63: =SUM(I17,I38,I47,I61) -> 0 | J63: =SUM(J17,J38,J47,J61) -> 276100 | K63: =SUM(K17,K38,K47,K61) -> 0 | ... Q63: =SUM(Q17,Q38,Q47,Q61) -> 0 | S63: =SUM(S17,S38,S47,S61) -> 2591054

Sheet 大牟田市
B1: 久留米・佐賀営業所 | F1: 福 岡 県 コード ４０
M2: 46296 | O2: 大分折込株式会社
A4: スポンサー名 | F4: 請求先 | H4: 折 込 日 | K4: サイズ | L4: 枚 数 | O4: センター名 | Q4: No.
H5: 年 月 日 曜 | L5: =築上郡・豊前市!L5 -> 0
N6: 枚
B9: 銘 柄 | C9: 読 売 | F9: 朝 日 | I9: 毎 日 | L9: 西 日 本 | O9: 日 経
C10: コード ０１ | F10: コード ０２ | I10: コード ０３ | L10: コード ０８ | O10: コード ０５
A11: 市郡区 | C11: 店 名 | D11: 枚 数 | E11: 配 布 | F11: 店 名 | G11: 枚 数 | H11: 配 布 | I11: 店 名 | J11: 枚 数 | K11: 配 布 | L11: 店 名 | M11: 枚 数 | N11: 配 布 | O11: 店 名 | P11: 枚 数 | Q11: 配 布
A12: 大牟田市 | B12: 1 | C12: 大牟田駅西ANi | D12: 720 | F12: 大牟田中央YNi | G12: 2330 | I12: 中央 | J12: 220 | L12: 駅前S | M12: 2730
C13: 大牟田北ANi | D13: 900 | I13: 三川 | J13: 210 | L13: 三池・日の出S | M13: 1270
C14: 大牟田歴木A | D14: 610 | I14: 西部 | J14: 260 | L14: 銀水S | M14: 970
C15: 大牟田南部A | D15: 290 | I15: 大正町 | J15: 670 | L15: 吉野S | M15: 1440
C16: 大牟田三池ANi | D16: 770 | I16: 銀水・倉永 | J16: 650 | L16: 倉永 | M16: 840
C17: 大牟田銀水ANi | D17: 1670 | I17: 勝立 | J17: 50
A39: ■地区枚数■ | B39: =D41+G41+J41+M41+P41 -> 16600
A41: ■配布枚数■ | B41: =E41+H41+K41+N41+Q41 -> 0 | C41: ◆小 計◆ | D41: =SUM(D12:D40) -> 4960 | E41: =SUM(E12:E40) -> 0 | F41: ◆小 計◆ | G41: =SUM(G12:G40) -> 2330 | H41: =SUM(H12:H40) -> 0 | I41: ◆小 計◆ | J41: =SUM(J12:J40) -> 2060 | K41: =SUM(K12:K40) -> 0 | L41: ◆小 計◆ | M41: =SUM(M12:M40) -> 7250 | N41: =SUM(N12:N40) -> 0 | O41: ◆小 計◆ | P41: =SUM(P12:P40) -> 0 | Q41: =SUM(Q12:Q40) -> 0

Sheet みやま市・柳川市・大川市・三潴郡 
B1: 久留米・佐賀営業所 | F1: 福 岡 県 コード ４０
M2: 46296 | O2: 大分折込株式会社
A4: スポンサー名 | F4: 請求先 | H4: 折 込 日 | K4: サイズ | L4: 枚 数 | O4: センター名 | Q4: No.
H5: 年 月 日 曜 | L5: =築上郡・豊前市!L5 -> 0
N6: 枚
B9: 銘 柄 | C9: 読 売 | F9: 朝 日 | I9: 毎 日 | L9: 西 日 本 | O9: 日 経
C10: コード ０１ | F10: コード ０２ | I10: コード ０３ | L10: コード ０８ | O10: コード ０５
A11: 市郡区 | C11: 店 名 | D11: 枚 数 | E11: 配 布 | F11: 店 名 | G11: 枚 数 | H11: 配 布 | I11: 店 名 | J11: 枚 数 | K11: 配 布 | L11: 店 名 | M11: 枚 数 | N11: 配 布 | O11: 店 名 | P11: 枚 数 | Q11: 配 布
A12: みやま市 | B12: 3
C13: 高田南A | D13: 390 | I13: 高田 | J13: 180 | L13: 高田SNi | M13: 460
C14: 高田北 | D14: 110 | I14: 瀬高・筑後南部 | J14: 790 | L14: 瀬高ASNi | M14: 1770
C15: 瀬高 | D15: 980 | L15: 山川AMSNi | M15: 720
A22: ■地区枚数■ | B22: =D24+G24+J24+M24+P24 -> 5400
A24: ■配布枚数■ | B24: =E24+H24+K24+N24+Q24 -> 0 | C24: ◆小 計◆ | D24: =SUM(D12:D23) -> 1480 | E24: =SUM(E12:E23) -> 0 | F24: ◆小 計◆ | G24: =SUM(G12:G23) -> 0 | H24: =SUM(H12:H23) -> 0 | I24: ◆小 計◆ | J24: =SUM(J12:J23) -> 970 | K24: =SUM(K12:K23) -> 0 | L24: ◆小 計◆ | M24: =SUM(M12:M23) -> 2950 | N24: =SUM(N12:N23) -> 0 | O24: ◆小 計◆ | P24: =SUM(P12:P23) -> 0 | Q24: =SUM(Q12:Q23) -> 0
A26: 柳川市 | B26: 4 | C26: 柳川 | D26: 610 | I26: 柳川中央・東部 | J26: 570 | L26: 柳川AMSNi | M26: 1540
C27: 三橋 | D27: 510 | I27: 大和 | J27: 140 | L27: 柳川南部ASNi | M27: 1090
C28: 大和 | D28: 990 | L28: 柳川三橋ASNi | M28: 1670
L29: 大和ASNi | M29: 1670
A33: ■地区枚数■ | B33: =D35+G35+J35+M35+P35 -> 8790
A35: ■配布枚数■ | B35: =E35+H35+K35+N35+Q35 -> 0 | C35: ◆小 計◆ | D35: =SUM(D26:D34) -> 2110 | E35: =SUM(E26:E34) -> 0 | F35: ◆小 計◆ | G35: =SUM(G26:G34) -> 0 | H35: =SUM(H26:H34) -> 0 | I35: ◆小 計◆ | J35: =SUM(J26:J34) -> 710 | K35: =SUM(K26:K34) -> 0 | L35: ◆小 計◆ | M35: =SUM(M26:M34) -> 5970 | N35: =SUM(N26:N34) -> 0 | O35: ◆小 計◆ | P35: =SUM(P26:P34) -> 0 | Q35: =SUM(Q26:Q34) -> 0
A37: 大川市 | B37: 5 | C37: 大川 | D37: 940 | F37: 大川 | G37: 340 | I37: 大川SG | J37: 90 | L37: 大川SNi | M37: 3460
I38: 大川南部 | J38: 120
A44: ■地区枚数■ | B44: =D46+G46+J46+M46+P46 -> 4950
A46: ■配布枚数■ | B46: =E46+H46+K46+N46+Q46 -> 0 | C46: ◆小 計◆ | D46: =SUM(D37:D45) -> 940 | E46: =SUM(E37:E45) -> 0 | F46: ◆小 計◆ | G46: =SUM(G37:G45) -> 340 | H46: =SUM(H37:H45) -> 0 | I46: ◆小 計◆ | J46: =SUM(J37:J45) -> 210 | K46: =SUM(K37:K45) -> 0 | L46: ◆小 計◆ | M46: =SUM(M37:M45) -> 3460 | N46: =SUM(N37:N45) -> 0 | O46: ◆小 計◆ | P46: =SUM(P37:P45) -> 0 | Q46: =SUM(Q37:Q45) -> 0
A48: 三潴郡 | B48: 6 | C48: 大木 | D48: 500 | L48: 木佐木AMSNi | M48: 2060 | P48: 0
A54: ■地区枚数■ | B54: =D56+G56+J56+M56+P56 -> 2560
A56: ■配布枚数■ | B56: =E56+H56+K56+N56+Q56 -> 0 | C56: ◆小 計◆ | D56: =SUM(D48:D55) -> 500 | E56: =SUM(E48:E55) -> 0 | F56: ◆小 計◆ | G56: =SUM(G48:G55) -> 0 | H56: =SUM(H48:H55) -> 0 | I56: ◆小 計◆ | J56: =SUM(J48:J55) -> 0 | K56: =SUM(K48:K55) -> 0 | L56: ◆小 計◆ | M56: =SUM(M48:M55) -> 2060 | N56: =SUM(N48:N55) -> 0 | O56: ◆小 計◆ | P56: =SUM(P48:P55) -> 0 | Q56: =SUM(Q48:Q55) -> 0
C60: 2005年 3月21日、柳川市、山門郡大和町・三橋町が合併したことにより、市郡区が柳川市に変更になります。
C61: 2007年 1月29日、山門郡瀬高町・山川町、三池郡高田町 が合併したことにより、市郡区がみやま市に変更になります。

Sheet 筑後市・八女市郡
B1: 久留米・佐賀営業所 | F1: 福 岡 県 コード ４０
M2: 46296 | O2: 大分折込株式会社
A4: スポンサー名 | F4: 請求先 | H4: 折 込 日 | K4: サイズ | L4: 枚 数 | O4: センター名 | Q4: No.
H5: 年 月 日 曜 | L5: =築上郡・豊前市!L5 -> 0
N6: 枚
B9: 銘 柄 | C9: 読 売 | F9: 朝 日 | I9: 毎 日 | L9: 西 日 本 | O9: 日 経
C10: コード ０１ | F10: コード ０２ | I10: コード ０３ | L10: コード ０８ | O10: コード ０５
A11: 市郡区 | C11: 店 名 | D11: 枚 数 | E11: 配 布 | F11: 店 名 | G11: 枚 数 | H11: 配 布 | I11: 店 名 | J11: 枚 数 | K11: 配 布 | L11: 店 名 | M11: 枚 数 | N11: 配 布 | O11: 店 名 | P11: 枚 数 | Q11: 配 布
A12: 筑後市 | B12: 7 | C12: 羽犬塚 | D12: 1820 | I12: 筑後 | J12: 120 | L12: 羽犬塚ASNi | M12: 3050
C13: 羽犬塚西 | D13: 520 | L13: 筑後船小屋ASNi | M13: 1680
A23: ■地区枚数■ | B23: =D25+G25+J25+M25+P25 -> 7190
A25: ■配布枚数■ | B25: =E25+H25+K25+N25+Q25 -> 0 | C25: ◆小 計◆ | D25: =SUM(D12:D24) -> 2340 | E25: =SUM(E12:E24) -> 0 | F25: ◆小 計◆ | G25: =SUM(G12:G24) -> 0 | H25: =SUM(H12:H24) -> 0 | I25: ◆小 計◆ | J25: =SUM(J12:J24) -> 120 | K25: =SUM(K12:K24) -> 0 | L25: ◆小 計◆ | M25: =SUM(M12:M24) -> 4730 | N25: =SUM(N12:N24) -> 0 | O25: ◆小 計◆ | P25: =SUM(P12:P24) -> 0 | Q25: =SUM(Q12:Q24) -> 0
A27: 八女市 | B27: 8 | C27: 八女 | D27: 670 | L27: 福島AＭSNi | M27: 4140
C28: 上陽 | D28: 30 | L28: 山内ASNi | M28: 1010
C29: 黒木 | D29: 60 | L29: 上陽ASNi | M29: 500
C30: 星野 | D30: 20 | L30: 黒木AMSNi | M30: 1810
L31: 星野AMNi | M31: 220
A32: （旧 八女郡） | L32: 矢部YANi | M32: 110
L33: 八女南(合) | M33: 1390
A47: ■地区枚数■ | B47: =D49+G49+J49+M49+P49 -> 9960
A49: ■配布枚数■ | B49: =E49+H49+K49+N49+Q49 -> 0 | C49: ◆小 計◆ | D49: =SUM(D27:D48) -> 780 | E49: =SUM(E27:E48) -> 0 | F49: ◆小 計◆ | G49: =SUM(G27:G48) -> 0 | H49: =SUM(H27:H48) -> 0 | I49: ◆小 計◆ | J49: =SUM(J27:J48) -> 0 | K49: =SUM(K27:K48) -> 0 | L49: ◆小 計◆ | M49: =SUM(M27:M48) -> 9180 | N49: =SUM(N27:N48) -> 0 | O49: ◆小 計◆ | P49: =SUM(P27:P48) -> 0 | Q49: =SUM(Q27:Q48) -> 0
A51: 八女郡 | B51: 9 | C51: 広川 | D51: 240 | L51: 広川AMSNi | M51: 2720 | P51: 0
A55: ■地区枚数■ | B55: =D57+G57+J57+M57+P57 -> 2960
A57: ■配布枚数■ | B57: =E57+H57+K57+N57+Q57 -> 0 | C57: ◆小 計◆ | D57: =SUM(D51:D56) -> 240 | E57: =SUM(E51:E56) -> 0 | F57: ◆小 計◆ | G57: =SUM(G51:G56) -> 0 | H57: =SUM(H51:H56) -> 0 | I57: ◆小 計◆ | J57: =SUM(J51:J56) -> 0 | K57: =SUM(K51:K56) -> 0 | L57: ◆小 計◆ | M57: =SUM(M51:M56) -> 2720 | N57: =SUM(N51:N56) -> 0 | O57: ◆小 計◆ | P57: =SUM(P51:P56) -> 0 | Q57: =SUM(Q51:Q56) -> 0
C60: 2006年10月 1日、八女市、八女郡上陽町が合併したことにより、市郡区が八女市に変更になります。
C61: 2010年2月1日、八女市、八女郡黒木町・立花町・矢部村・星野村 が合併したことにより、市郡区が八女市に変更になります。

Sheet 久留米市三井郡・うきは市
B1: 久留米・佐賀営業所 | F1: 福 岡 県 コード ４０
M2: 46296 | O2: 大分折込株式会社
A4: スポンサー名 | F4: 請求先 | H4: 折 込 日 | K4: サイズ | L4: 枚 数 | O4: センター名 | Q4: No.
H5: 年 月 日 曜 | L5: =築上郡・豊前市!L5 -> 0
N6: 枚
B9: 銘 柄 | C9: 読 売 | F9: 朝 日 | I9: 毎 日 | L9: 西 日 本 | O9: 日 経 | R9: 福ポス
C10: コード ０１ | F10: コード ０２ | I10: コード ０３ | L10: コード ０８ | O10: コード ０５ | R10: コード 95
A11: 市郡区 | C11: 店 名 | D11: 枚 数 | E11: 配 布 | F11: 店 名 | G11: 枚 数 | H11: 配 布 | I11: 店 名 | J11: 枚 数 | K11: 配 布 | L11: 店 名 | M11: 枚 数 | N11: 配 布 | O11: 店 名 | P11: 枚 数 | Q11: 配 布 | R11: 店 名 | S11: 枚 数 | T11: 配 布
A12: 久留米市三井郡 | B12: 10 | C12: 中央 | D12: 330 | F12: 久留米中央Ni | G12: 660 | I12: 久留米東部 | J12: 430 | L12: 櫛原S | M12: 2480 | R12: 西国分① | S12: 200
C13: 国分 | D13: 1470 | F13: 久留米西部Ni | G13: 350 | I13: 津福 | J13: 50 | L13: 本町・津福S | M13: 1240 | R13: 西国分② | S13: 320
C14: 高良内 | D14: 640 | F14: 久留米北部Ni | G14: 750 | I14: 南部・国分・上津 | J14: 540 | L14: 花畑S | M14: 1090 | R14: 西国分③ | S14: 650
C15: 西部 | D15: 260 | F15: 津福Ni | G15: 260 | I15: 本町・城南 | J15: 30 | L15: 南町S | M15: 1070 | R15: 荘島 | S15: 300
C16: 久留米駅前 | D16: 600 | F16: 西町Ni | G16: 280 | I16: 三潴 | J16: 30 | L16: 野中・国分S | M16: 1370 | R16: 日吉① | S16: 200
C17: 合川 | D17: 1350 | F17: 久留米南部Ni | G17: 840 | L17: 御井高良内S | M17: 1040 | R17: 日吉② | S17: 400
C18: 梅満 | D18: 550 | F18: 城島Ni | G18: 100 | L18: 上津・荒木AMSNi | M18: 2620 | R18: 篠山 | S18: 200
C19: 津福 | D19: 640 | L19: 安武・大善寺AMSNi | M19: 1780 | R19: 京町① | S19: 450
C20: 田主丸 | D20: 130 | L20: 久留米インターASNi | M20: 1340 | R20: 南薫 | S20: 400
C21: 善導寺 | D21: 650 | L21: 宮の陣AMSNi | M21: 2930 | R21: 鳥飼① | S21: 200
C22: 荒木 | D22: 850 | L22: 善導寺AMSNi | M22: 1920 | R22: 金丸① | S22: 200
C23: 上津 | D23: 780 | L23: 京町・長門石MSNi | M23: 770 | R23: 金丸② | S23: 300
C24: 北野・大刀洗 | D24: 840 | L24: 三井金島AMSNi | M24: 1530 | R24: 東国分① | S24: 200
C25: 大善寺三潴 | D25: 1480 | L25: 田主丸ASNi | M25: 1430 | R25: 東国分② | S25: 320
L26: 西田主丸AMSNi | M26: 1220 | R26: 南① | S26: 340
L27: 三潴ASNi | M27: 1560 | R27: 南② | S27: 350
L28: 城島MS | M28: 1200 | R28: 合川 | S28: 400
R29: 山川 | S29: 100
R30: 上津 | S30: 350
R31: 宮ノ陣 | S31: 200
R32: 荒木 | S32: 490
R33: 善導寺 | S33: 300
R34: 青峰 | S34: 150
R35: 津福 | S35: 300
R36: 京町② | S36: 450
R37: 鳥飼② | S37: 150
A41: ■地区枚数■ | B41: =D43+G43+J43+M43+P43+S43 -> 49400
A43: ■配布枚数■ | B43: =E43+H43+K43+N43+Q43+T43 -> 0 | C43: ◆小 計◆ | D43: =SUM(D12:D42) -> 10570 | E43: =SUM(E12:E42) -> 0 | F43: ◆小 計◆ | G43: =SUM(G12:G42) -> 3240 | H43: =SUM(H12:H42) -> 0 | I43: ◆小 計◆ | J43: =SUM(J12:J42) -> 1080 | K43: =SUM(K12:K42) -> 0 | L43: ◆小 計◆ | M43: =SUM(M12:M42) -> 26590 | N43: =SUM(N12:N42) -> 0 | O43: ◆小 計◆ | P43: =SUM(P12:P42) -> 0 | Q43: =SUM(Q12:Q42) -> 0 | R43: ◆小 計◆ | S43: =SUM(S12:S42) -> 7920 | T43: =SUM(T12:T42) -> 0
A45: うきは市 | B45: 12 | C45: 吉井 | D45: 200 | L45: 吉井AMSNi | M45: 1990
C46: うきは | D46: 100 | L46: うきはAMNi | M46: 1290
C47: 大石 | D47: 70 | L47: 大石AMNi | M47: 740
A55: ■地区枚数■ | B55: =D57+G57+J57+M57+P57 -> 4390
A57: ■配布枚数■ | B57: =E57+H57+K57+N57+Q57 -> 0 | C57: ◆小 計◆ | D57: =SUM(D45:D56) -> 370 | E57: =SUM(E45:E56) -> 0 | F57: ◆小 計◆ | G57: =SUM(G45:G56) -> 0 | H57: =SUM(H45:H56) -> 0 | I57: ◆小 計◆ | L57: ◆小 計◆ | M57: =SUM(M45:M56) -> 4020 | N57: =SUM(N45:N56) -> 0 | O57: ◆小 計◆ | P57: =SUM(P45:P56) -> 0 | Q57: =SUM(Q45:Q56) -> 0 | R57: ◆小 計◆ | S57: =SUM(S45:S56) -> 0 | T57: =SUM(T45:T56) -> 0
C60: 2005年 2月 5日、久留米市、浮羽郡田主丸町、三井郡北野町、三潴郡城島町・三潴町 が合併することにより、市郡区が久留米三井に変更になります。
C61: 2005年 2月 5日、浮羽郡吉井町・浮羽町 が合併することにより、市郡区がうきは市に変更になります。

Sheet 朝倉市郡・小郡市
B1: 福岡営業所 | F1: 福 岡 県 コード ４０
M2: 46296 | O2: 大分折込株式会社
A4: スポンサー名 | E4: タイトル | I4: 請求先 | K4: 折 込 日 | N4: サイズ | O4: 枚 数 | R4: センター名 | T4: No.
K5: 年 月 日 曜 | O5: =築上郡・豊前市!L5 -> 0
Q6: 枚
B9: 銘 柄 | C9: 読 売 | F9: 朝 日 | I9: 毎 日 | L9: 西 日 本 | O9: 日 経 | R9: 福ポス
C10: コード ０１ | F10: コード ０２ | I10: コード ０３ | L10: コード ０８ | O10: コード ０５ | R10: コード 9５
A11: 市郡区 | C11: 店 名 | D11: 枚 数 | E11: 配 布 | F11: 店 名 | G11: 枚 数 | H11: 配 布 | I11: 店 名 | J11: 枚 数 | K11: 配 布 | L11: 店 名 | M11: 枚 数 | N11: 配 布 | O11: 店 名 | P11: 枚 数 | Q11: 配 布 | R11: 店 名 | S11: 枚 数 | T11: 配 布
A12: 朝倉郡 | B12: 13 | C12: 夜須M | D12: 610 | L12: 筑前・甘木ANiS | M12: 2210 | R12: 東小田 | S12: 120
L13: 宝珠山YAMNi | M13: 210 | R13: 三輪 | S13: 360
A24: ■地区枚数■ | B24: =D26+G26+J26+M26+P26+S26 -> 3510
A26: ■配布枚数■ | B26: =E26+H26+K26+N26+Q26+T26 -> 0 | C26: ◆小 計◆ | D26: =SUM(D12:D25) -> 610 | E26: =SUM(E12:E25) -> 0 | F26: ◆小 計◆ | G26: =SUM(G12:G25) -> 0 | H26: =SUM(H12:H25) -> 0 | I26: ◆小 計◆ | J26: =SUM(J12:J25) -> 0 | K26: =SUM(K12:K25) -> 0 | L26: ◆小 計◆ | M26: =SUM(M12:M25) -> 2420 | N26: =SUM(N12:N25) -> 0 | O26: ◆小 計◆ | P26: =SUM(P12:P25) -> 0 | Q26: =SUM(Q12:Q25) -> 0 | R26: ◆小 計◆ | S26: =SUM(S12:S25) -> 480 | T26: =SUM(T12:T25) -> 0
A28: 朝倉市 | B28: 14 | C28: 甘木 | D28: 1220 | L28: 甘木AMNiS | M28: 1160 | R28: 立石 | S28: 300
C29: 三輪甘木M | D29: 810 | L29: 甘木北AMNi | M29: 460
C30: 朝倉 | D30: 530 | L30: 甘木南AMNiS | M30: 340
L31: 朝倉町AMNiS | M31: 2540
L32: 杷木(合) | M32: 920
A38: ■地区枚数■ | B38: =D40+G40+J40+M40+P40+S40 -> 8280
A40: ■配布枚数■ | B40: =E40+H40+K40+N40+Q40+T40 -> 0 | C40: ◆小 計◆ | D40: =SUM(D28:D39) -> 2560 | E40: =SUM(E28:E39) -> 0 | F40: ◆小 計◆ | G40: =SUM(G28:G39) -> 0 | H40: =SUM(H28:H39) -> 0 | I40: ◆小 計◆ | J40: =SUM(J28:J39) -> 0 | K40: =SUM(K28:K39) -> 0 | L40: ◆小 計◆ | M40: =SUM(M28:M39) -> 5420 | N40: =SUM(N28:N39) -> 0 | O40: ◆小 計◆ | P40: =SUM(P28:P39) -> 0 | Q40: =SUM(Q28:Q39) -> 0 | R40: ◆小 計◆ | S40: =SUM(S28:S39) -> 300 | T40: =SUM(T28:T39) -> 0
A42: 小郡市 | B42: 15 | C42: 小郡 | D42: 820 | L42: 小郡AMNiS | M42: 3040 | R42: 小郡② | S42: 150
C43: 小郡三沢 | D43: 1000 | L43: 小郡三国AMNiS | M43: 3570 | R43: 小郡 | S43: 400
C44: 小郡山隈 | D44: 230 | L44: 小郡大刀洗AMNiS | M44: 1450 | R44: 大原小郡 | S44: 550
R45: 三国 | S45: 100
R46: 東野 | S46: 300
A54: ■地区枚数■ | B54: =D56+G56+J56+M56+P56+S56 -> 11610
A56: ■配布枚数■ | B56: =E56+H56+K56+N56+Q56+T56 -> 0 | C56: ◆小 計◆ | D56: =SUM(D42:D55) -> 2050 | E56: =SUM(E42:E55) -> 0 | F56: ◆小 計◆ | G56: =SUM(G42:G55) -> 0 | H56: =SUM(H42:H55) -> 0 | I56: ◆小 計◆ | J56: =SUM(J42:J55) -> 0 | K56: =SUM(K42:K55) -> 0 | L56: ◆小 計◆ | M56: =SUM(M42:M55) -> 8060 | N56: =SUM(N42:N55) -> 0 | O56: ◆小 計◆ | P56: =SUM(P42:P55) -> 0 | Q56: =SUM(Q42:Q55) -> 0 | R56: ◆小 計◆ | S56: =SUM(S42:S55) -> 1500 | T56: =SUM(T42:T55) -> 0
C61: 2006年3月20日、甘木市、朝倉郡杷木町・朝倉町 が合併したことにより、市郡区が朝倉市に変更になります。

Sheet 筑紫野・那珂川市・太宰府・大野城市
B1: 福岡営業所 | F1: 福 岡 県 コード ４０
M2: 46296 | O2: 大分折込株式会社
A4: スポンサー名 | E4: タイトル | I4: 請求先 | K4: 折 込 日 | N4: サイズ | O4: 枚 数 | R4: センター名 | T4: No.
K5: 年 月 日 曜 | O5: =築上郡・豊前市!L5 -> 0
Q6: 枚
B9: 銘 柄 | C9: 読 売 | F9: 朝 日 | I9: 毎 日 | L9: 西 日 本 | O9: 日 経 | R9: 福ポス
C10: コード ０１ | F10: コード ０２ | I10: コード ０３ | L10: コード ０８ | O10: コード ０５ | R10: コード 9５
A11: 市郡区 | C11: 店 名 | D11: 枚 数 | E11: 配 布 | F11: 店 名 | G11: 枚 数 | H11: 配 布 | I11: 店 名 | J11: 枚 数 | K11: 配 布 | L11: 店 名 | M11: 枚 数 | N11: 配 布 | O11: 店 名 | P11: 枚 数 | Q11: 配 布 | R11: 店 名 | S11: 枚 数 | T11: 配 布
A12: 筑紫野市 | B12: 16 | C12: 二日市 | D12: 1660 | I12: 二日市 | J12: 950 | L12: 二日市AS | M12: 2790 | O12: 二日市 | P12: 230 | R12: 原田(筑 | S12: 250
C13: 二日市東 | D13: 450 | I13: 筑紫 | J13: 930 | L13: 二日市東AS | M13: 2030 | O13: 二日市東 | P13: 110 | R13: 筑紫 | S13: 150
C14: 筑紫 | D14: 580 | L14: 筑紫野南ANi | M14: 660 | O14: 朝倉街道･太宰府南 | P14: 180 | R14: 二日市東① | S14: 250
C15: 美しが丘 | D15: 280 | L15: 朝倉街道･太宰府南AS | M15: 3050 | O15: 美しが丘 | P15: 210 | R15: 二日市東② | S15: 1800
L16: 美しが丘AS | M16: 2780 | R16: 二日市東③ | S16: 900
R17: 二日市① | S17: 400
R18: 二日市② | S18: 480
R19: 二日市北 | S19: 1800
R20: 筑紫東 | S20: 100
A23: ■地区枚数■ | B23: =D25+G25+J25+M25+P25+S25 -> 23020
A25: ■配布枚数■ | B25: =E25+H25+K25+N25+Q25+T25 -> 0 | C25: ◆小 計◆ | D25: =SUM(D12:D24) -> 2970 | E25: =SUM(E12:E24) -> 0 | F25: ◆小 計◆ | G25: =SUM(G12:G24) -> 0 | H25: =SUM(H12:H24) -> 0 | I25: ◆小 計◆ | J25: =SUM(J12:J24) -> 1880 | K25: =SUM(K12:K24) -> 0 | L25: ◆小 計◆ | M25: =SUM(M12:M24) -> 11310 | N25: =SUM(N12:N24) -> 0 | O25: ◆小 計◆ | P25: =SUM(P12:P24) -> 730 | Q25: =SUM(Q12:Q24) -> 0 | R25: ◆小 計◆ | S25: =SUM(S12:S24) -> 6130 | T25: =SUM(T12:T24) -> 0
A27: 那珂川市 | B27: 17 | C27: 那珂川 | D27: 730 | F27: 那珂川 | G27: 380 | I27: 那珂川 | J27: 350 | L27: 那珂川S | M27: 1800 | O27: 那珂川 | P27: 190 | R27: 安徳北 | S27: 350
A28: (旧筑紫郡) | L28: 那珂川西S | M28: 1500 | R28: 岩戸北 | S28: 100
A33: ■地区枚数■ | B33: =D35+G35+J35+M35+P35+S35 -> 5400
A35: ■配布枚数■ | B35: =E35+H35+K35+N35+Q35+T35 -> 0 | C35: ◆小 計◆ | D35: =SUM(D27:D34) -> 730 | E35: =SUM(E27:E34) -> 0 | F35: ◆小 計◆ | G35: =SUM(G27:G34) -> 380 | H35: =SUM(H27:H34) -> 0 | I35: ◆小 計◆ | J35: =SUM(J27:J34) -> 350 | K35: =SUM(K27:K34) -> 0 | L35: ◆小 計◆ | M35: =SUM(M27:M34) -> 3300 | N35: =SUM(N27:N34) -> 0 | O35: ◆小 計◆ | P35: =SUM(P27:P34) -> 190 | Q35: =SUM(Q27:Q34) -> 0 | R35: ◆小 計◆ | S35: =SUM(S27:S34) -> 450 | T35: =SUM(T27:T34) -> 0
A37: 太宰府市 | B37: 18 | C37: 太宰府 | D37: 1400 | F37: 大野南部 | G37: 200 | I37: 水城 | J37: 300 | L37: 太宰府西AS | M37: 1100 | O37: 太宰府西 | P37: 100 | R37: 国分 | S37: 650
F38: 大野中央 | G38: 200 | I38: 太宰府 | J38: 450 | L38: 水城･都府楼･下大利AS | M38: 4760 | O38: 水城・都府楼 | P38: 310 | R38: 水城 | S38: 500
R39: 水城西 | S39: 850
R40: 太宰府西① | S40: 100
R41: 太宰府西② | S41: 60
R42: 太宰府 | S42: 1000
R43: 太宰府南 | S43: 450
R44: 太宰府東 | S44: 300
A45: ■地区枚数■ | B45: =D47+G47+J47+M47+P47+S47 -> 12730
A47: ■配布枚数■ | B47: =E47+H47+K47+N47+Q47+T47 -> 0 | C47: ◆小 計◆ | D47: =SUM(D37:D46) -> 1400 | E47: =SUM(E37:E46) -> 0 | F47: ◆小 計◆ | G47: =SUM(G37:G46) -> 400 | H47: =SUM(H37:H46) -> 0 | I47: ◆小 計◆ | J47: =SUM(J37:J46) -> 750 | K47: =SUM(K37:K46) -> 0 | L47: ◆小 計◆ | M47: =SUM(M37:M46) -> 5860 | N47: =SUM(N37:N46) -> 0 | O47: ◆小 計◆ | P47: =SUM(P37:P46) -> 410 | Q47: =SUM(Q37:Q46) -> 0 | R47: ◆小 計◆ | S47: =SUM(S37:S46) -> 3910 | T47: =SUM(T37:T46) -> 0
A49: 大野城市 | B49: 19 | C49: 南ヶ丘 | D49: 2370 | F49: 月隈麦野大野白木 | G49: 2410 | I49: 南ヶ丘 | J49: 700 | L49: 大野南S | M49: 1000 | O49: 大野南 | P49: 110 | R49: 平野② | S49: 150
C50: 大野城中央 | D50: 760 | I50: 大野城 | J50: 700 | L50: 大野西S | M50: 1150 | O50: 大野西 | P50: 80 | R50: 平野③ | S50: 50
C51: 大野城東部 | D51: 690 | I51: 大野東部 | J51: 250 | L51: 白木原S | M51: 1340 | O51: 白木原 | P51: 160 | R51: 下大利 | S51: 2100
L52: 春日原・大野城S | M52: 2590 | O52: 若草・月の浦 | P52: 40 | R52: 大利① | S52: 150
O53: 大野城北部 | P53: 540 | R53: 大利② | S53: 710
R54: 月の浦 | S54: 450
R55: 大野① | S55: 1600
R56: 大野② | S56: 900
R57: 大野東 | S57: 360
R58: 大野北 | S58: 150
R59: 大野南 | S59: 520
A60: ■地区枚数■ | B60: =D62+G62+J62+M62+P62+S62 -> 22530 | R60: 平野① | S60: 500
A62: ■配布枚数■ | B62: =E62+H62+K62+N62+Q62+T62 -> 0 | C62: ◆小 計◆ | D62: =SUM(D49:D61) -> 3820 | E62: =SUM(E49:E61) -> 0 | F62: ◆小 計◆ | G62: =SUM(G49:G61) -> 2410 | H62: =SUM(H49:H61) -> 0 | I62: ◆小 計◆ | J62: =SUM(J49:J61) -> 1650 | K62: =SUM(K49:K61) -> 0 | L62: ◆小 計◆ | M62: =SUM(M49:M61) -> 6080 | N62: =SUM(N49:N61) -> 0 | O62: ◆小 計◆ | P62: =SUM(P49:P61) -> 930 | Q62: =SUM(Q49:Q61) -> 0 | R62: ◆小 計◆ | S62: =SUM(S49:S61) -> 7640 | T62: =SUM(T49:T61) -> 0
C63: 2018年10月01日、那珂川町の廃止により、筑紫郡が那珂川市に変更になります。

Sheet 春日市・糸島市・西区
B1: 福岡営業所 | F1: 福 岡 県 コード ４０
M2: 46296 | O2: 大分折込株式会社
A4: スポンサー名 | E4: タイトル | I4: 請求先 | K4: 折 込 日 | N4: サイズ | O4: 枚 数 | R4: センター名 | T4: No.
K5: 年 月 日 曜 | O5: =築上郡・豊前市!L5 -> 0
Q6: 枚
B9: 銘 柄 | C9: 読 売 | F9: 朝 日 | I9: 毎 日 | L9: 西 日 本 | O9: 日 経 | R9: 福ポス
C10: コード ０１ | F10: コード ０２ | I10: コード ０３ | L10: コード ０８ | O10: コード ０５ | R10: コード 9５
A11: 市郡区 | C11: 店 名 | D11: 枚 数 | E11: 配 布 | F11: 店 名 | G11: 枚 数 | H11: 配 布 | I11: 店 名 | J11: 枚 数 | K11: 配 布 | L11: 店 名 | M11: 枚 数 | N11: 配 布 | O11: 店 名 | P11: 枚 数 | Q11: 配 布 | R11: 店 名 | S11: 枚 数 | T11: 配 布
A12: 春日市 | B12: 20 | C12: 春日原 | D12: 1000 | F12: 春日北部 | G12: 1050 | I12: 春日北部 | J12: 250 | L12: 春日北紅葉丘西ﾁｸｼ台S | M12: 3170 | O12: 春日 | P12: 590 | R12: 須玖 | S12: 400
C13: 春日中央 | D13: 1120 | F13: 春日南部 | G13: 1000 | I13: 春日南部 | J13: 300 | L13: 春日西S | M13: 1900 | R13: 白水 | S13: 300
C14: 春日西 | D14: 900 | I14: 春日原 | J14: 400 | L14: 春日南S | M14: 1580 | R14: 春日北 | S14: 550
I15: 春日西部 | J15: 100 | R15: 春日南 | S15: 250
R16: 大谷 | S16: 300
R17: 天神山 | S17: 70
R18: 春日東 | S18: 60
R19: 春日原 | S19: 250
R20: 春日野 | S20: 500
R21: 日の出 | S21: 1250
A22: ■地区枚数■ | B22: =D24+G24+J24+M24+P24+S24 -> 17490 | R22: 春日西 | S22: 200
A24: ■配布枚数■ | B24: =E24+H24+K24+N24+Q24+T24 -> 0 | C24: ◆小 計◆ | D24: =SUM(D12:D23) -> 3020 | E24: =SUM(E12:E23) -> 0 | F24: ◆小 計◆ | G24: =SUM(G12:G23) -> 2050 | H24: =SUM(H12:H23) -> 0 | I24: ◆小 計◆ | J24: =SUM(J12:J23) -> 1050 | K24: =SUM(K12:K23) -> 0 | L24: ◆小 計◆ | M24: =SUM(M12:M23) -> 6650 | N24: =SUM(N12:N23) -> 0 | O24: ◆小 計◆ | P24: =SUM(P12:P23) -> 590 | Q24: =SUM(Q12:Q23) -> 0 | R24: ◆小 計◆ | S24: =SUM(S12:S23) -> 4130 | T24: =SUM(T12:T23) -> 0
A26: 糸島市 | B26: 21 | C26: 糸島 | D26: 710 | L26: 周船寺波多江志摩AMS | M26: 4740 | O26: 周船寺・波多江・志摩 | P26: 220 | R26: 波多江 | S26: 500
C27: 志摩 | D27: 140 | L27: 前原上町AMS | M27: 2080 | O27: 前原上町 | P27: 70 | R27: 前原 | S27: 150
C28: 志摩西 | D28: 50 | L28: 前原駅前AMS | M28: 2350 | O28: 前原駅前 | P28: 130 | R28: 前原南 | S28: 500
L29: 加布里AMS | M29: 1170 | O29: 加布里 | P29: 30 | R29: 東風 | S29: 150
L30: 深江AMS | M30: 740 | O30: 深江 | P30: 30 | R30: 南風 | S30: 100
L31: 福吉YAMS | M31: 450 | O31: 福吉 | P31: 20
A36: ■地区枚数■ | B36: =D38+G38+J38+M38+P38+S38 -> 14330
A38: ■配布枚数■ | B38: =E38+H38+K38+N38+Q38+T38 -> 0 | C38: ◆小 計◆ | D38: =SUM(D26:D37) -> 900 | E38: =SUM(E26:E37) -> 0 | F38: ◆小 計◆ | G38: =SUM(G26:G37) -> 0 | H38: =SUM(H26:H37) -> 0 | I38: ◆小 計◆ | J38: =SUM(J26:J37) -> 0 | K38: =SUM(K26:K37) -> 0 | L38: ◆小 計◆ | M38: =SUM(M26:M37) -> 11530 | N38: =SUM(N26:N37) -> 0 | O38: ◆小 計◆ | P38: =SUM(P26:P37) -> 500 | Q38: =SUM(Q26:Q37) -> 0 | R38: ◆小 計◆ | S38: =SUM(S26:S37) -> 1400 | T38: =SUM(T26:T37) -> 0
A40: 西区 | B40: 30 | C40: 姪の浜・室見 | D40: 1580 | F40: 姪浜 | G40: 2050 | I40: 姪ノ浜 | J40: 430 | L40: 姪ノ浜S | M40: 810 | O40: 姪浜・室見 | P40: 1020 | R40: 愛宕① | S40: 1520
C41: 野方･橋本･姪浜西 | D41: 1280 | F41: 野方・橋本 | G41: 650 | I41: 野方・橋本・生松台 | J41: 900 | L41: 姪浜駅南･愛宕浜S | M41: 2550 | O41: 野方・橋本 | P41: 280 | R41: 愛宕② | S41: 1500
C42: 今宿・学研都市 | D42: 760 | L42: 野方S | M42: 1220 | O42: 九大学研都市 | P42: 140 | R42: 愛宕浜 | S42: 300
C43: 周船寺 | D43: 950 | L43: 拾六町上山門S | M43: 1740 | O43: 今宿 | P43: 120 | R43: 姪浜 | S43: 400
L44: 四箇田南S | M44: 810 | R44: 姪北 | S44: 350
L45: 今宿AMS | M45: 1510 | R45: 今宿 | S45: 250
L46: 福重・姪浜西S | M46: 1500 | R46: 周船寺 | S46: 120
L47: 九大学研都市AMS | M47: 2410 | R47: 西都① | S47: 10
R48: 福重 | S48: 600
R49: 西都② | S49: 10
R50: 石丸 | S50: 600
R51: 福重② | S51: 650
R52: 壱岐南 | S52: 100
R53: 壱岐東 | S53: 600
R54: 下山門 | S54: 250
R55: 城原 | S55: 600
R56: 西陵 | S56: 600
R57: 壱岐 | S57: 600
R58: 内浜 | S58: 150
R59: 内浜② | S59: 500
... R63: 西都北② | S63: 60
A64: ■地区枚数■ | B64: =SUM(D66,G66,J66,M66,P66,S66) -> 32610
A66: ■配布枚数■ | B66: =E66+H66+K66+N66+Q66+T66 -> 0 | C66: ◆小 計◆ | D66: =SUM(D40:D65) -> 4570 | E66: =SUM(E40:E65) -> 0 | F66: ◆小 計◆ | G66: =SUM(G40:G65) -> 2700 | H66: =SUM(H40:H65) -> 0 | I66: ◆小 計◆ | J66: =SUM(J40:J65) -> 1330 | K66: =SUM(K40:K65) -> 0 | L66: ◆小 計◆ | M66: =SUM(M40:M65) -> 12550 | N66: =SUM(N40:N65) -> 0 | O66: ◆小 計◆ | P66: =SUM(P40:P65) -> 1560 | Q66: =SUM(Q40:Q65) -> 0 | R66: ◆小 計◆ | S66: =SUM(S40:S65) -> 9900 | T66: =SUM(T40:T65) -> 0
C68: 2010年1月1日、前原市、糸島郡二丈町・志摩町 が合併したことにより、市郡区が糸島市に変更になります。

Sheet 早良区・城南区
B1: 福岡営業所 | F1: 福 岡 県 コード ４０
M2: 46296 | O2: 大分折込株式会社
A4: スポンサー名 | E4: タイトル | I4: 請求先 | K4: 折 込 日 | N4: サイズ | O4: 枚 数 | R4: センター名 | T4: No.
K5: 年 月 日 曜 | O5: =築上郡・豊前市!L5 -> 0
Q6: 枚
B9: 銘 柄 | C9: 読 売 | F9: 朝 日 | I9: 毎 日 | L9: 西 日 本 | O9: 日 経 | R9: 福ポス
C10: コード ０１ | F10: コード ０２ | I10: コード ０３ | L10: コード ０８ | O10: コード ０５ | R10: コード 9５
A11: 市郡区 | C11: 店 名 | D11: 枚 数 | E11: 配 布 | F11: 店 名 | G11: 枚 数 | H11: 配 布 | I11: 店 名 | J11: 枚 数 | K11: 配 布 | L11: 店 名 | M11: 枚 数 | N11: 配 布 | O11: 店 名 | P11: 枚 数 | Q11: 配 布 | R11: 店 名 | S11: 枚 数 | T11: 配 布
A12: 早良区 | B12: 31 | C12: 西新 | D12: 390 | F12: 西新・原中央・城南 | G12: 1950 | I12: 原 | J12: 200 | L12: 西新・鳥飼S | M12: 2310 | O12: 西新・荒江 | P12: 2010 | R12: 田村② | S12: 50
C13: 百道 | D13: 300 | F13: 原西部 | G13: 550 | I13: 西新町 | J13: 400 | L13: 藤崎S | M13: 3450 | O13: 原・野芥 | P13: 550 | R13: 野芥② | S13: 50
C14: 荒江・藤崎 | D14: 1310 | F14: 原・野芥 | G14: 1400 | I14: 原西部 | J14: 100 | L14: 飯倉S | M14: 1190 | O14: 早良 | P14: 50 | R14: 大原早良② | S14: 220
C15: 原 | D15: 1260 | I15: 星の原 | J15: 300 | L15: 原北S | M15: 1960 | R15: 原西① | S15: 600
C16: 野芥･次郎丸 | D16: 1260 | I16: 田隈A | J16: 600 | L16: 有田・野芥S | M16: 2010 | R16: 原北 | S16: 100
C17: 野芥南・四箇田 | D17: 660 | L17: 田隈・四箇田S | M17: 2120 | R17: 四箇田 | S17: 450
L18: 早良S | M18: 1180 | R18: 田村 | S18: 800
R19: 有住 | S19: 600
R20: 有田① | S20: 700
R21: 有田② | S21: 400
R22: 原 | S22: 800
R23: 大原早良 | S23: 350
R24: 飯倉中央 | S24: 440
R25: 田隈 | S25: 150
R26: 田隈② | S26: 50
R27: 飯原 | S27: 360
R28: 飯倉① | S28: 400
R29: 賀茂① | S29: 450
R30: 賀茂② | S30: 480
... R38: 飯倉② | S38: 300
A39: ■地区枚数■ | B39: =SUM(D42,G42,J42,M42,P42,S42) -> 39100 | R39: 原西② | S39: 330
R40: 小田部 | S40: 500
A42: ■配布枚数■ | B42: =E42+H42+K42+N42+Q42+T42 -> 0 | C42: ◆小 計◆ | D42: =SUM(D12:D40) -> 5180 | E42: =SUM(E12:E40) -> 0 | F42: ◆小 計◆ | G42: =SUM(G12:G40) -> 3900 | H42: =SUM(H12:H40) -> 0 | I42: ◆小 計◆ | J42: =SUM(J12:J40) -> 1600 | K42: =SUM(K12:K40) -> 0 | L42: ◆小 計◆ | M42: =SUM(M12:M40) -> 14220 | N42: =SUM(N12:N40) -> 0 | O42: ◆小 計◆ | P42: =SUM(P12:P40) -> 2610 | Q42: =SUM(Q12:Q40) -> 0 | R42: ◆小 計◆ | S42: =SUM(S12:S40) -> 11590 | T42: =SUM(T12:T40) -> 0
A44: 城南区 | B44: 32 | C44: 別府・田島 | D44: 540 | F44: 長尾・片江 | G44: 580 | I44: 別府 | J44: 200 | L44: 別府S | M44: 1340 | O44: 長尾・片江 | P44: 240 | R44: 堤② | S44: 200
C45: 城南学園通 | D45: 2400 | F45: 七隈 | G45: 200 | I45: 福大前 | J45: 600 | L45: 七隈・茶山AS | M45: 2570 | O45: 七隈・茶山 | P45: 70 | R45: 堤丘② | S45: 120
I46: 梅林A | J46: 290 | L46: 笹丘・田島AS | M46: 1380 | O46: 堤 | P46: 60 | R46: 南片江② | S46: 120
I47: 樋井川 | J47: 900 | L47: 長尾・片江S | M47: 2390 | O47: 樋井川 | P47: 50 | R47: 堤 | S47: 300
L48: 樋井川AS | M48: 810 | R48: 長尾① | S48: 750
L49: 堤AS | M49: 1160 | R49: 堤丘 | S49: 400
R50: 城南 | S50: 150
R51: 田島 | S51: 460
R52: 別府 | S52: 300
R53: 七隈① | S53: 800
R54: 七隈② | S54: 680
R55: 片江 | S55: 870
R56: 金山 | S56: 900
A57: ■地区枚数■ | B57: =D60+G60+J60+M60+P60+S60 -> 22430 | R57: 鳥飼 | S57: 500
R58: 南片江 | S58: 100
A60: ■配布枚数■ | B60: =E60+H60+K60+N60+Q60+T60 -> 0 | C60: ◆小 計◆ | D60: =SUM(D44:D58) -> 2940 | E60: =SUM(E44:E58) -> 0 | F60: ◆小 計◆ | G60: =SUM(G44:G58) -> 780 | H60: =SUM(H44:H58) -> 0 | I60: ◆小 計◆ | J60: =SUM(J44:J58) -> 1990 | K60: =SUM(K44:K58) -> 0 | L60: ◆小 計◆ | M60: =SUM(M44:M58) -> 9650 | N60: =SUM(N44:N58) -> 0 | O60: ◆小 計◆ | P60: =SUM(P44:P58) -> 420 | Q60: =SUM(Q44:Q58) -> 0 | R60: ◆小 計◆ | S60: =SUM(S44:S58) -> 6650 | T60: =SUM(T44:T58) -> 0

Sheet 南区
B1: 福岡営業所 | F1: 福 岡 県 コード ４０
M2: 46296 | O2: 大分折込株式会社
A4: スポンサー名 | E4: タイトル | I4: 請求先 | K4: 折 込 日 | N4: サイズ | O4: 枚 数 | R4: センター名 | T4: No.
K5: 年 月 日 曜 | O5: =築上郡・豊前市!L5 -> 0
Q6: 枚
B9: 銘 柄 | C9: 読 売 | F9: 朝 日 | I9: 毎 日 | L9: 西 日 本 | O9: 日 経 | R9: 福ポス
C10: コード ０１ | F10: コード ０２ | I10: コード ０３ | L10: コード ０８ | O10: コード ０５ | R10: コード 9５
A11: 市郡区 | C11: 店 名 | D11: 枚 数 | E11: 配 布 | F11: 店 名 | G11: 枚 数 | H11: 配 布 | I11: 店 名 | J11: 枚 数 | K11: 配 布 | L11: 店 名 | M11: 枚 数 | N11: 配 布 | O11: 店 名 | P11: 枚 数 | Q11: 配 布 | R11: 店 名 | S11: 枚 数 | T11: 配 布
A12: 南区 | B12: 33 | C12: 野間・高宮 | D12: 480 | F12: 大橋北部 | G12: 800 | I12: 長住 | J12: 790 | L12: 野間S | M12: 600 | O12: 高宮･大橋 | P12: 1240 | R12: 横手 | S12: 200
C13: 長住 | D13: 2460 | F13: 大橋中部 | G13: 2200 | I13: 若久 | J13: 250 | L13: 花畑・長住AS | M13: 6050 | O13: 花畑・長住 | P13: 240 | R13: 曰佐 | S13: 300
C14: 大橋 | D14: 340 | F14: 大橋南部 | G14: 240 | I14: 屋形原 | J14: 700 | L14: 大楠･平尾南S | M14: 3180 | O14: 井尻・横手 | P14: 170 | R14: 弥永 | S14: 900
C15: 野多目･老司 | D15: 700 | F15: 弥永・警弥郷 | G15: 250 | I15: 大橋 | J15: 450 | L15: 大橋・三宅S | M15: 3240 | O15: 弥永・警弥郷 | P15: 60 | R15: 花畑 | S15: 890
C16: 大橋南部 | D16: 1870 | F16: 井尻・横手 | G16: 420 | I16: 大橋東部・高宮 | J16: 310 | L16: 井尻南・弥永・老司S | M16: 3240 | O16: 大橋中部・南部 | P16: 220 | R16: 塩原 | S16: 450
I17: 井尻 | J17: 200 | R17: 西高宮 | S17: 400
R18: 大楠 | S18: 400
R19: 大池 | S19: 400
R20: 東花畑 | S20: 210
R21: 東若久 | S21: 110
R22: 西長住 | S22: 400
R23: 長住 | S23: 400
R24: 長丘 | S24: 400
R25: 三宅 | S25: 900
R26: 野多目 | S26: 400
R27: 筑紫丘 | S27: 600
R28: 若久 | S28: 500
R29: 柏原 | S29: 530
... R36: 老司 | S36: 750
A51: ■地区枚数■ | B51: =D53+G53+J53+M53+P53+S53 -> 43960
A53: ■配布枚数■ | B53: =E53+H53+K53+N53+Q53+T53 -> 0 | C53: ◆小 計◆ | D53: =SUM(D12:D52) -> 5850 | E53: =SUM(E12:E52) -> 0 | F53: ◆小 計◆ | G53: =SUM(G12:G52) -> 3910 | H53: =SUM(H12:H52) -> 0 | I53: ◆小 計◆ | J53: =SUM(J12:J52) -> 2700 | K53: =SUM(K12:K52) -> 0 | L53: ◆小 計◆ | M53: =SUM(M12:M52) -> 16310 | N53: =SUM(N12:N52) -> 0 | O53: ◆小 計◆ | P53: =SUM(P12:P52) -> 1930 | Q53: =SUM(Q12:Q52) -> 0 | R53: ◆小 計◆ | S53: =SUM(S12:S52) -> 13260 | T53: =SUM(T12:T52) -> 0

Sheet 中央区・博多区
B1: 福岡営業所 | F1: 福 岡 県 コード ４０
M2: 46296 | O2: 大分折込株式会社
A4: スポンサー名 | E4: タイトル | I4: 請求先 | K4: 折 込 日 | N4: サイズ | O4: 枚 数 | R4: センター名 | T4: No.
K5: 年 月 日 曜 | O5: =築上郡・豊前市!L5 -> 0
Q6: 枚
B9: 銘 柄 | C9: 読 売 | F9: 朝 日 | I9: 毎 日 | L9: 西 日 本 | O9: 日 経 | R9: 福ポス
C10: コード ０１ | F10: コード ０２ | I10: コード ０３ | L10: コード ０８ | O10: コード ０５ | R10: コード 9５
A11: 市郡区 | C11: 店 名 | D11: 枚 数 | E11: 配 布 | F11: 店 名 | G11: 枚 数 | H11: 配 布 | I11: 店 名 | J11: 枚 数 | K11: 配 布 | L11: 店 名 | M11: 枚 数 | N11: 配 布 | O11: 店 名 | P11: 枚 数 | Q11: 配 布 | R11: 店 名 | S11: 枚 数 | T11: 配 布
A12: 中央区 | B12: 34 | C12: 天神・舞鶴 | D12: 310 | F12: 平尾・薬院 | G12: 530 | I12: 舞鶴・大手門 | J12: 350 | L12: 天神・舞鶴AS | M12: 1350 | O12: 天神・渡辺 | P12: 1480 | R12: 笹丘① | S12: 400
C13: 平尾・薬院 | D13: 1690 | F13: 今川・草ヶ江 | G13: 700 | I13: 平尾・薬院 | J13: 800 | L13: 薬院・けやき通りAS | M13: 2810 | O13: 大濠・大手門 | P13: 1000 | R13: 笹丘② | S13: 440
C14: 小笹 | D14: 740 | F14: 渡辺通 | G14: 130 | I14: 平和 | J14: 300 | L14: 小笹AS | M14: 1500 | O14: 六本松 | P14: 460 | R14: 小笹 | S14: 500
C15: 大濠公園 | D15: 1090 | L15: 大濠・大手門AS | M15: 3810 | O15: 舞鶴 | P15: 290 | R15: 赤坂 | S15: 550
L16: 六本松AS | M16: 2320 | O16: 小笹 | P16: 150 | R16: 草ヶ江 | S16: 600
O17: 笹丘・田島 | P17: 130 | R17: 舞鶴 | S17: 600
O18: 平尾 | P18: 140 | R18: 当仁① | S18: 300
O19: 薬院・赤坂 | P19: 690 | R19: 当仁② | S19: 850
R20: 南当仁 | S20: 50
R21: 平尾 | S21: 1150
R22: 高宮 | S22: 750
R23: 春吉 | S23: 330
R24: 福浜 | S24: 300
R25: 警固 | S25: 300
Q28: 0 | T28: 0
A29: ■地区枚数■ | B29: =D31+G31+J31+M31+P31+S31 -> 29890
A31: ■配布枚数■ | B31: =E31+H31+K31+N31+Q31+T31 -> 0 | C31: ◆小 計◆ | D31: =SUM(D12:D30) -> 3830 | E31: =SUM(E12:E30) -> 0 | G31: =SUM(G12:G30) -> 1360 | H31: =SUM(H12:H30) -> 0 | I31: ◆小 計◆ | J31: =SUM(J12:J30) -> 1450 | K31: =SUM(K12:K30) -> 0 | L31: ◆小 計◆ | M31: =SUM(M12:M30) -> 11790 | N31: =SUM(N12:N30) -> 0 | O31: ◆小 計◆ | P31: =SUM(P12:P30) -> 4340 | Q31: =SUM(Q12:Q30) -> 0 | R31: ◆小 計◆ | S31: =SUM(S12:S30) -> 7120 | T31: =SUM(T12:T30) -> 0
A33: 博多区 | B33: 35 | C33: 博多五町 | D33: 290 | F33: 博多駅南部 | G33: 630 | I33: 博多旧市街 | J33: 300 | L33: 空港通S | M33: 1980 | O33: 空港前・別府 | P33: 160 | R33: 吉塚 | S33: 250
C34: 博多駅前 | D34: 190 | F34: 博多南部 | G34: 160 | I34: 吉塚・博多駅南 | J34: 300 | L34: 比恵S | M34: 1220 | O34: 月隈 | P34: 80 | R34: 東吉塚 | S34: 550
C35: 博多駅東 | D35: 650 | F35: 吉塚 | G35: 540 | I35: 博多駅前 | J35: 300 | L35: はかたAS | M35: 3600 | O35: 博多駅東・駅南 | P35: 1650 | R35: 東光 | S35: 250
C36: 月隈M | D36: 450 | I36: 諸岡 | J36: 210 | L36: 月隈S | M36: 1130 | O36: 博多南部 | P36: 150 | R36: 千代 | S36: 50
C37: 空港前M | D37: 920 | L37: 板付雑餉隈S | M37: 3750 | O37: 博多中央・駅前 | P37: 1160 | R37: 博多① | S37: 300
C38: 諸岡 | D38: 2590 | O38: 吉塚・志免北 | P38: 110 | R38: 博多② | S38: 300
O39: 博多ふ頭 | P39: 50 | R39: 堅粕 | S39: 300
R40: 東月隈 | S40: 450
R41: 三筑 | S41: 600
R42: 席田 | S42: 990
R43: 住吉 | S43: 690
R44: 春住 | S44: 800
R45: 板付 | S45: 500
R46: 板付北 | S46: 500
R47: 那珂 | S47: 100
R48: 那珂南 | S48: 600
R49: 東住吉① | S49: 200
R50: 東住吉② | S50: 100
A51: ■地区枚数■ | B51: =D53+G53+J53+M53+P53+S53 -> 30200 | R51: 弥生 | S51: 100
A53: ■配布枚数■ | B53: =E53+H53+K53+N53+Q53+T53 -> 0 | C53: ◆小 計◆ | D53: =SUM(D33:D52) -> 5090 | E53: =SUM(E33:E52) -> 0 | F53: ◆小 計◆ | G53: =SUM(G33:G52) -> 1330 | H53: =SUM(H33:H52) -> 0 | I53: ◆小 計◆ | J53: =SUM(J33:J52) -> 1110 | K53: =SUM(K33:K52) -> 0 | L53: ◆小 計◆ | M53: =SUM(M33:M52) -> 11680 | N53: =SUM(N33:N52) -> 0 | O53: ◆小 計◆ | P53: =SUM(P33:P52) -> 3360 | Q53: =SUM(Q33:Q52) -> 0 | R53: ◆小 計◆ | S53: =SUM(S33:S52) -> 7630 | T53: =SUM(T33:T52) -> 0

Sheet 東区
B1: 福岡営業所 | F1: 福 岡 県 コード ４０
M2: 46296 | O2: 大分折込株式会社
A4: スポンサー名 | E4: タイトル | I4: 請求先 | K4: 折 込 日 | N4: サイズ | O4: 枚 数 | R4: センター名 | T4: No.
K5: 年 月 日 曜 | O5: =築上郡・豊前市!L5 -> 0
Q6: 枚
B9: 銘 柄 | C9: 読 売 | F9: 朝 日 | I9: 毎 日 | L9: 西 日 本 | O9: 日 経 | R9: 福ポス
C10: コード ０１ | F10: コード ０２ | I10: コード ０３ | L10: コード ０８ | O10: コード ０５ | R10: コード 9５
A11: 市郡区 | C11: 店 名 | D11: 枚 数 | E11: 配 布 | F11: 店 名 | G11: 枚 数 | H11: 配 布 | I11: 店 名 | J11: 枚 数 | K11: 配 布 | L11: 店 名 | M11: 枚 数 | N11: 配 布 | O11: 店 名 | P11: 枚 数 | Q11: 配 布 | R11: 店 名 | S11: 枚 数 | T11: 配 布
A12: 東区 | B12: 36 | C12: 南和白 | D12: 230 | F12: 和白 | G12: 1200 | I12: 和白 | J12: 550 | L12: 西戸崎AMS | M12: 440 | O12: 和白 | P12: 340 | R12: 西戸崎 | S12: 900
C13: 和白 | D13: 850 | F13: 香椎･香椎浜･照葉 | G13: 600 | I13: 高美台 | J13: 850 | L13: 和白S | M13: 1920 | O13: 香住丘 | P13: 150 | R13: 香住丘 | S13: 1000
C14: 志賀島 | D14: 50 | F14: 千早・松崎・青葉 | G14: 1310 | I14: 香椎・名島 | J14: 2490 | L14: 和白北S | M14: 1260 | O14: 香椎駅前 | P14: 150 | R14: 香椎 | S14: 1000
C15: 香椎・高美台 | D15: 1820 | F15: 箱崎・松島 | G15: 1460 | I15: 土井・松崎 | J15: 1500 | L15: 香住丘AS | M15: 1790 | O15: 香椎･千早･松崎 | P15: 820 | R15: 松島 | S15: 1430
C16: 千早・名島 | D16: 1460 | I16: 筥松 | J16: 100 | L16: 香椎浜S | M16: 1360 | O16: 筥松 | P16: 250 | R16: 千早 | S16: 600
C17: 香椎南･筥松 | D17: 1020 | L17: 香椎AS | M17: 2060 | O17: 西戸・志賀 | P17: 30 | R17: 美和台① | S17: 750
C18: 香椎東・青葉・久山 | D18: 920 | L18: 名島・千早西S | M18: 1500 | O18: 箱崎・松島 | P18: 410 | R18: 美和台② | S18: 300
C19: 松崎 | D19: 1100 | L19: 香椎照葉S | M19: 310 | R19: 名島 | S19: 350
C20: 県庁前 | D20: 300 | L20: 多々良青葉香椎台Ｓ | M20: 3590 | R20: 筥松 | S20: 50
L21: 筥松S | M21: 1740 | R21: 三苫① | S21: 500
L22: 箱崎AMS | M22: 1620 | R22: 志賀島 | S22: 200
R23: 馬出 | S23: 100
R24: 箱崎 | S24: 100
R25: 奈多 | S25: 1000
R26: 東箱崎 | S26: 350
R27: 城浜 | S27: 1700
R28: 千早西① | S28: 1400
R29: 照葉 | S29: 450
R30: 八田 | S30: 500
R31: 舞松原 | S31: 350
R32: 香椎下原 | S32: 1000
R33: 香椎東 | S33: 1000
R34: 和白 | S34: 1000
... R41: 和白東 | S41: 100
A48: ■地区枚数■ | B48: =D50+G50+J50+M50+P50+S50 -> 57480
A50: ■配布枚数■ | B50: =E50+H50+K50+N50+Q50+T50 -> 0 | C50: ◆小 計◆ | D50: =SUM(D12:D49) -> 7750 | E50: =SUM(E12:E49) -> 0 | F50: ◆小 計◆ | G50: =SUM(G12:G49) -> 4570 | H50: =SUM(H12:H49) -> 0 | I50: ◆小 計◆ | J50: =SUM(J12:J49) -> 5490 | K50: =SUM(K12:K49) -> 0 | L50: ◆小 計◆ | M50: =SUM(M12:M49) -> 17590 | N50: =SUM(N12:N49) -> 0 | O50: ◆小 計◆ | P50: =SUM(P12:P49) -> 2150 | Q50: =SUM(Q12:Q49) -> 0 | R50: ◆小 計◆ | S50: =SUM(S12:S49) -> 19930 | T50: =SUM(T12:T49) -> 0

Sheet 古賀市・粕屋郡
B1: 福岡営業所 | F1: 福 岡 県 コード ４０
M2: 46296 | O2: 大分折込株式会社
A4: スポンサー名 | E4: タイトル | I4: 請求先 | K4: 折 込 日 | N4: サイズ | O4: 枚 数 | R4: センター名 | T4: No.
K5: 年 月 日 曜 | O5: =築上郡・豊前市!L5 -> 0
Q6: 枚
B9: 銘 柄 | C9: 読 売 | F9: 朝 日 | I9: 毎 日 | L9: 西 日 本 | O9: 日 経 | R9: 福ポス
C10: コード ０１ | F10: コード ０２ | I10: コード ０３ | L10: コード ０８ | O10: コード ０５ | R10: コード 9５
A11: 市郡区 | C11: 店 名 | D11: 枚 数 | E11: 配 布 | F11: 店 名 | G11: 枚 数 | H11: 配 布 | I11: 店 名 | J11: 枚 数 | K11: 配 布 | L11: 店 名 | M11: 枚 数 | N11: 配 布 | O11: 店 名 | P11: 枚 数 | Q11: 配 布 | R11: 店 名 | S11: 枚 数 | T11: 配 布
A12: 古賀市 | B12: 40 | C12: 古賀中央 | D12: 670 | F12: 古賀 | G12: 1350 | I12: 古賀 | J12: 1850 | L12: 古賀S | M12: 3980 | O12: 古賀中央 | P12: 350 | R12: 千鳥② | S12: 400
C13: 古賀東部 | D13: 440 | R13: 花見 | S13: 250
R14: 千鳥 | S14: 200
R15: 花鶴① | S15: 1000
R16: 花鶴② | S16: 860
R17: 古賀西 | S17: 1200
A23: ■地区枚数■ | B23: =D25+G25+J25+M25+P25+S25 -> 12550
A25: ■配布枚数■ | B25: =E25+H25+K25+N25+Q25+T25 -> 0 | C25: ◆小 計◆ | D25: =SUM(D12:D24) -> 1110 | E25: =SUM(E12:E24) -> 0 | F25: ◆小 計◆ | G25: =SUM(G12:G24) -> 1350 | H25: =SUM(H12:H24) -> 0 | I25: ◆小 計◆ | J25: =SUM(J12:J24) -> 1850 | K25: =SUM(K12:K24) -> 0 | L25: ◆小 計◆ | M25: =SUM(M12:M24) -> 3980 | N25: =SUM(N12:N24) -> 0 | O25: ◆小 計◆ | P25: =SUM(P12:P24) -> 350 | Q25: =SUM(Q12:Q24) -> 0 | R25: ◆小 計◆ | S25: =SUM(S12:S24) -> 3910 | T25: =SUM(T12:T24) -> 0
A27: 粕屋郡 | B27: 40 | C27: 新宮 | D27: 660 | I27: 新宮 | J27: 480 | L27: 新宮AS | M27: 2480 | O27: 新宮 | P27: 220 | R27: 篠栗② | S27: 50
C28: 志免M | D28: 990 | I28: 須恵 | J28: 940 | L28: 志免空港東AS | M28: 1410 | O28: 志免 | P28: 110 | R28: 勢門③ | S28: 400
C29: 宇美・須恵 | D29: 1200 | I29: 宇美 | J29: 750 | L29: 志免AS | M29: 2410 | O29: 須恵 | P29: 140 | R29: 須恵第二 | S29: 100
C30: 粕屋 | D30: 650 | I30: 粕屋 | J30: 480 | L30: 須恵AS | M30: 2260 | O30: 宇美 | P30: 80 | R30: 新宮東① | S30: 900
C31: 篠栗 | D31: 510 | I31: 粕屋東 | J31: 240 | L31: 宇美四王寺坂AS | M31: 890 | O31: 宇美四王寺 | P31: 30 | R31: 宇美東 | S31: 200
I32: 志免 | J32: 130 | L32: 宇美AS | M32: 1820 | O32: 原町 | P32: 170 | R32: 篠栗 | S32: 50
L33: 原町AS | M33: 1750 | O33: 長者原 | P33: 60 | R33: 須恵第一 | S33: 200
L34: 長者原AMS | M34: 810 | O34: 篠栗 | P34: 120 | R34: 勢門① | S34: 250
L35: 篠栗西AS | M35: 990 | O35: 久山 | P35: 90 | R35: 粕屋西 | S35: 500
L36: 篠栗AS | M36: 1600 | R36: 粕屋中央① | S36: 560
L37: 久山・福岡インターAS | M37: 1010 | R37: 志免西 | S37: 100
R38: 志免中央 | S38: 800
R39: 宇美 | S39: 50
R40: 新宮 | S40: 400
R41: 桜原 | S41: 150
R42: 勢門② | S42: 100
R43: 新宮北① | S43: 300
R44: 粕屋中央② | S44: 200
R45: 井野 | S45: 100
R46: 仲原 | S46: 400
R47: 新宮東② | S47: 900
R48: 原田(粕) | S48: 50
R49: 新宮北② | S49: 600
R50: 大川 | S50: 850
A51: ■地区枚数■ | B51: =D53+G53+J53+M53+P53+S53 -> 33740 | R51: 志免東 | S51: 50
A53: ■配布枚数■ | B53: =E53+H53+K53+N53+Q53+T53 -> 0 | C53: ◆小 計◆ | D53: =SUM(D27:D52) -> 4010 | E53: =SUM(E27:E52) -> 0 | F53: ◆小 計◆ | G53: =SUM(G27:G52) -> 0 | H53: =SUM(H27:H52) -> 0 | I53: ◆小 計◆ | J53: =SUM(J27:J52) -> 3020 | K53: =SUM(K27:K52) -> 0 | L53: ◆小 計◆ | M53: =SUM(M27:M52) -> 17430 | N53: =SUM(N27:N52) -> 0 | O53: ◆小 計◆ | P53: =SUM(P27:P52) -> 1020 | Q53: =SUM(Q27:Q52) -> 0 | R53: ◆小 計◆ | S53: =SUM(S27:S52) -> 8260 | T53: =SUM(T27:T52) -> 0

Sheet 福津市・宗像市
B1: 福岡営業所 | F1: 福 岡 県 コード ４０
M2: 46296 | O2: 大分折込株式会社
A4: スポンサー名 | E4: タイトル | I4: 請求先 | K4: 折 込 日 | N4: サイズ | O4: 枚 数 | R4: センター名 | T4: No.
K5: 年 月 日 曜 | O5: =築上郡・豊前市!L5 -> 0
Q6: 枚
B9: 銘 柄 | C9: 読 売 | F9: 朝 日 | I9: 毎 日 | L9: 西 日 本 | O9: 日 経 | R9: 福ポス
C10: コード ０１ | F10: コード ０２ | I10: コード ０３ | L10: コード ０８ | O10: コード ０５ | R10: コード 9５
A11: 市郡区 | C11: 店 名 | D11: 枚 数 | E11: 配 布 | F11: 店 名 | G11: 枚 数 | H11: 配 布 | I11: 店 名 | J11: 枚 数 | K11: 配 布 | L11: 店 名 | M11: 枚 数 | N11: 配 布 | O11: 店 名 | P11: 枚 数 | Q11: 配 布 | R11: 店 名 | S11: 枚 数 | T11: 配 布
A12: 福津市 | B12: 41 | C12: 福間 | D12: 900 | F12: 福津中央 | G12: 1050 | I12: 福間 | J12: 1700 | L12: 福間S | M12: 1000 | O12: 福間 | P12: 180 | R12: 津屋崎① | S12: 200
C13: 東福間 | D13: 730 | F13: 福津東部 | G13: 500 | I13: 東福間 | J13: 600 | L13: 福間南S | M13: 730 | O13: 福間南 | P13: 10 | R13: 神興東 | S13: 100
C14: 津屋崎 | D14: 640 | L14: 東福間S | M14: 1200 | O14: 東福間 | P14: 70 | R14: 神興 | S14: 100
L15: 津屋崎AMS | M15: 1400 | O15: 津屋崎 | P15: 60 | R15: 津屋崎② | S15: 200
R16: 福間① | S16: 100
R17: 福間② | S17: 600
R18: 福間南 | S18: 200
Q28: 0 | T28: 0
A30: ■地区枚数■ | B30: =D32+G32+J32+M32+P32+S32 -> 12270
A32: ■配布枚数■ | B32: =E32+H32+K32+N32+Q32+T32 -> 0 | C32: ◆小 計◆ | D32: =SUM(D12:D31) -> 2270 | E32: =SUM(E12:E31) -> 0 | F32: ◆小 計◆ | G32: =SUM(G12:G31) -> 1550 | H32: =SUM(H12:H31) -> 0 | I32: ◆小 計◆ | J32: =SUM(J12:J31) -> 2300 | K32: =SUM(K12:K31) -> 0 | L32: ◆小 計◆ | M32: =SUM(M12:M31) -> 4330 | N32: =SUM(N12:N31) -> 0 | O32: ◆小 計◆ | P32: =SUM(P12:P31) -> 320 | Q32: =SUM(Q12:Q31) -> 0 | R32: ◆小 計◆ | S32: =SUM(S12:S31) -> 1500 | T32: =SUM(T12:T31) -> 0
A34: 宗像市 | B34: 42 | C34: 東郷 | D34: 1100 | F34: 日の里 | G34: 490 | I34: 東郷 | J34: 1670 | L34: 東郷S | M34: 760 | O34: 東郷 | P34: 50 | R34: 東郷 | S34: 300
C35: 赤間西 | D35: 110 | F35: 自由ヶ丘 | G35: 700 | I35: 日ノ里 | J35: 900 | L35: 日の里S | M35: 420 | O35: 日の里 | P35: 70 | R35: 南郷 | S35: 100
C36: 赤間駅前 | D36: 1140 | F36: 宗像北部 | G36: 330 | I36: 自由丘 | J36: 1800 | L36: 南郷S | M36: 610 | O36: 宗像西 | P36: 20 | R36: 日の里東 | S36: 300
C37: 赤間 | D37: 1240 | F37: 赤間 | G37: 1300 | I37: 赤間西部 | J37: 900 | L37: 赤間S | M37: 2440 | O37: 自由が丘 | P37: 50 | R37: 日の里西① | S37: 100
C38: 玄海 | D38: 220 | I38: ひかりヶ丘 | J38: 120 | L38: 玄海S | M38: 410 | O38: 赤間 | P38: 220 | R38: 日の里西② | S38: 300
O39: 玄海 | P39: 30 | R39: 赤間 | S39: 700
R40: 赤間西① | S40: 90
R41: 赤間西② | S41: 400
R42: 自由丘南 | S42: 50
A51: ■地区枚数■ | B51: =D53+G53+J53+M53+P53+S53 -> 19440
A53: ■配布枚数■ | B53: =E53+H53+K53+N53+Q53+T53 -> 0 | C53: ◆小 計◆ | D53: =SUM(D34:D52) -> 3810 | E53: =SUM(E34:E52) -> 0 | F53: ◆小 計◆ | G53: =SUM(G34:G52) -> 2820 | H53: =SUM(H34:H52) -> 0 | I53: ◆小 計◆ | J53: =SUM(J34:J52) -> 5390 | K53: =SUM(K34:K52) -> 0 | L53: ◆小 計◆ | M53: =SUM(M34:M52) -> 4640 | N53: =SUM(N34:N52) -> 0 | O53: ◆小 計◆ | P53: =SUM(P34:P52) -> 440 | Q53: =SUM(Q34:Q52) -> 0 | R53: ◆小 計◆ | S53: =SUM(S34:S52) -> 2340 | T53: =SUM(T34:T52) -> 0
C61: 2005年 1月24日、宗像郡福間町と津屋崎町が合併することにより、市郡区名称が宗像郡から福津市になりました。

Sheet 飯塚市・嘉麻市・田川市
B1: 福岡営業所 | F1: 福 岡 県 コード ４０
M2: 46296 | O2: 大分折込株式会社
A4: スポンサー名 | F4: 請求先 | H4: 折 込 日 | K4: サイズ | L4: 枚 数 | O4: センター名 | Q4: No.
H5: 年 月 日 曜 | L5: =築上郡・豊前市!L5 -> 0
N6: 枚
B9: 銘 柄 | C9: 読 売 | F9: 朝 日 | I9: 毎 日 | L9: 西 日 本 | O9: 日 経
C10: コード ０１ | F10: コード ０２ | I10: コード ０３ | L10: コード ０８ | O10: コード ０５
A11: 市郡区 | C11: 店 名 | D11: 枚 数 | E11: 配 布 | F11: 店 名 | G11: 枚 数 | H11: 配 布 | I11: 店 名 | J11: 枚 数 | K11: 配 布 | L11: 店 名 | M11: 枚 数 | N11: 配 布 | O11: 店 名 | P11: 枚 数 | Q11: 配 布
A12: 嘉穂郡 | B12: 43
F13: 桂川Ni | G13: 320
A14: ■地区枚数■ | B14: =D16+G16+J16+M16+P16 -> 320
A16: ■配布枚数■ | B16: =E16+H16+K16+N16+Q16 -> 0 | C16: ◆小 計◆ | D16: =SUM(D12:D15) -> 0 | E16: =SUM(E12:E15) -> 0 | F16: ◆小 計◆ | G16: =SUM(G12:G15) -> 320 | H16: =SUM(H12:H15) -> 0 | I16: ◆小 計◆ | J16: =SUM(J12:J15) -> 0 | K16: =SUM(K12:K15) -> 0 | L16: ◆小 計◆ | M16: =SUM(M12:M15) -> 0 | N16: =SUM(N12:N15) -> 0 | O16: ◆小 計◆ | P16: =SUM(P12:P15) -> 0 | Q16: =SUM(Q12:Q15) -> 0
A18: 飯塚市 | B18: 44 | C18: 飯塚中央 | D18: 2210 | F18: 飯塚北Ni | G18: 400 | I18: 庄内Ani | J18: 1500 | L18: 二瀬MS | M18: 2440
C19: 飯塚西部 | D19: 1160 | F19: 飯塚Mni | G19: 1800 | L19: 飯塚徳前MS | M19: 720
C20: 頴田 | D20: 160 | F20: 飯塚鯰田Mni | G20: 590 | L20: 飯塚勝盛M | M20: 400
C21: 枝国 | D21: 100 | F21: 飯塚南Mni | G21: 460 | L21: 飯塚菰田M | M21: 1360
C22: 飯塚筑穂 | D22: 290 | F22: 飯塚西Mni | G22: 800 | L22: 飯塚南S | M22: 510
C23: 潤野 | D23: 30 | L23: 新飯塚S | M23: 1170
L24: 鯰田 | M24: 550
L25: 飯塚西MNiS | M25: 870
L26: 頴田 | M26: 280
L27: 庄内S | M27: 1080
L28: 飯塚筑穂S | M28: 560
A35: ■地区枚数■ | B35: =D37+G37+J37+M37+P37 -> 19440
A37: ■配布枚数■ | B37: =E37+H37+K37+N37+Q37 -> 0 | C37: ◆小 計◆ | D37: =SUM(D18:D36) -> 3950 | E37: =SUM(E18:E36) -> 0 | F37: ◆小 計◆ | G37: =SUM(G18:G36) -> 4050 | H37: =SUM(H18:H36) -> 0 | I37: ◆小 計◆ | J37: =SUM(J18:J36) -> 1500 | K37: =SUM(K18:K36) -> 0 | L37: ◆小 計◆ | M37: =SUM(M18:M36) -> 9940 | N37: =SUM(N18:N36) -> 0 | O37: ◆小 計◆ | P37: =SUM(P18:P36) -> 0 | Q37: =SUM(Q18:Q36) -> 0
A39: 嘉麻市 | B39: 45 | C39: 嘉麻中央 | D39: 650 | I39: 稲築 | J39: 570 | L39: 鴨生 | M39: 140
C40: 碓井 | D40: 190 | I40: 嘉麻Ani | J40: 720 | L40: 漆生S | M40: 520
C41: 大隈 | D41: 90 | L41: 碓井･桂川S | M41: 1410
C42: 嘉麻南部 | D42: 480 | L42: 大隈ANiS | M42: 1020
L43: 嘉麻南部S | M43: 350
A44: ■地区枚数■ | B44: =D46+G46+J46+M46+P46 -> 6140
A46: ■配布枚数■ | B46: =E46+H46+K46+N46+Q46 -> 0 | C46: ◆小 計◆ | D46: =SUM(D39:D45) -> 1410 | E46: =SUM(E39:E45) -> 0 | F46: ◆小 計◆ | G46: =SUM(G39:G45) -> 0 | H46: =SUM(H39:H45) -> 0 | I46: ◆小 計◆ | J46: =SUM(J39:J45) -> 1290 | K46: =SUM(K39:K45) -> 0 | L46: ◆小 計◆ | M46: =SUM(M39:M45) -> 3440 | N46: =SUM(N39:N45) -> 0 | O46: ◆小 計◆ | P46: =SUM(P39:P45) -> 0 | Q46: =SUM(Q39:Q45) -> 0
A48: 田川市 | B48: 46 | C48: 後藤寺 | D48: 500 | F48: 後藤寺MNNi | G48: 2250 | I48: 田川 | J48: 1580 | L48: 田川北部 | M48: 460
C49: 後藤寺西部 | D49: 210 | F49: 田川北部 | G49: 360 | L49: 田川南部 | M49: 390
C50: 田川南部MNi | D50: 880 | F50: 田川南部 | G50: 240
C51: 田川北部MNi | D51: 1070
A53: ■地区枚数■ | B53: =D56+G56+J56+M56+P56 -> 7940
A56: ■配布枚数■ | B56: =E56+H56+K56+N56+Q56 -> 0 | C56: ◆小 計◆ | D56: =SUM(D48:D54) -> 2660 | E56: =SUM(E48:E54) -> 0 | F56: ◆小 計◆ | G56: =SUM(G48:G54) -> 2850 | H56: =SUM(H48:H54) -> 0 | I56: ◆小 計◆ | J56: =SUM(J48:J54) -> 1580 | K56: =SUM(K48:K54) -> 0 | L56: ◆小 計◆ | M56: =SUM(M48:M54) -> 850 | N56: =SUM(N48:N54) -> 0 | O56: ◆小 計◆ | P56: =SUM(P48:P54) -> 0 | Q56: =SUM(Q48:Q54) -> 0
C60: 2006年 3月26日、飯塚市、嘉穂郡筑穂町・穂波町・庄内町・頴田町 が合併することにより、市郡区が飯塚市に変更になります。
C61: 2006年 3月27日、山田市、嘉穂郡稲築町・碓井町・嘉穂町 が合併することにより、市郡区が嘉麻市に変更になります。

Sheet 田川郡・鞍手郡・宮若市・直方市
B1: 福岡営業所 | F1: 福 岡 県 コード ４０
M2: 46296 | O2: 大分折込株式会社
A4: スポンサー名 | F4: 請求先 | H4: 折 込 日 | K4: サイズ | L4: 枚 数 | O4: センター名 | Q4: No.
H5: 年 月 日 曜 | L5: =築上郡・豊前市!L5 -> 0
N6: 枚
B9: 銘 柄 | C9: 読 売 | F9: 朝 日 | I9: 毎 日 | L9: 西 日 本 | O9: 日 経
C10: コード ０１ | F10: コード ０２ | I10: コード ０３ | L10: コード ０８ | O10: コード ０５
A11: 市郡区 | C11: 店 名 | D11: 枚 数 | E11: 配 布 | F11: 店 名 | G11: 枚 数 | H11: 配 布 | I11: 店 名 | J11: 枚 数 | K11: 配 布 | L11: 店 名 | M11: 枚 数 | N11: 配 布 | O11: 店 名 | P11: 枚 数 | Q11: 配 布
A12: 田川郡 | B12: 47
C13: 糸田 | D13: 180 | F13: 糸田MNNi | G13: 880 | L13: 赤村ANiS | M13: 250 | T13: .
C14: 川崎 | D14: 320 | F14: 川崎MNNi | G14: 700
C15: 添田 | D15: 250 | F15: 添田MNNi | G15: 740
C16: 赤村 | D16: 70 | F16: 福智・夏吉MNNi | G16: 1420
C17: 福智 | D17: 490
A25: ■地区枚数■ | B25: =D27+G27+J27+M27+P27 -> 5300
A27: ■配布枚数■ | B27: =E27+H27+K27+N27+Q27 -> 0 | C27: ◆小 計◆ | D27: =SUM(D12:D26) -> 1310 | E27: =SUM(E12:E26) -> 0 | F27: ◆小 計◆ | G27: =SUM(G12:G26) -> 3740 | H27: =SUM(H12:H26) -> 0 | I27: ◆小 計◆ | J27: =SUM(J12:J26) -> 0 | K27: =SUM(K12:K26) -> 0 | L27: ◆小 計◆ | M27: =SUM(M12:M26) -> 250 | N27: =SUM(N12:N26) -> 0 | O27: ◆小 計◆ | P27: =SUM(P12:P26) -> 0 | Q27: =SUM(Q12:Q26) -> 0
A29: 鞍手郡 | B29: 48 | C29: 小竹 | D29: 150 | L29: 小竹S | M29: 600
C30: 鞍手 | D30: 1010 | L30: 鞍手AMNiS | M30: 1400
A33: ■地区枚数■ | B33: =D35+G35+J35+M35+P35 -> 3160
A35: ■配布枚数■ | B35: =E35+H35+K35+N35+Q35 -> 0 | C35: ◆小 計◆ | D35: =SUM(D29:D34) -> 1160 | E35: =SUM(E29:E34) -> 0 | F35: ◆小 計◆ | G35: =SUM(G29:G34) -> 0 | H35: =SUM(H29:H34) -> 0 | I35: ◆小 計◆ | J35: =SUM(J29:J34) -> 0 | K35: =SUM(K29:K34) -> 0 | L35: ◆小 計◆ | M35: =SUM(M29:M34) -> 2000 | N35: =SUM(N29:N34) -> 0 | O35: ◆小 計◆ | P35: =SUM(P29:P34) -> 0 | Q35: =SUM(Q29:Q34) -> 0
A37: 宮若市 | B37: 43 | C37: 宮田 | D37: 350 | F37: 宮田MNNi | G37: 840 | L37: 宮田S | M37: 620
C38: 磯光 | D38: 70 | L38: 若宮ANiS | M38: 710
C39: 若宮 | D39: 280
A41: ■地区枚数■ | B41: =D43+G43+J43+M43+P43 -> 2870
A43: ■配布枚数■ | B43: =E43+H43+K43+N43+Q43 -> 0 | C43: ◆小 計◆ | D43: =SUM(D37:D42) -> 700 | E43: =SUM(E37:E42) -> 0 | F43: ◆小 計◆ | G43: =SUM(G37:G42) -> 840 | H43: =SUM(H37:H42) -> 0 | I43: ◆小 計◆ | J43: =SUM(J37:J42) -> 0 | K43: =SUM(K37:K42) -> 0 | L43: ◆小 計◆ | M43: =SUM(M37:M42) -> 1330 | N43: =SUM(N37:N42) -> 0 | O43: ◆小 計◆ | P43: =SUM(P37:P42) -> 0 | Q43: =SUM(Q37:Q42) -> 0
A45: 直方市 | B45: 49 | C45: 感田 | D45: 1340 | F45: 直方MNNi | G45: 3070 | I45: 直方東 | J45: 430 | L45: 直方西AMNiS | M45: 1560
C46: 直方 | D46: 1190
C47: 直方北・植木 | D47: 830
A55: ■地区枚数■ | B55: =D57+G57+J57+M57+P57 -> 8420
A57: ■配布枚数■ | B57: =E57+H57+K57+N57+Q57 -> 0 | C57: ◆小 計◆ | D57: =SUM(D45:D56) -> 3360 | E57: =SUM(E45:E56) -> 0 | F57: ◆小 計◆ | G57: =SUM(G45:G56) -> 3070 | H57: =SUM(H45:H56) -> 0 | I57: ◆小 計◆ | J57: =SUM(J45:J56) -> 430 | K57: =SUM(K45:K56) -> 0 | L57: ◆小 計◆ | M57: =SUM(M45:M56) -> 1560 | N57: =SUM(N45:N56) -> 0 | O57: ◆小 計◆ | P57: =SUM(P45:P56) -> 0 | Q57: =SUM(Q45:Q56) -> 0
C61: 2006年 2月11日、鞍手郡宮田町・若宮町 が合併することにより、市郡区が宮若市に変更になります。

Sheet 中間市・遠賀郡
B1: 北九州営業所 | F1: 福 岡 県 コード ４０
M2: 46296 | O2: 大分折込株式会社
A4: スポンサー名 | F4: 請求先 | H4: 折 込 日 | K4: サイズ | L4: 枚 数 | O4: センター名 | Q4: No.
H5: 年 月 日 曜 | L5: =築上郡・豊前市!L5 -> 0
N6: 枚
B9: 銘 柄 | C9: 読 売 | F9: 朝 日 | I9: 毎 日 | L9: 西 日 本 | O9: 日 経
C10: コード ０１ | F10: コード ０２ | I10: コード ０３ | L10: コード ０８ | O10: コード ０５
A11: 市郡区 | C11: 店 名 | D11: 枚 数 | E11: 配 布 | F11: 店 名 | G11: 枚 数 | H11: 配 布 | I11: 店 名 | J11: 枚 数 | K11: 配 布 | L11: 店 名 | M11: 枚 数 | N11: 配 布 | O11: 店 名 | P11: 枚 数 | Q11: 配 布
A12: 中間市 | B12: 50 | C12: 中間 | D12: 860 | F12: 中間Ni | G12: 710 | I12: 中間東部 | J12: 760 | L12: 中間S | M12: 650
F13: 中間東部Ni | G13: 710 | I13: 太賀 | J13: 90
F14: 中間西部Ni | G14: 210 | I14: 中間西部 | J14: 90
A21: ■地区枚数■ | B21: =D23+G23+J23+M23+P23 -> 4080
A23: ■配布枚数■ | B23: =E23+H23+K23+N23+Q23 -> 0 | C23: ◆小 計◆ | D23: =SUM(D12:D22) -> 860 | E23: =SUM(E12:E22) -> 0 | F23: ◆小 計◆ | G23: =SUM(G12:G22) -> 1630 | H23: =SUM(H12:H22) -> 0 | I23: ◆小 計◆ | J23: =SUM(J12:J22) -> 940 | K23: =SUM(K12:K22) -> 0 | L23: ◆小 計◆ | M23: =SUM(M12:M22) -> 650 | N23: =SUM(N12:N22) -> 0 | O23: ◆小 計◆ | P23: =SUM(P12:P22) -> 0 | Q23: =SUM(Q12:Q22) -> 0
A25: 遠賀郡 | B25: 51 | C25: 水巻北Ni | D25: 680 | F25: 水巻NNiS | G25: 1250 | I25: 水巻 | J25: 750 | L25: 水巻南S | M25: 30
C26: 水巻南 | D26: 850 | F26: 水巻南部 | G26: 150 | I26: 遠賀町Ni | J26: 1450
C27: 芦屋Ni | D27: 690 | F27: 遠賀NS | G27: 1750 | I27: 芦屋Ni | J27: 250
C28: 岡垣東 | D28: 910 | F28: 海老津NNiS | G28: 2040 | I28: 岡垣中央 | J28: 600
I29: 岡垣西部 | J29: 900
A36: ■地区枚数■ | B36: =D38+G38+J38+M38+P38 -> 12300
A38: ■配布枚数■ | B38: =E38+H38+K38+N38+Q38 -> 0 | C38: ◆小 計◆ | D38: =SUM(D25:D37) -> 3130 | E38: =SUM(E25:E37) -> 0 | F38: ◆小 計◆ | G38: =SUM(G25:G37) -> 5190 | H38: =SUM(H25:H37) -> 0 | I38: ◆小 計◆ | J38: =SUM(J25:J37) -> 3950 | K38: =SUM(K25:K37) -> 0 | L38: ◆小 計◆ | M38: =SUM(M25:M37) -> 30 | N38: =SUM(N25:N37) -> 0 | O38: ◆小 計◆ | P38: =SUM(P25:P37) -> 0 | Q38: =SUM(Q25:Q37) -> 0

Sheet 若松区・八幡西区
B1: 北九州営業所 | F1: 福 岡 県 コード ４０
M2: 46296 | O2: 大分折込株式会社
A4: スポンサー名 | F4: 請求先 | H4: 折 込 日 | K4: サイズ | L4: 枚 数 | O4: センター名 | Q4: No.
H5: 年 月 日 曜 | L5: =築上郡・豊前市!L5 -> 0
N6: 枚
B9: 銘 柄 | C9: 読 売 | F9: 朝 日 | I9: 毎 日 | L9: 西 日 本 | O9: 日 経
C10: コード ０１ | F10: コード ０２ | I10: コード ０３ | L10: コード ０８ | O10: コード ０５
A11: 市郡区 | C11: 店 名 | D11: 枚 数 | E11: 配 布 | F11: 店 名 | G11: 枚 数 | H11: 配 布 | I11: 店 名 | J11: 枚 数 | K11: 配 布 | L11: 店 名 | M11: 枚 数 | N11: 配 布 | O11: 店 名 | P11: 枚 数 | Q11: 配 布
A12: 若松区 | B12: 60 | C12: 若松東部 | D12: 1170 | F12: 若松北部 | G12: 470 | I12: 若松S | J12: 350 | L12: 若松東部 | M12: 630
C13: 用勺 | D13: 580 | F13: 若松駅前 | G13: 470 | I13: 若松北部S | J13: 220
C14: 青葉台 | D14: 570 | F14: 二島・ひびきのNNi | G14: 1390 | I14: 藤の木S | J14: 1700
C15: 高須 | D15: 370 | F15: 高須NNi | G15: 2160 | I15: 二島S | J15: 1750
I16: 高須・青葉台S | J16: 950
A24: ■地区枚数■ | B24: =D26+G26+J26+M26+P26 -> 12780
A26: ■配布枚数■ | B26: =E26+H26+K26+N26+Q26 -> 0 | C26: ◆小 計◆ | D26: =SUM(D12:D25) -> 2690 | E26: =SUM(E12:E25) -> 0 | F26: ◆小 計◆ | G26: =SUM(G12:G25) -> 4490 | H26: =SUM(H12:H25) -> 0 | I26: ◆小 計◆ | J26: =SUM(J12:J25) -> 4970 | K26: =SUM(K12:K25) -> 0 | L26: ◆小 計◆ | M26: =SUM(M12:M25) -> 630 | N26: =SUM(N12:N25) -> 0 | O26: ◆小 計◆ | P26: =SUM(P12:P25) -> 0 | Q26: =SUM(Q12:Q25) -> 0
A28: 八幡西区 | B28: 61 | C28: 熊西八千代 | D28: 1000 | F28: 穴生Ni | G28: 1070 | I28: 紅梅S | J28: 630 | L28: 熊西 | M28: 330
C29: 折尾本城 | D29: 1220 | F29: 引野NNi | G29: 4020 | I29: 黒崎S | J29: 640 | L29: 折尾北 | M29: 420
C30: 光貞台 | D30: 100 | F30: 三ヶ森NNi | G30: 2540 | I30: 幸の神S | J30: 400 | L30: 浅川 | M30: 120
C31: 折尾浅川Ni | D31: 950 | F31: 香月NNi | G31: 530 | I31: 鷹の巣S | J31: 500 | L31: 則松 | M31: 610
C32: 引野穴生 | D32: 1630 | F32: 八幡南部NNi | G32: 1930 | I32: 穴生S | J32: 500 | L32: 上上津役 | M32: 70
C33: 八幡永犬丸 | D33: 1020 | F33: 本城NNi | G33: 1530 | I33: 永犬丸S | J33: 790
C34: 緑ヶ丘 | D34: 1350 | F34: 折尾Ni | G34: 1390 | I34: 三ヶ森中央S | J34: 1900
C35: 星ヶ丘 | D35: 560 | F35: 折尾浅川 | G35: 1150 | I35: 下上津役S | J35: 400
I36: 上津役S | J36: 340
I37: 八幡南部S | J37: 1400
I38: 木屋瀬S | J38: 140
I39: 折尾東部S | J39: 1160
I40: 折尾中央NiS | J40: 980
I41: 千代ヶ崎・折尾駅前S | J41: 1390
I42: 光貞台ひびきの | J42: 300
I43: 本城S | J43: 2200
I44: 折尾北部 | J44: 250
I45: 星ヶ丘S | J45: 140
I46: 引野 | J46: 170
A55: ■地区枚数■ | B55: =D57+G57+J57+M57+P57 -> 37770
A57: ■配布枚数■ | B57: =E57+H57+K57+N57+Q57 -> 0 | C57: ◆小 計◆ | D57: =SUM(D28:D56) -> 7830 | E57: =SUM(E28:E56) -> 0 | F57: ◆小 計◆ | G57: =SUM(G28:G56) -> 14160 | H57: =SUM(H28:H56) -> 0 | I57: ◆小 計◆ | J57: =SUM(J28:J56) -> 14230 | K57: =SUM(K28:K56) -> 0 | L57: ◆小 計◆ | M57: =SUM(M28:M56) -> 1550 | N57: =SUM(N28:N56) -> 0 | O57: ◆小 計◆ | P57: =SUM(P28:P56) -> 0 | Q57: =SUM(Q28:Q56) -> 0

Sheet 八幡東区・戸畑区
B1: 北九州営業所 | F1: 福 岡 県 コード ４０
M2: 46296 | O2: 大分折込株式会社
A4: スポンサー名 | F4: 請求先 | H4: 折 込 日 | K4: サイズ | L4: 枚 数 | O4: センター名 | Q4: No.
H5: 年 月 日 曜 | L5: =築上郡・豊前市!L5 -> 0
N6: 枚
B9: 銘 柄 | C9: 読 売 | F9: 朝 日 | I9: 毎 日 | L9: 西 日 本 | O9: 日 経
C10: コード ０１ | F10: コード ０２ | I10: コード ０３ | L10: コード ０８ | O10: コード ０５
A11: 市郡区 | C11: 店 名 | D11: 枚 数 | E11: 配 布 | F11: 店 名 | G11: 枚 数 | H11: 配 布 | I11: 店 名 | J11: 枚 数 | K11: 配 布 | L11: 店 名 | M11: 枚 数 | N11: 配 布 | O11: 店 名 | P11: 枚 数 | Q11: 配 布
A12: 八幡東区 | B12: 62 | C12: 八幡高見Ni | D12: 1030 | F12: 高見NNi | G12: 1380 | I12: 昭和町S | J12: 450
C13: 八幡東Ni | D13: 1600 | F13: 祝町NNi | G13: 620 | I13: 大蔵S | J13: 350
C14: 八幡大蔵 | D14: 120 | F14: 八幡中央NNi | G14: 910 | I14: 八幡中央S | J14: 750
F15: 八幡本町NNi | G15: 1220 | I15: 八幡本町S | J15: 550
A21: ■地区枚数■ | B21: =D23+G23+J23+M23+P23 -> 8980
A23: ■配布枚数■ | B23: =E23+H23+K23+N23+Q23 -> 0 | C23: ◆小 計◆ | D23: =SUM(D12:D22) -> 2750 | E23: =SUM(E12:E22) -> 0 | F23: ◆小 計◆ | G23: =SUM(G12:G22) -> 4130 | H23: =SUM(H12:H22) -> 0 | I23: ◆小 計◆ | J23: =SUM(J12:J22) -> 2100 | K23: =SUM(K12:K22) -> 0 | L23: ◆小 計◆ | M23: =SUM(M12:M22) -> 0 | N23: =SUM(N12:N22) -> 0 | O23: ◆小 計◆ | P23: =SUM(P12:P22) -> 0 | Q23: =SUM(Q12:Q22) -> 0
A25: 戸畑区 | B25: 63 | C25: 戸畑・天籟寺Ni | D25: 1260 | F25: 戸畑中央NNi | G25: 1970 | I25: 戸畑中央S | J25: 930
C26: 戸畑西部 | D26: 240 | F26: 天籟寺・大谷NNi | G26: 890 | I26: 戸畑西部S | J26: 250
C27: 戸畑南部 | D27: 380 | I27: 戸畑南部NiS | J27: 480
A38: ■地区枚数■ | B38: =D40+G40+J40+M40+P40 -> 6400
A40: ■配布枚数■ | B40: =E40+H40+K40+N40+Q40 -> 0 | C40: ◆小 計◆ | D40: =SUM(D25:D39) -> 1880 | E40: =SUM(E25:E39) -> 0 | F40: ◆小 計◆ | G40: =SUM(G25:G39) -> 2860 | H40: =SUM(H25:H39) -> 0 | I40: ◆小 計◆ | J40: =SUM(J25:J39) -> 1660 | K40: =SUM(K25:K39) -> 0 | L40: ◆小 計◆ | M40: =SUM(M25:M39) -> 0 | N40: =SUM(N25:N39) -> 0 | O40: ◆小 計◆ | P40: =SUM(P25:P39) -> 0 | Q40: =SUM(Q25:Q39) -> 0

Sheet 小倉北区・門司区
B1: 北九州営業所 | F1: 福 岡 県 コード ４０
M2: 46296 | O2: 大分折込株式会社
A4: スポンサー名 | F4: 請求先 | H4: 折 込 日 | K4: サイズ | L4: 枚 数 | O4: センター名 | Q4: No.
H5: 年 月 日 曜 | L5: =築上郡・豊前市!L5 -> 0
N6: 枚
B9: 銘 柄 | C9: 読 売 | F9: 朝 日 | I9: 毎 日 | L9: 西 日 本 | O9: 日 経
C10: コード ０１ | F10: コード ０２ | I10: コード ０３ | L10: コード ０８ | O10: コード ０５
A11: 市郡区 | C11: 店 名 | D11: 枚 数 | E11: 配 布 | F11: 店 名 | G11: 枚 数 | H11: 配 布 | I11: 店 名 | J11: 枚 数 | K11: 配 布 | L11: 店 名 | M11: 枚 数 | N11: 配 布 | O11: 店 名 | P11: 枚 数 | Q11: 配 布
A12: 小倉北区 | B12: 64 | C12: 小倉東部 | D12: 1140 | F12: 小倉東部NNi | G12: 1950 | I12: 小倉東部S | J12: 850
C13: 小倉中央 | D13: 850 | F13: 小倉中部NNi | G13: 870 | I13: 足原S | J13: 750
C14: 小倉北部 | D14: 170 | F14: 三萩野・片野NNi | G14: 1490 | I14: 小倉中央S | J14: 500
C15: 高坊 | D15: 600 | F15: 黒原NNi | G15: 1360 | I15: 三萩野S | J15: 1150
C16: 到津Ni | D16: 1350 | F16: 大手町・到津NNi | G16: 1920 | I16: 高坊S | J16: 500
C17: 大手町 | D17: 680 | F17: 南小倉NNi | G17: 2200 | I17: 黒原S | J17: 500
C18: 熊谷町Ni | D18: 260 | F18: 小倉西部NNi | G18: 2060 | I18: 小倉西部S | J18: 1100
C19: 遊園前Ni | D19: 820 | I19: 日明S | J19: 150
I20: 到津S | J20: 1070
I21: 大手町S | J21: 1060
I22: 泉台S | J22: 240
I23: 熊谷町S | J23: 1000
A36: ■地区枚数■ | B36: =D38+G38+J38+M38+P38 -> 26590
A38: ■配布枚数■ | B38: =E38+H38+K38+N38+Q38 -> 0 | C38: ◆小 計◆ | D38: =SUM(D12:D37) -> 5870 | E38: =SUM(E12:E37) -> 0 | F38: ◆小 計◆ | G38: =SUM(G12:G37) -> 11850 | H38: =SUM(H12:H37) -> 0 | I38: ◆小 計◆ | J38: =SUM(J12:J37) -> 8870 | K38: =SUM(K12:K37) -> 0 | L38: ◆小 計◆ | M38: =SUM(M12:M37) -> 0 | N38: =SUM(N12:N37) -> 0 | O38: ◆小 計◆ | P38: =SUM(P12:P37) -> 0 | Q38: =SUM(Q12:Q37) -> 0
A40: 門司区 | B40: 65 | C40: 門司港Ni | D40: 1290 | F40: 門司港 | G40: 590 | I40: 門司港NNiS | J40: 1190 | L40: 黒川 | M40: 30
C41: 新門司北Ni | D41: 450 | F41: 黒川 | G41: 220 | I41: 黒川S | J41: 170 | L41: 吉志 | M41: 20
C42: 大里東部 | D42: 1320 | F42: 大里東部NNi | G42: 1350 | I42: 大里東部NiS | J42: 1000
C43: 大里西部Ni | D43: 2480 | F43: 大里西部NNi | G43: 1910 | I43: 大里西部NiS | J43: 2500
C44: 新門司南 | D44: 500 | F44: 吉志 | G44: 170 | I44: 新門司NNiS | J44: 1050
F45: 新門司 | G45: 180
A54: ■地区枚数■ | B54: =D56+G56+J56+M56+P56 -> 16420
A56: ■配布枚数■ | B56: =E56+H56+K56+N56+Q56 -> 0 | C56: ◆小 計◆ | D56: =SUM(D40:D55) -> 6040 | E56: =SUM(E40:E55) -> 0 | F56: ◆小 計◆ | G56: =SUM(G40:G55) -> 4420 | H56: =SUM(H40:H55) -> 0 | I56: ◆小 計◆ | J56: =SUM(J40:J55) -> 5910 | K56: =SUM(K40:K55) -> 0 | L56: ◆小 計◆ | M56: =SUM(M40:M55) -> 50 | N56: =SUM(N40:N55) -> 0 | P56: =SUM(P40:P55) -> 0 | Q56: =SUM(Q40:Q55) -> 0

Sheet 小倉南区・京都郡・行橋市
B1: 北九州営業所 | F1: 福 岡 県 コード ４０
M2: 46296 | O2: 大分折込株式会社
A4: スポンサー名 | F4: 請求先 | H4: 折 込 日 | K4: サイズ | L4: 枚 数 | O4: センター名 | Q4: No.
H5: 年 月 日 曜 | L5: =築上郡・豊前市!L5 -> 0
N6: 枚
B9: 銘 柄 | C9: 読 売 | F9: 朝 日 | I9: 毎 日 | L9: 西 日 本 | O9: 日 経
C10: コード ０１ | F10: コード ０２ | I10: コード ０３ | L10: コード ０８ | O10: コード ０５
A11: 市郡区 | C11: 店 名 | D11: 枚 数 | E11: 配 布 | F11: 店 名 | G11: 枚 数 | H11: 配 布 | I11: 店 名 | J11: 枚 数 | K11: 配 布 | L11: 店 名 | M11: 枚 数 | N11: 配 布 | O11: 店 名 | P11: 枚 数 | Q11: 配 布
A12: 小倉南区 | B12: 66 | C12: 葛原湯川 | D12: 1170 | F12: 湯川NNi | G12: 220 | I12: 横代NiS | J12: 970
C13: 城野・守恒 | D13: 1270 | F13: 守恒NNi | G13: 2350 | I13: 葛原S | J13: 1900
C14: 若園・小倉東 | D14: 1190 | F14: 企救ヶ丘NNi | G14: 1720 | I14: 吉田NiS | J14: 300
C15: 徳力・企救丘 | D15: 1500 | F15: 横代NNi | G15: 1720 | I15: 曽根東NiS | J15: 1450
C16: 横代 | D16: 220 | F16: 葛原NNi | G16: 940 | I16: 中曽根NiS | J16: 4690
C17: 徳力西部 | D17: 430 | F17: 曽根東部NNi | G17: 970 | I17: 徳力S | J17: 400
C18: 東谷 | D18: 150 | F18: 曽根西部NNi | G18: 730 | I18: 企救丘S | J18: 1400
C19: 沼 | D19: 800 | F19: 曽根中央NNi | G19: 1090 | I19: 長行NNiS | J19: 950
C20: 吉田 | D20: 440 | F20: 長行 | G20: 340
C21: 上曽根 | D21: 1730
C22: 朽網 | D22: 470
A30: ■地区枚数■ | B30: =D32+G32+J32+M32+P32 -> 31510
A32: ■配布枚数■ | B32: =E32+H32+K32+N32+Q32 -> 0 | C32: ◆小 計◆ | D32: =SUM(D12:D31) -> 9370 | E32: =SUM(E12:E31) -> 0 | F32: ◆小 計◆ | G32: =SUM(G12:G31) -> 10080 | H32: =SUM(H12:H31) -> 0 | I32: ◆小 計◆ | J32: =SUM(J12:J31) -> 12060 | K32: =SUM(K12:K31) -> 0 | L32: ◆小 計◆ | M32: =SUM(M12:M31) -> 0 | N32: =SUM(N12:N31) -> 0 | O32: ◆小 計◆ | P32: =SUM(P12:P31) -> 0 | Q32: =SUM(Q12:Q31) -> 0
A34: 京都郡 | B34: 70 | C34: 苅田 | D34: 450 | F34: 苅田NNiS | G34: 2520 | I34: 苅田 | J34: 510
C35: 苅田中央 | D35: 360 | F35: 勝山 | G35: 300 | I35: 勝山YNNiS | J35: 840
C36: 苅田西 | D36: 140 | F36: 豊津Nni | G36: 710 | I36: 豊津 | J36: 320
C37: 豊津犀川 | D37: 250 | F37: 犀川NNi | G37: 490
A40: ■地区枚数■ | B40: =D42+G42+J42+M42+P42 -> 6890
A42: ■配布枚数■ | B42: =E42+H42+K42+N42+Q42 -> 0 | C42: ◆小 計◆ | D42: =SUM(D34:D41) -> 1200 | E42: =SUM(E34:E41) -> 0 | F42: ◆小 計◆ | G42: =SUM(G34:G41) -> 4020 | H42: =SUM(H34:H41) -> 0 | I42: ◆小 計◆ | J42: =SUM(J34:J41) -> 1670 | K42: =SUM(K34:K41) -> 0 | L42: ◆小 計◆ | M42: =SUM(M34:M41) -> 0 | N42: =SUM(N34:N41) -> 0 | O42: ◆小 計◆ | P42: =SUM(P34:P41) -> 0 | Q42: =SUM(Q34:Q41) -> 0
A44: 行橋市 | B44: 71 | C44: 行橋 | D44: 100 | F44: 行橋NNiS | G44: 1660 | I44: 行橋 | J44: 1500
C45: 行橋東部 | D45: 480 | F45: 行橋中央NNiS | G45: 1720 | I45: 行橋北部 | J45: 600
C46: 行橋西部 | D46: 1600 | F46: 行橋北部NNi | G46: 410 | I46: 行橋西部 | J46: 860
C47: 行橋南部 | D47: 600 | F47: 行橋南部NNiS | G47: 1750 | I47: 行橋南部 | J47: 850
I48: 行橋東部 | J48: 500
I49: 新田原 | J49: 200
A50: ■地区枚数■ | B50: =D52+G52+J52+M52+P52 -> 12830
A52: ■配布枚数■ | B52: =E52+H52+K52+N52+Q52 -> 0 | C52: ◆小 計◆ | D52: =SUM(D44:D51) -> 2780 | E52: =SUM(E44:E51) -> 0 | F52: ◆小 計◆ | G52: =SUM(G44:G51) -> 5540 | H52: =SUM(H44:H51) -> 0 | I52: ◆小 計◆ | J52: =SUM(J44:J51) -> 4510 | K52: =SUM(K44:K51) -> 0 | L52: ◆小 計◆ | M52: =SUM(M44:M51) -> 0 | N52: =SUM(N44:N51) -> 0 | O52: ◆小 計◆ | P52: =SUM(P44:P51) -> 0 | Q52: =SUM(Q44:Q51) -> 0

Sheet 築上郡・豊前市
B1: 北九州営業所 | F1: 福 岡 県 コード ４０
M2: 46296 | O2: 大分折込株式会社
A4: スポンサー名 | F4: 請求先 | H4: 折 込 日 | K4: サイズ | L4: 枚 数 | O4: センター名 | Q4: No.
H5: 年 月 日 曜 | L5: =大牟田市!$B$41+'みやま市・柳川市・大川市・三潴郡 '!$B$24+'みやま市・柳川市・大川市・三潴郡 '!$B$35+'みやま市・柳川市・大川市・三潴郡 '!$B$46+'みやま市・柳川市・大川市・三潴郡 '!$B$56+筑後市・八女市郡!$B$25+筑後市・八女市郡!$B$49+筑後市・八女市郡!$B$57+久留米市三井郡・うきは市!$B$43+久留米市三井郡・うきは市!$B$57+朝倉市郡・小郡市!$B$26+朝倉市郡・小郡市!$B$40+朝倉市郡・小郡市!$B$56+筑紫野・那珂川市・太宰府・大野城市!$B$25+筑紫野・那珂川市・太宰府・大野城市!$B$35+筑紫野・那珂川市・太宰府・大野城市!$B$47+筑紫野・那珂川市・太宰府・大野城市!$B$62+春日市・糸島市・西区!$B$24+春日市・糸島市・西区!$B$38+春日市・糸島市・西区!$B$66+早良区・城南区!$B$42+早良区・城南区!$B$60+南区!$B$53+中央区・博多区!$B$31+中央区・博多区!$B$53+東区!$B$50+古賀市・粕屋郡!$B$25+古賀市・粕屋郡!$B$53+福津市・宗像市!$B$32+福津市・宗像市!$B$53+飯塚市・嘉麻市・田川市!$B$16+飯塚市・嘉麻市・田川市!$B$37+飯塚市・嘉麻市・田川市!$B$46+飯塚市・嘉麻市・田川市!$B$56+田川郡・鞍手郡・宮若市・直方市!$B$27+田川郡・鞍手郡・宮若市・直方市!$B$35+田川郡・鞍手郡・宮若市・直方市!$B$43+田川郡・鞍手郡・宮若市・直方市!$B$57+中間市・遠賀郡!$B$23+中間市・遠賀郡!$B$38+若松区・八幡西区!$B$26+若松区・八幡西区!$B$57+八幡東区・戸畑区!$B$23+八幡東区・戸畑区!$B$40+小倉北区・門司区!$B$38+小倉北区・門司区!$B$56+小倉南区・京都郡・行橋市!$B$32+小倉南区・京都郡・行橋市!$B$42+小倉南区・京都郡・行橋市!$B$52+築上郡・豊前市!$B$19+築上郡・豊前市!$B$28 -> 0
N6: 枚
B9: 銘 柄 | C9: 読 売 | F9: 朝 日 | I9: 毎 日 | L9: 西 日 本 | O9: 日 経
C10: コード ０１ | F10: コード ０２ | I10: コード ０３ | L10: コード ０８ | O10: コード ０５
A11: 市郡区 | C11: 店 名 | D11: 枚 数 | E11: 配 布 | F11: 店 名 | G11: 枚 数 | H11: 配 布 | I11: 店 名 | J11: 枚 数 | K11: 配 布 | L11: 店 名 | M11: 枚 数 | N11: 配 布 | O11: 店 名 | P11: 枚 数 | Q11: 配 布
A12: 築上郡 | B12: 72 | C12: 築城M | D12: 560 | F12: 築城NNiS | G12: 650 | I12: 吉富Ni | J12: 250
C13: 椎田M | D13: 590 | F13: 椎田NNiS | G13: 720 | I13: 上毛町 | J13: 190
C14: 吉富 | D14: 770 | F14: 吉富NS | G14: 450
A17: ■地区枚数■ | B17: =D19+G19+J19+M19+P19 -> 4180
A19: ■配布枚数■ | B19: =E19+H19+K19+N19+Q19 -> 0 | C19: ◆小 計◆ | D19: =SUM(D12:D18) -> 1920 | E19: =SUM(E12:E18) -> 0 | F19: ◆小 計◆ | G19: =SUM(G12:G18) -> 1820 | H19: =SUM(H12:H18) -> 0 | I19: ◆小 計◆ | J19: =SUM(J12:J18) -> 440 | K19: =SUM(K12:K18) -> 0 | L19: ◆小 計◆ | M19: =SUM(M12:M18) -> 0 | N19: =SUM(N12:N18) -> 0 | O19: ◆小 計◆ | P19: =SUM(P12:P18) -> 0 | Q19: =SUM(Q12:Q18) -> 0
A21: 豊前市 | B21: 73 | C21: 宇の島・松江 | D21: 1090 | F21: 角田NNi | G21: 210 | I21: 八屋Ni | J21: 680 | L21: 豊前南 | M21: 90
C22: 横武黒土Ni | D22: 440 | F22: 豊前北部N | G22: 380 | I22: 豊前 | J22: 500
F23: 豊前西部 | G23: 120 | I23: 横武黒土 | J23: 20
F24: 豊前中央NNiS | G24: 840
A26: ■地区枚数■ | B26: =D28+G28+J28+M28+P28 -> 4370
A28: ■配布枚数■ | B28: =E28+H28+K28+N28+Q28 -> 0 | C28: ◆小 計◆ | D28: =SUM(D21:D27) -> 1530 | E28: =SUM(E21:E27) -> 0 | F28: ◆小 計◆ | G28: =SUM(G21:G27) -> 1550 | H28: =SUM(H21:H27) -> 0 | I28: ◆小 計◆ | J28: =SUM(J21:J27) -> 1200 | K28: =SUM(K21:K27) -> 0 | L28: ◆小 計◆ | M28: =SUM(M21:M27) -> 90 | N28: =SUM(N21:N27) -> 0 | O28: ◆小 計◆ | P28: =SUM(P21:P27) -> 0 | Q28: =SUM(Q21:Q27) -> 0
