Workbook

Sheet 表紙 Title Page
A1: INVESTOR DATA BOOK
A3: デジタルグリッド株式会社 | B3: DIGITAL GRID Corporation
A5: 対象期間 | B5: Period
A6: 2026年7月期 第4四半期 | B6: Fourth Quarter and Full Year of FYE July 2026
A8: 目次 | B8: Table of Contents | C8: ページ / Page
A9: 連結財務KPI | B9: Consolidated Financial KPIs | C9: P.1
A10: 連結財務諸表 | B10: Consolidated Financial Statements
A11: 連結貸借対照表 | B11: Consolidated Balance Sheets | C11: P.2
A12: 連結損益計算書 | B12: Consolidated Income Statements | C12: P.3
A13: 連結キャッシュ・フロー計算書 | B13: Consolidated Statements of Cash Flows | C13: P.4
A14: セグメント情報 | B14: Segment Information | C14: P.5
A15: 非財務KPI（事業関連） | B15: Business-Related Non-Financial KPIs | C15: P.6
A16: 「RE Bridge®」オークション結果 | B16: RE Bridge® Matching Event Results | C16: P.7
A17: 主要グラフ | B17: Key Graphs | C17: P.8
A18: 免責事項および問い合わせ先 | B18: Disclaimer and Contact Information | C18: P.9
A20: 更新日 | B20: Last Updated
A21: 46275 | B21: 46275

Sheet P.1
A1: 連結財務KPI | B1: Consolidated Financial KPIs
C2: 22/7期 FYE 22/7 | D2: 23/7期 FYE 23/7 | E2: 24/7期 FYE 24/7 | F2: 25/7期 1Q Q1 FYE 25/7 | G2: 25/7期 2Q Q2 FYE 25/7 | H2: 25/7期 3Q Q3 FYE 25/7 | I2: 25/7期 4Q Q4 FYE 25/7 | J2: 25/7期 FYE 25/7 | K2: 26/7期 1Q Q1 FYE 26/7 | L2: 26/7期 2Q Q2 FYE 26/7 | M2: 26/7期 3Q Q3 FYE 26/7 | N2: 26/7期 4Q Q4 FYE 26/7 | O2: 26/7期 FYE 26/7 | P2: 27/7期 計画 FYE 27/7 Plan
A3: 売上総利益率 (%) | B3: Gross profit margin (%) | C3: — | D3: 76.1 | E3: 77 | F3: — | G3: — | H3: 76.3 | I3: 72.6 | J3: 74.4 | K3: 81.8 | L3: 75.1 | M3: 83.2 | N3: 83.7 | O3: 81.4 | P3: —
A4: 営業利益率 (%) | B4: Operating profit margin (%) | C4: 2 | D4: 25.9 | E4: 44 | F4: 57.7 | G4: 45.4 | H4: 44.7 | I4: 27 | J4: 44.6 | K4: 53.2 | L4: 35.5 | M4: 51.2 | N4: 28.4 | O4: 42.4 | P4: 36
A5: 調整後EBITDAマージン (%) (注１) | B5: Adjusted EBITDA margin (%) (Note 1) | C5: — | D5: — | E5: — | F5: — | G5: — | H5: — | I5: — | J5: — | K5: — | L5: — | M5: — | N5: — | O5: 42.8 | P5: 40
A6: 経常利益率 (%) | B6: Ordinary profit margin (%) | C6: — | D6: — | E6: 35.7 | F6: — | G6: — | H6: 41.363023 | I6: 24.963289 | J6: 42.483341 | K6: 53.167082 | L6: 44.217687 | M6: 50.56243 | N6: 17.9 | O6: 40.9 | P6: 30.1
A7: 当期純利益率 (%) | B7: Net profit margin (%) | C7: 2.2 | D7: 38.85275 | E7: 27.652916 | F7: — | G7: — | H7: 27.1 | I7: 20.8 | J7: 30.4 | K7: 39.5 | L7: 32.1 | M7: 36.9 | N7: 8.3 | O7: 28.6 | P7: 21
A8: リカーリング比率 (%) (注２) | B8: Recurring revenue ratio (%) (Note 2) | C8: — | D8: — | E8: — | F8: 72.554831 | G8: 73.950617 | H8: 78.54251 | I8: 88.325991 | J8: 77.831952 | K8: =(P.5!J5+P.5!J8+P.5!J11)/P.3!O3*100 -> 60.947631 | L8: =(P.5!K5+P.5!K8+P.5!K11)/P.3!P3*100 -> 88.737717 | M8: =(P.5!L5+P.5!L8+P.5!L11)/P.3!Q3*100 -> 65.635546 | N8: =(P.5!M5+P.5!M8+P.5!M11)/P.3!R3*100 -> 71.485543 | O8: =(P.5!N5+P.5!N8+P.5!N11)/P.3!S3*100 -> 70.321946 | P8: —
A9: 自己資本比率 (%) | B9: Equity ratio (%) | C9: 75.4 | D9: 54.6 | E9: 36.8 | F9: — | G9: — | H9: — | I9: — | J9: 46.5 | K9: 47.3 | L9: 46.3 | M9: 48 | N9: 34.1 | O9: 34.1 | P9: —
A10: 自己資本当期純利益率 (%) | B10: Return on equity (%) | C10: — | D10: 20.1 | E10: 22.9 | F10: — | G10: — | H10: — | I10: — | J10: 22.6 | K10: — | L10: — | M10: — | N10: — | O10: 21.7 | P10: —
A11: １株当たり純利益 (円) (注３) | B11: Earnings per share (JPY) (Note 3) | C11: — | D11: 18.456667 | E11: 24.53 | F11: — | G11: — | H11: — | I11: — | J11: 47.17 | K11: — | L11: — | M11: — | N11: — | O11: 50.8 | P11: 40.02
A13: 注： 1. 調整後EBITDA＝営業利益+減価償却費+株式報酬費用 2. リカーリング比率：25/7期は、DGP手数料売上高（電力PF事業・再エネPF事業）÷連結売上高にて、26/7期は（DGP手数料売上高（電力PF事業・再エネPF事業）とAS事業売上高）÷連結売上高にて算出しております。 3. 当社は、2025年11月１日付で普通株式１株につき６株の割合で株式分割を実施しております。2025年７月期以前の１株当たり当期純利益は、当該株式分割を考慮し、遡及して再計算しております。 | B13: Notes: 1. Adjusted EBITDA: Operating profit + Depreciation and amortization + Share-based compensation expenses 2. Recurring Revenue Ratio is calculated as follows. FYE 25/7: DGP Fee Revenue (Power PF Business and RE PF Business) ÷ Consolidated Net Sales; FYE 26/7 and onward: (DGP Fee Revenue (Power PF Business and RE PF Business) + AS Business Net Sales) ÷ Consolidated Net Sales 3. On November 1, 2025, the Company conducted a share split at a ratio of 6 shares per share of common shares. Earnings per share for the fiscal year ended July 31, 2025 and earlier are re-calculated retrospectively, taking into account the said share split.
A27: 非財務指標（ESG関連）
A28: 従業員数 (人) | C28: — | D28: — | E28: — | F28: 60 | G28: 65 | H28: 70 | I28: 79 | J28: — | K28: 84 | L28: 88 | P28: —
A29: フロント (営業) | C29: — | D29: — | E29: — | F29: 14 | G29: 17 | H29: 18 | I29: 18 | J29: — | K29: 19 | L29: 19 | P29: —
A30: エンジニア | C30: — | D30: — | E30: — | F30: 19 | G30: 19 | H30: 20 | I30: 22 | J30: — | K30: 19 | L30: 21 | P30: —

Sheet P.2
A1: 連結貸借対照表 | B1: Consolidated Balance Sheets
A2: （単位：百万円） | B2: (JPY Million) | C2: 22/7期4Q (22.7末) Q4 FYE 22/7 (end-Jul 2022) | D2: 23/7期4Q (23.7末) Q4 FYE 23/7 (end-Jul 2023) | E2: 24/7期4Q (24.7末) Q4 FYE 24/7 (end-Jul 2024) | F2: 25/7期2Q (25.1末) Q2 FYE 25/7 (end-Jan 2025) | G2: 25/7期3Q (25.4末) Q3 FYE 25/7 (end-Apr 2025) | H2: 25/7期4Q (25.7末) Q4 FYE 25/7 (end-Jul 2025) | I2: 26/7期1Q (25.10末) Q1 FYE 26/7 (end-Oct 2025) | J2: 26/7期2Q (26.1末) Q2 FYE 26/7 (end-Jan 2026) | K2: 26/7期3Q (26.4末) Q3 FYE 26/7 (end-Apr 2026) | L2: 26/7期4Q (26.7末) Q4 FYE 26/7 (end-Jul 2026)
A3: 資産合計 | B3: Total assets | C3: 3445 | D3: 5963 | E3: 11476 | F3: 16214 | G3: 17007 | H3: 17817 | I3: 19169 | J3: 20787 | K3: 21482 | L3: 30817
A4: 流動資産 | B4: Current assets | C4: — | D4: 5365 | E4: 10768 | F4: 15121 | G4: 15897 | H4: 16532 | I4: 17844 | J4: 18662 | K4: 18916 | L4: 24765
A5: 現金及び預金 | B5: Cash and deposits | C5: — | D5: 3107 | E5: 3979 | F5: 3680 | G5: 5596 | H5: 4648 | I5: 5645 | J5: 7875 | K5: 6822 | L5: 6295
A6: 売掛金及び契約資産 | B6: Accounts receivable - trade and contract assets | C6: — | D6: 400 | E6: 882 | F6: 1566 | G6: 1179 | H6: 1367 | I6: 2093 | J6: 1251 | K6: 1594 | L6: 2234
A7: 未収入金 | B7: Accounts receivable - other | C7: — | D7: 1712 | E7: 5012 | F7: 9273 | G7: 8756 | H7: 9766 | I7: 9582 | J7: 8972 | K7: 10108 | L7: 15154
A8: その他流動資産 | B8: Other current assets | C8: — | D8: 144 | E8: 897 | F8: 604 | G8: 369 | H8: 774 | I8: 560 | J8: 597 | K8: 432 | L8: 1148
A9: 貸倒引当金 | B9: Allowance for doubtful accounts | C9: — | D9: — | E9: -3 | F9: -4 | G9: -4 | H9: -24 | I9: -37 | J9: -34 | K9: -42 | L9: -68
A10: 固定資産 | B10: Non-current assets | C10: — | D10: 597 | E10: 707 | F10: 1093 | G10: 1110 | H10: 1285 | I10: 1324 | J10: 2124 | K10: 2566 | L10: 6052
A11: 有形固定資産 | B11: Property, plant and equipment | C11: — | D11: 23 | E11: 25 | F11: 29 | G11: 35 | H11: 107 | I11: 141 | J11: 877 | K11: 1276 | L11: 4455
A12: 無形固定資産 | B12: Intangible assets | C12: — | D12: 6 | E12: 5 | F12: 4 | G12: 39 | H12: 40 | I12: 41 | J12: 38 | K12: 37 | L12: 37
A13: 投資その他の資産 | B13: Investments and other assets | C13: — | D13: 567 | E13: 681 | F13: 1069 | G13: 1048 | H13: 1163 | I13: 1204 | J13: 1279 | K13: 1336 | L13: =1658 -> 1658
A14: 貸倒引当金 | B14: Allowance for doubtful accounts | C14: — | D14: — | E14: -4 | F14: -9 | G14: -13 | H14: -26 | I14: -62 | J14: -70 | K14: -83 | L14: -98
A15: 負債合計 | B15: Total liabilities | C15: 847 | D15: 2707 | E15: 7247 | F15: 10800 | G15: 10152 | H15: 9540 | I15: 10100 | J15: 11164 | K15: 11168 | L15: 20281
A16: 流動負債 | B16: Current liabilities | C16: — | D16: 2407 | E16: 6947 | F16: 9585 | G16: 9060 | H16: 8540 | I16: 9129 | J16: 10235 | K16: 10296 | L16: 18988
A17: 買掛金 | B17: Accounts payable - trade | C17: — | D17: 203 | E17: 354 | F17: 589 | G17: 407 | H17: 575 | I17: 521 | J17: 902 | K17: 2514 | L17: 2298
A18: 短期借入金 | B18: Short-term borrowings | C18: — | D18: 714 | E18: 2928 | F18: 3093 | G18: 1444 | H18: 260 | I18: 2230 | J18: 1490 | K18: 1040 | L18: 7850
A19: １年内返済予定の長期借入金 | B19: Current portion of long-term borrowings | C19: — | D19: — | E19: — | F19: 172 | G19: 278 | H19: 353 | I19: 305 | J19: 286 | K19: 220 | L19: 170
A20: 未払金 | B20: Accounts payable - other | C20: — | D20: 1402 | E20: 3334 | F20: 4668 | G20: 5414 | H20: 5400 | I20: 5208 | J20: 6586 | K20: 5699 | L20: 7289
A21: 未払費用 | B21: Accrued expenses | C21: — | D21: 28 | E21: 20 | F21: — | G21: — | H21: — | I21: — | J21: — | K21: — | L21: 83
A22: 未払法人税等 | B22: Income taxes payable | C22: — | D22: 6 | E22: 100 | F22: 479 | G22: 702 | H22: 810 | I22: 288 | J22: 469 | K22: 280 | L22: 572
A23: 契約負債 | B23: Contract liabilities | C23: — | D23: 0 | E23: 3 | F23: — | G23: — | H23: 1 | I23: — | J23: — | K23: — | L23: —
A24: 預り金 | B24: Deposits received | C24: — | D24: 20 | E24: 37 | F24: — | G24: — | H24: — | I24: — | J24: — | K24: — | L24: 73
A25: 賞与引当金 | B25: Provision for bonuses | C25: — | D25: — | E25: 60 | F25: 101 | G25: 187 | H25: 249 | I25: 67 | J25: 134 | K25: 201 | L25: 268
A26: その他 | B26: Other | C26: — | D26: 31 | E26: 108 | F26: 479 | G26: 624 | H26: 890 | I26: 507 | J26: 367 | K26: 341 | L26: 381
A27: 固定負債 | B27: Non-current liabilities | C27: — | D27: 300 | E27: 300 | F27: 1215 | G27: 1091 | H27: 999 | I27: 971 | J27: 928 | K27: 871 | L27: 1292
A28: 長期借入金 | B28: Long-term borrowings | C28: — | D28: 300 | E28: 300 | F28: 1215 | G28: 1091 | H28: 999 | I28: 971 | J28: 928 | K28: 871 | L28: 1273
A29: その他 | B29: Other | C29: — | D29: — | E29: — | F29: — | G29: — | H29: — | I29: — | J29: — | K29: — | L29: 18
A30: 純資産合計 | B30: Total net assets | C30: 2598 | D30: 3255 | E30: 4228 | F30: 5413 | G30: 6855 | H30: 8277 | I30: 9068 | J30: 9623 | K30: 10314 | L30: 10536
A31: 株主資本 | B31: Shareholders' equity | C31: 2598 | D31: 3255 | E31: 4228 | F31: 5413 | G31: 6855 | H31: 8277 | I31: 9068 | J31: 9623 | K31: 10337 | L31: 10521
A32: 資本金 | B32: Share capital | C32: 50 | D32: 50 | E32: 50 | F32: 50 | G32: 569 | H32: 1139 | I32: 1139 | J32: 1204 | K32: 1221 | L32: 1242
A33: 資本剰余金 | B33: Capital surplus | C33: — | D33: 2593 | E33: 2593 | F33: 2593 | G33: 3113 | H33: 3683 | I33: 3683 | J33: 3748 | K33: 3765 | L33: 3786
A34: 利益剰余金 | B34: Retained earnings | C34: — | D34: 612 | E34: 1584 | F34: 2769 | G34: 3171 | H34: 3454 | I34: 4246 | J34: 4670 | K34: 5326 | L34: 5492
A35: 負債純資産合計 | B35: Total liabilities and net assets | C35: 3445 | D35: 5963 | E35: 11476 | F35: 16214 | G35: 17007 | H35: 17817 | I35: 19169 | J35: 20787 | K35: 21482 | L35: 30817
A37: 注： 24/7期以前は単体業績であり25/7期より連結決算に移行しています。 また、百万円未満を切り捨てして記載しているため過去に開示した数値と一致しない場合があります。 | B37: Note: FYE 24/7 figures are non-consolidated. From FYE 25/7, consolidated financial statements are applied. Figures under JPY 1 million are rounded down, which may result in discrepancies with previously disclosed data.

Sheet P.3
A1: 連結損益計算書 | B1: Consolidated Income Statements
A2: （単位：百万円） | B2: (JPY Million) | C2: 22/7期 FYE 22/7 | D2: 23/7期 FYE 23/7 | E2: 24/7期 1Q Q1 FYE 24/7 | F2: 24/7期 2Q Q2 FYE 24/7 | G2: 24/7期 3Q Q3 FYE 24/7 | H2: 24/7期 4Q Q4 FYE 24/7 | I2: 24/7期 FYE 24/7 | J2: 25/7期 1Q Q1 FYE 25/7 | K2: 25/7期 2Q Q2 FYE 25/7 | L2: 25/7期 3Q Q3 FYE 25/7 | M2: 25/7期 4Q Q4 FYE 25/7 | N2: 25/7期 FYE 25/7 | O2: 26/7期 1Q Q1 FYE 26/7 | P2: 26/7期 2Q Q2 FYE 26/7 | Q2: 26/7期 3Q Q3 FYE 26/7 | R2: 26/7期 4Q Q4 FYE 26/7 | S2: 26/7期 FYE 26/7 | T2: 27/7期 計画 FYE 27/7 Plan
A3: 売上高 | B3: Net sales | C3: 1210 | D3: 1691 | E3: 646 | F3: 765 | G3: 852 | H3: 1251 | I3: 3515 | J3: 1687 | K3: 1620 | L3: 1482 | M3: 1362 | N3: 6153 | O3: 2005 | P3: 1323 | Q3: 1778 | R3: 2006 | S3: 7113 | T3: 7967
A4: DGP手数料売上高 | B4: DGP fee revenue | C4: — | D4: — | E4: — | F4: — | G4: — | H4: — | I4: — | J4: 1224 | K4: 1199 | L4: 1164 | M4: 1203 | N4: 4791 | O4: 1207 | P4: 1086 | Q4: 1038 | R4: 1181 | S4: 4514 | T4: —
A5: 売上原価 | B5: Cost of sales | C5: — | D5: 403 | E5: — | F5: — | G5: — | H5: — | I5: 809 | J5: — | K5: — | L5: 351 | M5: 374 | N5: 1573 | O5: 364 | P5: 329 | Q5: 298 | R5: 327 | S5: 1320 | T5: —
A6: 売上総利益 | B6: Gross profit | C6: — | D6: 1287 | E6: — | F6: — | G6: — | H6: — | I6: 2706 | J6: — | K6: — | L6: 1131 | M6: 989 | N6: 4580 | O6: 1641 | P6: 993 | Q6: 1479 | R6: 1678 | S6: 5793 | T6: —
A7: 販売費及び一般管理費 | B7: Selling, general and administrative expenses | C7: — | D7: 849 | E7: 271 | F7: 184 | G7: 259 | H7: 441 | I7: 1158 | J7: 351 | K7: 398 | L7: 467 | M7: 620 | N7: 1837 | O7: 574 | P7: 524 | Q7: 568 | R7: 1108 | S7: 2775 | T7: —
A8: 人件費 | B8: Personnel expenses | C8: — | D8: — | E8: — | F8: — | G8: — | H8: — | I8: — | J8: 200 | K8: 217 | L8: 272 | M8: 317 | N8: 1006 | O8: 284 | P8: 279 | Q8: 312 | R8: 430 | S8: 1306 | T8: —
A9: 営業利益 | B9: Operating profit | C9: 24 | D9: 438 | E9: 303 | F9: 388 | G9: 393 | H9: 461 | I9: 1547 | J9: 973 | K9: 736 | L9: 663 | M9: 368 | N9: 2742 | O9: 1067 | P9: 469 | Q9: 910 | R9: 570 | S9: 3017 | T9: 2865
A10: 営業外収益 | B10: Non-operating income | C10: — | D10: — | E10: — | F10: — | G10: — | H10: — | I10: — | J10: — | K10: — | L10: 3 | M10: 1 | N10: 11 | O10: 13 | P10: 137 | Q10: 6 | R10: 1 | S10: 159 | T10: —
A11: 営業外費用 | B11: Non-operating expenses | C11: — | D11: — | E11: — | F11: — | G11: — | H11: — | I11: — | J11: — | K11: — | L11: 53 | M11: 30 | N11: 140 | O11: 14 | P11: 21 | Q11: 18 | R11: 213 | S11: 267 | T11: —
A12: 支払利息 | B12: Interest expenses | C12: — | D12: — | E12: — | F12: — | G12: — | H12: — | I12: — | J12: — | K12: — | L12: 20 | M12: 10 | N12: 81 | O12: 10 | P12: 18 | Q12: 13 | R12: 29 | S12: 71 | T12: —
A13: その他 | B13: Other | C13: — | D13: — | E13: — | F13: — | G13: — | H13: — | I13: — | J13: — | K13: — | L13: 33 | M13: 20 | N13: 58 | O13: 3 | P13: 3 | Q13: 5 | R13: 183 | S13: 196 | T13: —
A14: 調整後EBITDA（注２） | B14: Adjusted EBITDA (Note 2) | C14: — | D14: — | E14: — | F14: — | G14: — | H14: — | I14: — | J14: — | K14: — | L14: — | M14: — | N14: — | O14: — | P14: — | Q14: — | R14: — | S14: 3047 | T14: 3185
A15: 経常利益 | B15: Ordinary profit | C15: 36 | D15: 443 | E15: — | F15: — | G15: — | H15: — | I15: 1253 | J15: — | K15: — | L15: 613 | M15: 340 | N15: 2614 | O15: 1066 | P15: 585 | Q15: 899 | R15: 358 | S15: 2909 | T15: 2394
A16: 特別利益 | B16: Extraordinary income | C16: — | D16: — | E16: — | F16: — | G16: — | H16: — | I16: — | J16: — | K16: — | L16: 0 | M16: 0 | N16: 0 | O16: — | P16: — | Q16: — | R16: — | S16: — | T16: —
A17: 新株予約権戻入益 | B17: Gain on reversal of share acquisition rights | C17: — | D17: — | E17: — | F17: — | G17: — | H17: — | I17: — | J17: — | K17: — | L17: 0 | M17: 0 | N17: 0 | O17: — | P17: — | Q17: — | R17: — | S17: — | T17: —
A18: 特別損失（注３） | B18: Extraordinary losses (Note 3) | C18: — | D18: — | E18: — | F18: — | G18: — | H18: — | I18: — | J18: — | K18: — | L18: — | M18: — | N18: 43 | O18: — | P18: — | Q18: — | R18: — | S18: — | T18: —
A19: 投資有価証券評価損 | B19: Loss on valuation of investment securities | C19: — | D19: — | E19: — | F19: — | G19: — | H19: — | I19: — | J19: — | K19: — | L19: — | M19: — | N19: 43 | O19: — | P19: — | Q19: — | R19: — | S19: — | T19: —
A20: 税金等調整前当期純利益 | B20: Profit before income taxes | C20: — | D20: — | E20: — | F20: — | G20: — | H20: — | I20: — | J20: — | K20: — | L20: 1311 | M20: 297 | N20: 2570 | O20: 1066 | P20: 585 | Q20: 899 | R20: 358 | S20: 2909 | T20: —
A21: 法人税等（注４） | B21: Income taxes (Note 4) | C21: — | D21: — | E21: — | F21: — | G21: — | H21: — | I21: — | J21: — | K21: — | L21: 411 | M21: 14 | N21: 700 | O21: 275 | P21: 160 | Q21: 243 | R21: 192 | S21: 872 | T21: —
A22: 親会社株主に帰属する当期純利益 | B22: Profit attributable to owners of parent | C22: 26 | D22: 657 | E22: — | F22: — | G22: — | H22: — | I22: 972 | J22: — | K22: — | L22: 402 | M22: 282 | N22: 1870 | O22: 791 | P22: 424 | Q22: 655 | R22: 165 | S22: 2037 | T22: 1673
A24: 注： 1. 24/7期は単体業績であり、25/7期より連結決算に移行しています。また、百万円未満を切り捨てして記載しているため、四半期単位の合算値と年次の合計値が異なる場合があり、また過去に開示した数値と一致しない場合があります。百万円未満の数字は「０」で表記しています。 2. 調整後EBITDA＝営業利益+減価償却費+株式報酬費用 3. 25/7期における特別損失には、上場関連費用3,400万円が含まれています。 4. 四半期ごとに計上している法人税等は見積りであり、通期で調整しています。 | B24: Notes: 1. FYE 24/7 figures are non-consolidated. From FYE 25/7, consolidated financial statements are applied. Figures under JPY 1 million are rounded down, which may result in discrepancies between quarterly sums and full-year totals, and with previously disclosed figures. Numbers under JPY 1 million are shown as "0". 2. Adjusted EBITDA = EBITDA (Operating profit + Depreciation and amortization) + Share-based compensation expenses. 4. Extraordinary losses in FYE 25/7 include JPY 34 million of listing expenses. 5. Quarterly income taxes are estimated and adjusted on a full-year basis.

Sheet P.4
A1: 連結キャッシュフロー計算書 | B1: Consolidated Cash Flow Statements
A2: （単位：百万円） | B2: (JPY Million) | C2: 23/7期4Q (23.7末) Q4 FYE 23/7 (end-Jul 2023) | D2: 24/7期4Q (24.7末) Q4 FYE 24/7 (end-Jul 2024) | E2: 25/7期2Q (25.1末) Q2 FYE 25/7 (end-Jan 2025) | F2: 25/7期4Q (25.7末) Q4 FYE 25/7 (end-Jul 2025) | G2: 26/7期2Q (26.1末) Q2 FYE 26/7 (end-Jan 2026) | H2: 26/7期4Q (26.7末) Q4 FYE 26/7 (end-Jul 2026)
A3: 営業活動によるキャッシュ・フロー | B3: Cash flows from operating activities | C3: 118 | D3: -1325 | E3: -1492 | F3: 321 | G3: 2809 | H3: -1849
A4: 税金等調整前当期純利益 | B4: Profit before income taxes | C4: 435 | D4: 1253 | E4: 1660 | F4: 2570 | G4: 1651 | H4: 2909
A5: 減価償却費 | B5: Depreciation | C5: 9 | D5: 10 | E5: 5 | F5: 12 | G5: 8 | H5: 20
A6: 貸倒引当金の増減額（減少） | B6: Increase (decrease) in allowance for doubtful accounts | C6: — | D6: — | E6: 5 | F6: 41 | G6: 53 | H6: 116
A7: 賞与引当金の増減額（減少） | B7: Increase (decrease) in provision for bonuses | C7: — | D7: — | E7: 41 | F7: 189 | G7: -115 | H7: 18
A8: 受取利息 | B8: Interest income | C8: — | D8: — | E8: — | F8: — | G8: — | H8: -14
A9: 支払利息 | B9: Interest expenses | C9: 15 | D9: 40 | E9: 51 | F9: 81 | G9: 28 | H9: 71
A10: 上場関連費用 | B10: Listing expenses | C10: — | D10: — | E10: — | F10: 34 | G10: — | H10: —
A11: 投資有価証券評価損益 | B11: Loss (gain) on valuation of investment securities | C11: — | D11: — | E11: — | F11: 43 | G11: — | H11: —
A12: 有形固定資産売却損益（益） | B12: Loss (gain) on sale of property, plant and equipment | C12: -2 | D12: — | E12: — | F12: — | G12: — | H12: —
A13: 売上債権の増減額（増加） | B13: Decrease (increase) in trade receivables | C13: -344 | D13: -380 | E13: -724 | F13: -563 | G13: 115 | H13: -800
A14: 未収入金の増減額（増加） | B14: Decrease (increase) in accounts receivable - other | C14: -1051 | D14: -3301 | E14: -4261 | F14: -4753 | G14: 793 | H14: -5388
A15: 棚卸資産の増減額（増加） | B15: Decrease (increase) in inventories | C15: -16 | D15: -18 | E15: — | F15: — | G15: — | H15: —
A16: 前払費用の増減額（増加） | B16: Decrease (increase) in prepaid expenses | C16: -10 | D16: -20 | E16: — | F16: — | G16: — | H16: —
A17: その他の流動資産の増減額（増加） | B17: Decrease (increase) in other current assets | C17: 0 | D17: -814 | E17: 333 | F17: 200 | G17: 177 | H17: -432
A18: 預託金の増減額（増加） | B18: Decrease (increase) in deposits | C18: -140 | D18: -290 | E18: — | F18: -300 | G18: — | H18: 3
A19: 仕入債務の増減額（減少） | B19: Increase (decrease) in trade payables | C19: 49 | D19: 151 | E19: 234 | F19: 220 | G19: 326 | H19: 1723
A20: 貸倒引当金の増減額（減少） | B20: Increase (decrease) in allowance for doubtful accounts | C20: — | D20: 8 | E20: — | F20: — | G20: — | H20: —
A21: 賞与引当金の増減額（減少） | B21: Increase (decrease) in provision for bonuses | C21: — | D21: 60 | E21: — | F21: — | G21: — | H21: —
A22: 未払金の増減額（減少） | B22: Increase (decrease) in accounts payable - other | C22: 1352 | D22: 1937 | E22: 1336 | F22: 2067 | G22: 1152 | H22: 1882
A23: 未払費用の増減額（減少） | B23: Increase (decrease) in accrued expenses | C23: 15 | D23: -8 | E23: — | F23: — | G23: — | H23: —
A24: 預り金の増減額（減少） | B24: Increase (decrease) in deposits received | C24: -187 | D24: 17 | E24: — | F24: — | G24: — | H24: —
A25: その他の流動負債の増減額（減少） | B25: Increase (decrease) in other current liabilities | C25: 9 | D25: 80 | E25: 305 | F25: 769 | G25: -544 | H25: -361
A26: その他の固定資産の増減額 （増加） | B26: Decrease (increase) in other fixed assets | C26: — | D26: — | E26: — | F26: — | G26: — | H26: -372
A27: その他 | B27: Other | C27: 4 | D27: -1 | E27: -332 | F27: -67 | G27: -60 | H27: 8
A28: 利息及び配当金の受取額 | B28: Interest and dividends received | C28: 0 | D28: 0 | E28: 0 | F28: 2 | G28: 6 | H28: 14
A29: 利息の支払額 | B29: Interest paid | C29: -15 | D29: -40 | E29: -48 | F29: -80 | G29: -25 | H29: -78
A30: 法人税等の支払額 | B30: Income taxes paid | C30: -6 | D30: -8 | E30: -100 | F30: -150 | G30: -758 | H30: -1170
A31: 投資活動によるキャッシュ・フロー | B31: Cash flows from investing activities | C31: -2 | D31: -15 | E31: -59 | F31: -181 | G31: -804 | H31: -4396
A32: 有形固定資産の取得による支出 | B32: Purchase of property, plant and equipment | C32: -3 | D32: -11 | E32: -9 | F32: -93 | G32: -744 | H32: -4341
A33: 有形固定資産の売却による収入 | B33: Proceeds from sale of property, plant and equipment | C33: 1 | D33: 1 | E33: — | F33: — | G33: — | H33: —
A34: 無形固定資産の取得による支出 | B34: Purchase of intangible assets | C34: -0.1 | D34: -6 | E34: — | F34: -36 | G34: — | H34: —
A35: 投資有価証券の取得による支出 | B35: Purchase of investment securities | C35: — | D35: — | E35: -50 | F35: -50 | G35: -60 | H35: -60
A36: その他 | B36: Other | C36: — | D36: — | E36: — | F36: — | G36: — | H36: 4
A37: 財務活動によるキャッシュ・フロー | B37: Cash flows from financing activities | C37: 613 | D37: 2213 | E37: 1253 | F37: 528 | G37: 1222 | H37: 7894
A38: 短期借入金の純増減額（減少） | B38: Net increase (decrease) in short-term borrowings | C38: 614 | D38: 2214 | E38: 165 | F38: -2668 | G38: 1230 | H38: 7590
A39: 長期借入れによる収入 | B39: Proceeds from long-term borrowings | C39: — | D39: — | E39: 1100 | F39: 1100 | G39: — | H39: 445
A40: 長期借入金の返済による支出 | B40: Repayments of long-term borrowings | C40: — | D40: — | E40: -11 | F40: -47 | G40: -137 | H40: -353
...

Sheet P.5
A1: セグメント別の財務情報 | B1: Financial Data by Segment
A2: （単位：百万円） | B2: (JPY Million) | C2: 23/7期 FYE 23/7 | D2: 24/7期 FYE 24/7 | E2: 25/7期 1Q Q1 FYE 25/7 | F2: 25/7期 2Q Q2 FYE 25/7 | G2: 25/7期 3Q Q3 FYE 25/7 | H2: 25/7期 4Q Q4 FYE 25/7 | I2: 25/7期 FYE 25/7 | J2: 26/7期 1Q Q1 FYE 26/7 | K2: 26/7期 2Q Q2 FYE 26/7 | L2: 26/7期 3Q Q3 FYE 26/7 | M2: 26/7期 4Q Q4 FYE 26/7 | N2: 26/7期 FYE 26/7 | O2: 27/7期 計画 FYE 27/7 Plan
A3: セグメント別売上高 | B3: Net sales by segment
A4: 電力PF事業 | B4: Power Platform Business | C4: 1550 | D4: 3168 | E4: 1571 | F4: 1341 | G4: 1322 | H4: 1184 | I4: 5420 | J4: 1780 | K4: 1083 | L4: 1492 | M4: 1527 | N4: 5884 | O4: 4812
A5: DGP手数料売上高 | B5: DGP fee revenue | C5: — | D5: — | E5: 1174 | F5: 1131 | G5: 1087 | H5: 1099 | I5: 4492 | J5: 1061 | K5: 960 | L5: 876 | M5: 983 | N5: 3881 | O5: —
A6: DGP手数料以外売上高 | B6: Non-DGP fee revenue | C6: — | D6: — | E6: 397 | F6: 210 | G6: 234 | H6: 85 | I6: 927 | J6: 719 | K6: 123 | L6: 616 | M6: 543 | N6: 2002 | O6: —
A7: 再エネPF事業 | B7: RE Platform Business | C7: 87 | D7: 185 | E7: 103 | F7: 101 | G7: 113 | H7: 129 | I7: 448 | J7: 199 | K7: 143 | L7: 150 | M7: 218 | N7: 711 | O7: 816
A8: DGP手数料売上高 | B8: DGP fee revenue | C8: — | D8: — | E8: 49 | F8: 68 | G8: 75 | H8: 102 | I8: 296 | J8: 145 | K8: 126 | L8: 161 | M8: 198 | N8: 632 | O8: —
A9: DGP手数料以外売上高 | B9: Non-DGP fee revenue | C9: — | D9: — | E9: 53 | F9: 32 | G9: 38 | H9: 27 | I9: 152 | J9: 52 | K9: 17 | L9: -11 | M9: 20 | N9: 80 | O9: —
A10: その他事業 | B10: Others | C10: 52 | D10: 161 | E10: 12 | F10: 177 | G10: 46 | H10: 47 | I10: 284 | J10: 24 | K10: =121-J10 -> 97 | L10: 135 | M10: =N10-SUM(J10:L10) -> 262 | N10: 518 | O10: —
A11: AS事業 | B11: Aggregation service (AS) business | C11: — | D11: — | E11: — | F11: — | G11: — | H11: — | I11: — | J11: 16 | K11: 88 | L11: 130 | M11: 253 | N11: 489 | O11: 2043
A12: その他 | B12: Other businesses | C12: — | D12: — | E12: — | F12: — | G12: — | H12: — | I12: — | J12: 8 | K12: 8 | L12: 4 | M12: 7 | N12: 28 | O12: 294
A13: セグメント別営業利益 | B13: Operating profit by segment | O13: —
A14: 電力PF事業 | B14: Power Platform Business | C14: 940 | D14: 2127 | E14: 1121 | F14: 902 | G14: 862 | H14: 643 | I14: 3529 | J14: 1234 | K14: 610 | L14: 1014 | M14: 640 | N14: 3499 | O14: —
A15: 再エネPF事業 | B15: RE Platform Business | C15: -61 | D15: 24 | E15: 64 | F15: 17 | G15: 37 | H15: 1 | I15: 120 | J15: 119 | K15: 67 | L15: 66 | M15: 116 | N15: 370 | O15: —
A16: その他事業 | B16: Others | C16: -238 | D16: -201 | E16: -83 | F16: -27 | G16: -63 | H16: -70 | I16: -245 | J16: -51 | K16: 4 | L16: 66 | M16: 116 | N16: 136 | O16: —
A17: AS事業 | B17: Aggregation service (AS) business | C17: — | D17: — | E17: — | F17: — | G17: — | H17: — | I17: — | J17: -13 | K17: 41 | L17: 97 | M17: 156 | N17: 283 | O17: —
A18: その他 | B18: Other businesses | C18: — | D18: — | E18: — | F18: — | G18: — | H18: — | I18: — | J18: -37 | K18: -37 | L18: -31 | M18: -40 | N18: -146 | O18: —
A19: 調整額 | B19: Adjustments | C19: -202 | D19: -402 | E19: -129 | F19: -154 | G19: -172 | H19: -205 | I19: -661 | J19: -235 | K19: -212 | L19: -236 | M19: -303 | N19: -988 | O19: —
A21: 注： 24/7期は単体業績であり、25/7期より連結決算に移行しています。また、百万円未満を切り捨てして記載しているため、四半期単位の合算値と年次の合計値が異なる場合があり、また過去に開示した数値と一致しない場合があります。 | B21: Note: FYE 24/7 figures are non-consolidated. From FYE 25/7, consolidated financial statements are applied. Figures under JPY 1 million are rounded down, which may result in discrepancies between a sum of quaterly and full-year data, as well as with previously disclosed data.

Sheet P.6
A1: 非財務KPI（事業関連） | B1: Business-Related Non-Financial KPIs
C2: 23/7期 1Q Q1 FYE 23/7 | D2: 23/7期 2Q Q2 FYE 23/7 | E2: 23/7期 3Q Q3 FYE 23/7 | F2: 23/7期 4Q Q4 FYE 23/7 | G2: 23/7期 FYE 23/7 | H2: 24/7期 1Q Q1 FYE 24/7 | I2: 24/7期 2Q Q2 FYE 24/7 | J2: 24/7期 3Q Q3 FYE 24/7 | K2: 24/7期 4Q Q4 FYE 24/7 | L2: 24/7期 FYE 24/7 | M2: 25/7期 1Q Q1 FYE 25/7 | N2: 25/7期 2Q Q2 FYE 25/7 | O2: 25/7期 3Q Q3 FYE 25/7 | P2: 25/7期 4Q Q4 FYE 25/7 | Q2: 25/7期 FYE 25/7 | R2: 26/7期 1Q Q1 FYE 26/7 | S2: 26/7期 2Q Q2 FYE 26/7 | T2: 26/7期 3Q Q3 FYE 26/7 | U2: 26/7期 4Q Q4 FYE 26/7 | V2: 26/7期 FYE 26/7
A3: DGP関連 | B3: DGP-related
A4: 総契約容量 (MW) | B4: Contracted capacity (MW) | C4: 68 | D4: 187 | E4: 332 | F4: 298 | G4: — | H4: 384 | I4: 504 | J4: 620 | K4: 798 | L4: — | M4: 824 | N4: 941 | O4: 1021 | P4: 1033 | Q4: — | R4: 1105 | S4: 1177 | T4: 1367 | U4: 1429 | V4: —
A5: 需要家との契約容量 (MW) | B5: Contracted capacity - consumers (MW) | C5: 67 | D5: 176 | E5: 318 | F5: 279 | G5: — | H5: 354 | I5: 437 | J5: 510 | K5: 656 | L5: — | M5: 663 | N5: 722 | O5: 766 | P5: 742 | Q5: — | R5: 751 | S5: 761 | T5: 888 | U5: 871 | V5: —
A6: 再エネ発電家との契約容量 (MW) | B6: Contracted capacity - renewable energy generators (MW) | C6: 1 | D6: 11 | E6: 14 | F6: 19 | G6: — | H6: 30 | I6: 67 | J6: 110 | K6: 142 | L6: — | M6: 161 | N6: 215 | O6: 249 | P6: 281 | Q6: — | R6: 330 | S6: 354 | T6: 377 | U6: 393 | V6: —
A7: 系統用蓄電池の取扱量 (MW) | B7: Contracted capacity - grid-scale batteries (MW) | C7: — | D7: — | E7: — | F7: — | G7: — | H7: — | I7: — | J7: — | K7: — | L7: — | M7: — | N7: 4 | O7: 6 | P7: 10 | Q7: — | R7: 24 | S7: 62 | T7: 102 | U7: 165 | V7: —
A8: 総取扱電力量 (GWh) | B8: Transaction volume (GWh) | C8: 51 | D8: 127 | E8: 153 | F8: 204 | G8: 534 | H8: 270 | I8: 318 | J8: 363 | K8: 540 | L8: =SUM(L9:L10) -> 1494 | M8: 640 | N8: 626 | O8: 657 | P8: 752 | Q8: =SUM(Q9:Q10) -> 2677 | R8: 778 | S8: 714 | T8: 741 | U8: 917 | V8: 3152
A9: 需要家の取扱電力量 (GWh) | B9: Transaction volume - consumers (GWh) | C9: 50 | D9: 123 | E9: 148 | F9: 200 | G9: 521 | H9: 264 | I9: 309 | J9: 337 | K9: 498 | L9: 1409 | M9: 596 | N9: 578 | O9: 582 | P9: 654 | Q9: 2411 | R9: 651 | S9: 602 | T9: 592 | U9: 728 | V9: 2573
A10: 再エネ発電家の取扱電力量 (GWh) | B10: Transaction volume - renewable energy generators (GWh) | C10: 1 | D10: 4 | E10: 5 | F10: 4 | G10: 13 | H10: 6 | I10: 9 | J10: 26 | K10: 42 | L10: 85 | M10: 44 | N10: 48 | O10: 75 | P10: 98 | Q10: 266 | R10: 127 | S10: 111 | T10: 149 | U10: 190 | V10: 578
A11: 再エネPF | B11: RE Platform
A12: Econohashi会員数 (社) | B12: Econohashi members (companies) | C12: 53 | D12: 72 | E12: 90 | F12: 102 | G12: — | H12: 106 | I12: 121 | J12: 139 | K12: 150 | L12: — | M12: 160 | N12: 172 | O12: 180 | P12: 190 | Q12: — | R12: 195 | S12: 205 | T12: 215 | U12: 223 | V12: —
A13: Econohashi累計取扱量 (GWh) | B13: Econohashi cumulative transaction volume (GWh) | C13: 164 | D13: 225 | E13: 304 | F13: 533 | G13: — | H13: 713 | I13: 909 | J13: 1014 | K13: 1164 | L13: — | M13: 1439 | N13: 1569 | O13: 1903 | P13: 2040 | Q13: — | R13: 2343 | S13: 2485 | T13: 2763 | U13: 3263 | V13: —
A14: 再エネ発電家との契約容量 (MW) | B14: Contracted capacity - renewable energy generators (MW) | C14: 1 | D14: 11 | E14: 14 | F14: 19 | G14: — | H14: 30 | I14: 67 | J14: 110 | K14: 142 | L14: — | M14: 161 | N14: 215 | O14: 249 | P14: 281 | Q14: — | R14: 330 | S14: 354 | T14: 377 | U14: =U6 -> 393 | V14: —
A15: その他事業 | B15: Others
A16: DGAM保有容量（稼働済） (MW) | B16: DGAM owned capacity (MW) | C16: — | D16: — | E16: — | F16: — | G16: — | H16: — | I16: — | J16: — | K16: — | L16: — | M16: — | N16: — | O16: — | P16: — | Q16: — | R16: 0.2 | S16: 0.2 | T16: 2.2 | U16: 4.2 | V16: —
A17: 系統用蓄電池の取扱量 (MW) | B17: Contracted capacity - grid-scale batteries (MW) | C17: — | D17: — | E17: — | F17: — | G17: — | H17: — | I17: — | J17: — | K17: — | L17: — | M17: — | N17: 4 | O17: 6 | P17: 10 | Q17: — | R17: 24 | S17: 62 | T17: 102 | U17: 165 | V17: —
A19: 注： MW未満、GWh未満を切り捨てして記載しているため、四半期単位の合算値と年次の合計値が異なる場合があり、また過去に開示した数値と一致しない場合があります。 | B19: Note: Figures under 1 GWh and 1 MW are rounded down, which may result in discrepancies between a sum of quaterly and full-year data, as well as with previously disclosed data.

Sheet P.7
A1: 「RE Bridge®」 マッチングイベント結果 | B1: RE Bridge® Matching Event Results
C2: 第1回 1st | D2: 第2回 2nd | E2: 第3回 3rd | F2: 第4回 4th | G2: 第5回 5th | H2: 第6回 6th | I2: 第7回 7th | J2: 第8回 8th
A3: 発電家会員数 (社) | B3: Number of generator members (companies) | C3: 18 | D3: 24 | E3: 38 | F3: 57 | G3: 98 | H3: 116 | I3: 141 | J3: 151
A4: 需要家会員数 (社) | B4: Number of consumer members (companies) | C4: 11 | D4: 21 | E4: 27 | F4: 39 | G4: 59 | H4: 73 | I4: 96 | J4: 120
A5: 発電所登録数 (件) | B5: Number of registered power plants | C5: 52 | D5: 80 | E5: 103 | F5: 158 | G5: 431 | H5: 426 | I5: 414 | J5: 320
A6: 登録設備容量 (MW) | B6: Registered installed capacity (MW) | C6: 98 | D6: 230 | E6: 259 | F6: 339 | G6: 2126 | H6: 1745 | I6: 1920 | J6: 2030
A7: マッチングした件数 (件) | B7: Matching (cases) | C7: 1 | D7: 12 | E7: 12 | F7: 15 | G7: 31 | H7: 26 | I7: 22 | J7: 23
A8: マッチングした設備容量 (MW) | B8: Matched capacity (MW) | C8: 0.5 | D8: 92 | E8: 92 | F8: 37 | G8: 107 | H8: 35 | I8: 51 | J8: 67
A9: 発電家希望PPA価格平均値 (円/kWh) | B9: Average desired PPA price - generators (Yen/kWh) | C9: 15 | D9: 14.7 | E9: 14.9 | F9: 20.6 | G9: 18.1 | H9: 15.3 | I9: 17.9 | J9: 15.2 (注６/Note 6)
A10: 需要家希望PPA価格平均値 (円/kWh) | B10: Average desired PPA price - consumers (Yen/kWh) | C10: 14 | D10: 14 | E10: 14.4 | F10: 20.6 (注４/Note 4) | G10: 17.8 | H10: 15.2 | I10: 17.9 | J10: 15.2 (注６/Note 6)
A11: 取得FIP単価平均値 (円/kWh) | B11: Average acquired FIP unit price (Yen/kWh) | C11: 11 | D11: 11 | E11: 11.7 | F11: 18.8 (注４/Note 4) | G11: 15.9 (注５/Note 5) | H11: 12.7 (注５/Note 5) | I11: 15.8 (注５/Note 5) | J11: 15.2 (注７/Note 7)
A12: 環境価値価格平均値 (円/kWh) | B12: Average environmental value price (Yen/kWh) | C12: 2.8 | D12: 1.8 | E12: 1.5 | F12: 1.7 (注４/Note 4) | G12: 2.3 | H12: 1.9 | I12: 1.4 | J12: 2.4 (注８/Note 8)
A13: 発電家希望PPA価格－取得FIP単価の平均値 (円/kWh) | B13: Average spread: Desired PPA price - generators less FIP unit price (Yen/kWh) | C13: 4 | D13: 4.7 | E13: 3.2 | F13: 1.8 (注４/Note 4) | G13: 3 | H13: 5 | I13: 4.3 | J13: 6.2 (注７/Note 7)
A15: 注： 1. MW未満を切り捨てして記載しているため、過去に開示した数値と一致しない場合があります。 2. 当データは、取引情報の速報値を集計したものであるため、今後修正・変更が発生する可能性があります。 3. オークション開催時期 第1回：2023年9月25日～10月20日、第2回：2024年3月4日～3月29日、第3回：2024年7月8日～8月9日、第4回：2024年11月18日～12月20日、第5回：2025年5月7日～6月27日、第6回：2025年10月14日～11月14日、第7回：2026年2月9日～3月16日、第8回：2026年6月15日～7月10日 4. 地熱発電所のデータも平均値に含めたため、前回オークション時から数字が変更となっています。 5. 一部の屋根置き案件は、初期投資支援スキーム（期中でFIP単価が変動する）案件が含まれるため当該案件は加重平均したFIP単価で平均値を試算 6. 非差金決済のバーチャルPPAスキームの発電所を以外の発電所が対象 7. 差金決済のスキームの発電所が対象 8. バーチャルPPAスキームの発電所が対象 | B15: Notes: 1. Figures under 1 MW are rounded down, which may result in discrepancies with previously disclosed data. 2. Data is based on preliminary transaction information and may be subject to revision. 3. Matching Event Periods / 1st: Sep 25–Oct 20, 2023 / 2nd: Mar 4–29, 2024 / 3rd: Jul 8–Aug 9, 2024 / 4th: Nov 18–Dec 20, 2024 / 5th: May 7–Jun 27, 2025 / 6th: Oct 14–Nov 14, 2025 / 7th: Feb 9–Mar 16, 2026 / 8th: Jun 15-Jul 10, 2026 4. Due to inclusion of data from geothermal power plants in the average, figures have been revised from those reported at the previous matching event. 5. Certain rooftop solar projects are structured under an upfront investment support scheme in which the FIP unit price fluctuates during the contract term; for such projects, a weighted average FIP unit price is used in calculating the average. 6. For power plants other than those under a non-contract-for-difference virtual PPA scheme. 7. For power plants under a contract-for-difference scheme. 8. For power plants under a virtual PPA scheme.

Sheet P.8
A1: 主要グラフ | D1: Key Graphs
A2: 注：本ページでは、当社の財務・非財務KPIの傾向を示すため、主要データをグラフ化しています。詳細は各シートをご参照ください。 | AA2: Net Sales (Y)
A3: Note: This page visualizes key data to illustrate trends in our financial and non-financial KPIs. For details, please refer to relevant sheets. | AA3: FYE22/7 | AB3: FYE23/7 | AC3: FYE24/7 | AD3: FYE25/7 | AE3: FYE26/7
AA4: =IF(OR(P.3!C3="—",P.3!C3=""),NA(),P.3!C3) -> 1210 | AB4: =IF(OR(P.3!D3="—",P.3!D3=""),NA(),P.3!D3) -> 1691 | AC4: =IF(OR(P.3!I3="—",P.3!I3=""),NA(),P.3!I3) -> 3515 | AD4: =IF(OR(P.3!N3="—",P.3!N3=""),NA(),P.3!N3) -> 6153 | AE4: =IF(OR(P.3!S3="—",P.3!S3=""),NA(),P.3!S3) -> 7113
AA6: Net Sales (Q)
AA7: Q1 24/7 | AB7: Q2 24/7 | AC7: Q3 24/7 | AD7: Q4 24/7 | AE7: Q1 25/7 | AF7: Q2 25/7 | AG7: Q3 25/7 | AH7: Q4 25/7 | AI7: Q1 26/7 | AJ7: Q2 26/7 | AK7: Q3 26/7 | AL7: Q4 26/7
AA8: =IF(OR(P.3!E3="—",P.3!E3=""),NA(),P.3!E3) -> 646 | AB8: =IF(OR(P.3!F3="—",P.3!F3=""),NA(),P.3!F3) -> 765 | AC8: =IF(OR(P.3!G3="—",P.3!G3=""),NA(),P.3!G3) -> 852 | AD8: =IF(OR(P.3!H3="—",P.3!H3=""),NA(),P.3!H3) -> 1251 | AE8: =IF(OR(P.3!J3="—",P.3!J3=""),NA(),P.3!J3) -> 1687 | AF8: =IF(OR(P.3!K3="—",P.3!K3=""),NA(),P.3!K3) -> 1620 | AG8: =IF(OR(P.3!L3="—",P.3!L3=""),NA(),P.3!L3) -> 1482 | AH8: =IF(OR(P.3!M3="—",P.3!M3=""),NA(),P.3!M3) -> 1362 | AI8: =IF(OR(P.3!O3="—",P.3!O3=""),NA(),P.3!O3) -> 2005 | AJ8: =IF(OR(P.3!P3="—",P.3!P3=""),NA(),P.3!P3) -> 1323 | AK8: =IF(OR(P.3!Q3="—",P.3!Q3=""),NA(),P.3!Q3) -> 1778 | AL8: =IF(OR(P.3!R3="—",P.3!R3=""),NA(),P.3!R3) -> 2006
AA11: Gross Profit (Y)
AA12: FYE22/7 | AB12: FYE23/7 | AC12: FYE24/7 | AD12: FYE25/7 | AE12: FYE26/7
AA13: =IF(OR(P.3!C6="—",P.3!C6=""),NA(),P.3!C6) -> #N/A | AB13: =IF(OR(P.3!D6="—",P.3!D6=""),NA(),P.3!D6) -> 1287 | AC13: =IF(OR(P.3!I6="—",P.3!I6=""),NA(),P.3!I6) -> 2706 | AD13: =IF(OR(P.3!N6="—",P.3!N6=""),NA(),P.3!N6) -> 4580 | AE13: =IF(OR(P.3!S6="—",P.3!S6=""),NA(),P.3!S6) -> 5793
AA15: Gross Profit (Q)
AA16: Q3 25/7 | AB16: Q4 25/7 | AC16: Q1 26/7 | AD16: Q2 26/7 | AE16: Q3 26/7 | AF16: Q4 26/7
AA17: =IF(OR(P.3!L6="—",P.3!L6=""),NA(),P.3!L6) -> 1131 | AB17: =IF(OR(P.3!M6="—",P.3!M6=""),NA(),P.3!M6) -> 989 | AC17: =IF(OR(P.3!O6="—",P.3!O6=""),NA(),P.3!O6) -> 1641 | AD17: =IF(OR(P.3!P6="—",P.3!P6=""),NA(),P.3!P6) -> 993 | AE17: =IF(OR(P.3!Q6="—",P.3!Q6=""),NA(),P.3!Q6) -> 1479 | AF17: =IF(OR(P.3!R6="—",P.3!R6=""),NA(),P.3!R6) -> 1678
AA19: GPM (Y)
AA20: FYE22/7 | AB20: FYE23/7 | AC20: FYE24/7 | AD20: FYE25/7 | AE20: FYE26/7
AA21: =IF(OR(P.1!C3="—",P.1!C3=""),NA(),P.1!C3) -> #N/A | AB21: =IF(OR(P.1!D3="—",P.1!D3=""),NA(),P.1!D3) -> 76.1 | AC21: =IF(OR(P.1!E3="—",P.1!E3=""),NA(),P.1!E3) -> 77 | AD21: =IF(OR(P.1!J3="—",P.1!J3=""),NA(),P.1!J3) -> 74.4 | AE21: =IF(OR(P.1!O3="—",P.1!O3=""),NA(),P.1!O3) -> 81.4
AA23: GPM (Q)
AA24: Q3 25/7 | AB24: Q4 25/7 | AC24: Q1 26/7 | AD24: Q2 26/7 | AE24: Q3 26/7 | AF24: Q4 26/7
AA25: =IF(OR(P.1!H3="—",P.1!H3=""),NA(),P.1!H3) -> 76.3 | AB25: =IF(OR(P.1!I3="—",P.1!I3=""),NA(),P.1!I3) -> 72.6 | AC25: =IF(OR(P.1!K3="—",P.1!K3=""),NA(),P.1!K3) -> 81.8 | AD25: =IF(OR(P.1!L3="—",P.1!L3=""),NA(),P.1!L3) -> 75.1 | AE25: =IF(OR(P.1!M3="—",P.1!M3=""),NA(),P.1!M3) -> 83.2 | AF25: =IF(OR(P.1!N3="—",P.1!N3=""),NA(),P.1!N3) -> 83.7
AA28: Operating Profit (Y)
AA29: FYE22/7 | AB29: FYE23/7 | AC29: FYE24/7 | AD29: FYE25/7 | AE29: FYE26/7
AA30: =IF(OR(P.3!C9="—",P.3!C9=""),NA(),P.3!C9) -> 24 | AB30: =IF(OR(P.3!D9="—",P.3!D9=""),NA(),P.3!D9) -> 438 | AC30: =IF(OR(P.3!I9="—",P.3!I9=""),NA(),P.3!I9) -> 1547 | AD30: =IF(OR(P.3!N9="—",P.3!N9=""),NA(),P.3!N9) -> 2742 | AE30: =IF(OR(P.3!S9="—",P.3!S9=""),NA(),P.3!S9) -> 3017
AA32: Operating Profit (Q)
AA33: Q1 24/7 | AB33: Q2 24/7 | AC33: Q3 24/7 | AD33: Q4 24/7 | AE33: Q1 25/7 | AF33: Q2 25/7 | AG33: Q3 25/7 | AH33: Q4 25/7 | AI33: Q1 26/7 | AJ33: Q2 26/7 | AK33: Q3 26/7 | AL33: Q4 26/7
AA34: =IF(OR(P.3!E9="—",P.3!E9=""),NA(),P.3!E9) -> 303 | AB34: =IF(OR(P.3!F9="—",P.3!F9=""),NA(),P.3!F9) -> 388 | AC34: =IF(OR(P.3!G9="—",P.3!G9=""),NA(),P.3!G9) -> 393 | AD34: =IF(OR(P.3!H9="—",P.3!H9=""),NA(),P.3!H9) -> 461 | AE34: =IF(OR(P.3!J9="—",P.3!J9=""),NA(),P.3!J9) -> 973 | AF34: =IF(OR(P.3!K9="—",P.3!K9=""),NA(),P.3!K9) -> 736 | AG34: =IF(OR(P.3!L9="—",P.3!L9=""),NA(),P.3!L9) -> 663 | AH34: =IF(OR(P.3!M9="—",P.3!M9=""),NA(),P.3!M9) -> 368 | AI34: =IF(OR(P.3!O9="—",P.3!O9=""),NA(),P.3!O9) -> 1067 | AJ34: =IF(OR(P.3!P9="—",P.3!P9=""),NA(),P.3!P9) -> 469 | AK34: =IF(OR(P.3!Q9="—",P.3!Q9=""),NA(),P.3!Q9) -> 910 | AL34: =IF(OR(P.3!R9="—",P.3!R9=""),NA(),P.3!R9) -> 570
AA36: OPM (Y)
AA37: FYE22/7 | AB37: FYE23/7 | AC37: FYE24/7 | AD37: FYE25/7 | AE37: FYE26/7
AA38: =IF(OR(P.1!C4="—",P.1!C4=""),NA(),P.1!C4) -> 2 | AB38: =IF(OR(P.1!D4="—",P.1!D4=""),NA(),P.1!D4) -> 25.9 | AC38: =IF(OR(P.1!E4="—",P.1!E4=""),NA(),P.1!E4) -> 44 | AD38: =IF(OR(P.1!J4="—",P.1!J4=""),NA(),P.1!J4) -> 44.6 | AE38: =IF(OR(P.1!O4="—",P.1!O4=""),NA(),P.1!O4) -> 42.4
AA40: OPM (Q)
AA41: Q1 25/7 | AB41: Q2 25/7 | AC41: Q3 25/7 | AD41: Q4 25/7 | AE41: Q1 26/7 | AF41: Q2 26/7 | AG41: Q3 26/7 | AH41: Q4 26/7
AA42: =IF(OR(P.1!F4="—",P.1!F4=""),NA(),P.1!F4) -> 57.7 | AB42: =IF(OR(P.1!G4="—",P.1!G4=""),NA(),P.1!G4) -> 45.4 | AC42: =IF(OR(P.1!H4="—",P.1!H4=""),NA(),P.1!H4) -> 44.7 | AD42: =IF(OR(P.1!I4="—",P.1!I4=""),NA(),P.1!I4) -> 27 | AE42: =IF(OR(P.1!K4="—",P.1!K4=""),NA(),P.1!K4) -> 53.2 | AF42: =IF(OR(P.1!L4="—",P.1!L4=""),NA(),P.1!L4) -> 35.5 | AG42: =IF(OR(P.1!M4="—",P.1!M4=""),NA(),P.1!M4) -> 51.2 | AH42: =IF(OR(P.1!N4="—",P.1!N4=""),NA(),P.1!N4) -> 28.4
AA45: Ordinary Profit (Y)
AA46: FYE22/7 | AB46: FYE23/7 | AC46: FYE24/7 | AD46: FYE25/7 | AE46: FYE26/7
AA47: =IF(OR(P.3!C15="—",P.3!C15=""),NA(),P.3!C15) -> 36 | AB47: =IF(OR(P.3!D15="—",P.3!D15=""),NA(),P.3!D15) -> 443 | AC47: =IF(OR(P.3!I15="—",P.3!I15=""),NA(),P.3!I15) -> 1253 | AD47: =IF(OR(P.3!N15="—",P.3!N15=""),NA(),P.3!N15) -> 2614 | AE47: =IF(OR(P.3!S15="—",P.3!S15=""),NA(),P.3!S15) -> 2909
AA49: Ordinary Profit (Q)
AA50: Q3 25/7 | AB50: Q4 25/7 | AC50: Q1 26/7 | AD50: Q2 26/7 | AE50: Q3 26/7 | AF50: Q4 26/7
AA51: =IF(OR(P.3!L15="—",P.3!L15=""),NA(),P.3!L15) -> 613 | AB51: =IF(OR(P.3!M15="—",P.3!M15=""),NA(),P.3!M15) -> 340 | AC51: =IF(OR(P.3!O15="—",P.3!O15=""),NA(),P.3!O15) -> 1066 | AD51: =IF(OR(P.3!P15="—",P.3!P15=""),NA(),P.3!P15) -> 585 | AE51: =IF(OR(P.3!Q15="—",P.3!Q15=""),NA(),P.3!Q15) -> 899 | AF51: =IF(OR(P.3!R15="—",P.3!R15=""),NA(),P.3!R15) -> 358
AA53: Ordinary profit margin (Y)
AA54: FYE22/7 | AB54: FYE23/7 | AC54: FYE24/7 | AD54: FYE25/7 | AE54: FYE26/7
AA55: =AA47/AA4% -> 2.9752066 | AB55: =AB47/AB4% -> 26.197516 | AC55: =AC47/AC4% -> 35.647226 | AD55: =AD47/AD4% -> 42.483341 | AE55: =AE47/AE4% -> 40.896949
...

Sheet P.9
A1: ディスクレーマー | B1: Disclaimer
A2: 本資料は、当社の企業情報等のご案内のみを目的として当社が作成したものであり、日本国、米国又はそれ以外の一切の法域における有価証券の取得勧誘又は売付け勧誘等を構成するものではありません。 本資料に記載されている情報は、現時点の経済、規制、市場等の状況を前提としていますが、事前に通知することなく変更されることがあります。 本資料及びその記載内容について、当社の書面による事前の同意なしに、何人も、他の目的で公開又は利用することはできません。 本資料には、将来の業績に関する記述（「計画」、「予想」、「予測」というような表現及び将来の事業活動、業績、出来事や状況を説明するその他類似した表現を含みますが、これらに限定されるものではありません）が含まれております。これらの将来に関する記述は、現在入手可能な情報をもとに一定の前提（仮定）の下でなされた当社の経営陣の判断に基づいて記載したものであり、様々なリスクや不確定要素に左右され、実際の業績は将来情報に明示又は黙示されたものとは大幅に異なる場合があります。したがって、これらの将来に関する記述に全面的に依拠することのないようご注意ください。 本資料の複製は禁じられており、いかなる方法によっても他者に転送又は再配布してはなりません。本資料を提供するにあたり、当社は、追加情報へのアクセス手段、本資料の情報の更新、本資料に記載されている情報が不正確であることが明らかとなった場合の修正につき、一切責任を負いません。 本資料には、独立した公認会計士又は監査法人による監査を受けていない、過去の財務諸表または計算書類に基づく財務情報及び財務諸表または計算書類に基づかない管理数値や調整後数値が含まれています。 なお、本資料のアップデートについて、今後は、四半期決算の発表時期を目途として開示を行う予定です。 | B2: This document has been prepared by DIGITAL GRID Corporation solely for the purpose of providing information about our company and an offer to acquire or sell securities in Japan, the United States, or any other jurisdiction. The offering or sale of our securities cannot be conducted in Japan, the United States, or any other jurisdiction without registration or notification under applicable laws or an exemption therefrom. The information contained in this document is based on the current economic, regulatory, and market conditions. However, we make no representations or warranties regarding its truthfulness, accuracy, or completeness. The information provided in this document is subject to change without prior notice. No person may disclose or use this document or its contents for any other purpose without the prior written consent of our company. This document contains forward-looking statements, which include but are not limited to expressions such as “plan,” “forecast,” as well as other similar expressions that describe future business activities, performance, events, or conditions. These statements are based on assumptions and judgment made by management, made under certain assumptions based on currently available information. However, actual performance may differ significantly from the statements due to various risks and uncertainties. Therefore, please be advised not to place undue reliance on these forward-looking statements. Reproduction of this document is prohibited, and it may not be transmitted or redistributed to any third party by any means. In providing this document, the Company assumes no obligation to provide access to additional information, to update the information contained herein, or to correct any inaccuracies that may become apparent. This document includes financial information based on past financial statements or accounting records that has not been audited by an independent certified public accountant or audit firm, as well as management figures and adjusted figures that are not derived from financial statements or accounting records. The Company plans to update this document in line with future quarterly earnings announcements.
A4: お問い合わせ | B4: Contact Information
A5: 株主、投資家の皆さまからのIR活動に関するご意見・ご要望・ご質問などのお問い合わせを受け付けております。 https://www.digitalgrid.com/contact/ir/ | B5: Please use DIGITAL GRID IR contact form below for inquiries, opinions, suggestions and other investor-related topics: https://www.digitalgrid.com/contact/ir/
